BEGIN:VCALENDAR
VERSION:2.0
PRODID:-//兵庫県作業療法士会　研修案内 - ECPv6.7.0//NONSGML v1.0//EN
CALSCALE:GREGORIAN
METHOD:PUBLISH
X-WR-CALNAME:兵庫県作業療法士会　研修案内
X-ORIGINAL-URL:https://ot-hyogo.or.jp/file
X-WR-CALDESC:兵庫県作業療法士会　研修案内 のイベント
REFRESH-INTERVAL;VALUE=DURATION:PT1H
X-Robots-Tag:noindex
X-PUBLISHED-TTL:PT1H
BEGIN:VTIMEZONE
TZID:Asia/Tokyo
BEGIN:STANDARD
TZOFFSETFROM:+0900
TZOFFSETTO:+0900
TZNAME:JST
DTSTART:20240101T000000
END:STANDARD
END:VTIMEZONE
BEGIN:VEVENT
DTSTART;TZID=Asia/Tokyo:20240310T090000
DTEND;TZID=Asia/Tokyo:20240310T150000
DTSTAMP:20260423T072911
CREATED:20240122T031919Z
LAST-MODIFIED:20240307T031737Z
UID:2321-1710061200-1710082800@ot-hyogo.or.jp
SUMMARY:503「教育部主催　MTDLP事例発表会」締切(発表)2.27 (聴講)3.5
DESCRIPTION:3月7日（木）12時10分頃、受付完了者へ研修に関する案内を送信しました（以下参照） \n503 教育部主催MTDLP事例発表会（3/10）受付完了者へメールを送信しました \nタイトル\n教育部主催　ＭＴＤＬＰ事例発表会 \n内容\nMTDLP基礎研修修了した皆様には、次のステップである実践者研修修了を目指し、自施設で実践を行い、事例発表会にて発表頂きたいと思います。多数の発表よろしくお願いします。また以後発表を予定されている方は聴講者として参加することをおすすめします。 \n2018年度より、発表者は事例発表後に協会の事例報告を行いＭＴＤＬＰ指導者を目指す方（Aコース）と事例発表を行いＭＴＤＬＰ研修修了を目指す方（Bコース）で発表シートを選択できるようになっております。 \n発表者は、「MTDLP事例発表会発表資料変更のおしらせ」「MTDLP事例発表における発表者の皆様へ」をよく読み、資料の作成および事前準備をお願いします。発表に関しては「MTDLP事例発表会に向けたチェックリスト」を必ず参考にして準備をお願いします。 \nMTDLP事例発表会発表資料変更のおしらせ \nMTDLP事例発表における発表者の皆様へ \nMTDLP事例発表会に向けたチェックリスト \n日時\n2024年3月10日　9：00 ～ 15：00（受付 8：45～） \n会　場\nオンライン（Zoom）\n※受付完了者に研修日の３日前（平日のみ）までにメールにてミーティングを配信します \n講　師\n北田　泰敏先生（大阪リハビリテーション専門学校）\n他、2名調整中 \n定　員\n発表者　9名（生涯ポイント２ポイント）\n聴講者　30名（生涯ポイント２ポイント） \n受講費\n1\,000円（銀行振り込みのみ対応）\n【振込みの際のご注意】\n「振込人名」の後に「キ503　OT協会番号」を追加してください。\n（例：ヒョウゴタロウ　キ503　12345　）\n※振込人名後の「キ503」で本研修の受講費として処理します。忘れずにご入力をお願いいたします。振込人名のみ場合は確認連絡が届く可能性があります。\n※振込時にお手元に残る振込明細書（記録）は研修会開始まで保管ください。\n※受講料の入金と下記申込ボタンからの申し込みが揃った時点で受付完了となります。\nーいずれか一方でも確認できない場合、申し込みは自動キャンセルとなります。 \n【振込先口座】→受付終了のため削除しました \n申込条件\nMTDLP基礎研修（平成28年度～現職者選択研修MTDLP）修了者 \n受講条件\nオンラインでの研修会に参加される方は、参加条件・準備事項・個人情報保護について以下の資料を必ずご確認ください。 \nオンライン研修会に参加される皆さまへ \nオンライン研修における研修情報および個人情報保護について \n締め切り\n発表申し込み　　：2024年2月27日（火）　13時\n聴講申し込み　　：2024年3月5日（火）　13時\n事例発表資料締切：2024年3月1日（金） \nその他\n・聴講者は、MTDLP研修の要件を満たしません。\n・オンラインでの開催となりますので、発表者の方は当日の資料印刷は必要ありません。\n・締め切り後、研修会担当者から、発表者への連絡が必要な場合は「マイページ 個人用メールアドレス」を使用させていただきます。ご了承下さい。 \n問い合わせ先\n順心神戸病院　浦田　　TEL078-754-8700\n資料提出先：（浦田） \n– \n申し込み受付は終了しました \n 
URL:https://ot-hyogo.or.jp/file/event/2321
LOCATION:オンライン(Zoom)
CATEGORIES:兵庫県作業療法士会主催の研修
END:VEVENT
BEGIN:VEVENT
DTSTART;TZID=Asia/Tokyo:20240312T190000
DTEND;TZID=Asia/Tokyo:20240312T210000
DTSTAMP:20260423T072911
CREATED:20240202T043634Z
LAST-MODIFIED:20240308T032710Z
UID:2415-1710270000-1710277200@ot-hyogo.or.jp
SUMMARY:505「第4回東播磨ブロック研修会」締切3.6
DESCRIPTION:3月8日（金）12時20分頃、受付完了者へ研修に関する案内を送信しました（以下参照） \n505 東播磨ブロック第４回ブロック研修会（3/12）受付完了者へメールを送信しました \nタイトル\n第4回東播磨ブロック研修会　　「〜初学者向け基礎講座〜脳画像の見方」 \n内　容\n脳画像の種類、脳の構造と解剖、機能局在、読影問題等 \n日　時\n2024年3月12日(火)　19：00 ～ 21：00（受付 18：45～） \n会　場\nオンライン（Zoom）\n※受付完了者に研修日の３日前（平日のみ）までにメールにてミーティングを配信します \n講　師\n加古川中央市民病院　日高　悠　先生 \n定　員\n30名 \n生涯教育ポイント\n☒　２P付与されます \n受講費\n1000円（銀行振り込みのみ対応）\n※申し込み条件により異なる場合はそれぞれ設定してください。\n【振込みの際のご注意】\n「振込人名」の後に「ヒ505　OT協会番号」を追加してください。\n（例：ヒョウゴタロウ　ヒ505　12345　協会番号のない方は　ヒ505　のみを追加）\n※振込人名後の「ヒ505」で本研修の受講費として処理します。忘れずにご入力をお願いいたします。振込人名のみ場合は確認連絡が届く可能性があります。\n※振込時にお手元に残る振込明細書（記録）は研修会開始まで保管ください。\n※受講料の入金と下記申込ボタンからの申し込みが揃った時点で受付完了となります。\nーいずれか一方でも確認できない場合、申し込みは自動キャンセルとなります。 \n【振込先口座】→ 受付終了のため削除しました \n申込み条件\n☒　兵庫県士会員\n☒　日本OT協会及び他府県士会の両方に所属するOT\n☒　日本OT協会・他府県士会の一方のみ在籍している、またはいずれにも在籍していないOT\n☒　他職種、一般 \n受講条件\nオンラインでの研修会に参加される方は、参加条件・準備事項・個人情報保護について以下の資料を必ずご確認ください。 \nオンライン研修会に参加される皆さまへ \nオンライン研修における研修情報および個人情報保護について \n締め切り\n2024年3月6日(水)13時 \n問い合わせ先\n兵庫県立加古川医療センター\n福井　竜馬\nメール： \n申し込み受付は終了しました
URL:https://ot-hyogo.or.jp/file/event/2415
LOCATION:オンライン(Zoom)
CATEGORIES:兵庫県作業療法士会主催の研修
END:VEVENT
BEGIN:VEVENT
DTSTART;TZID=Asia/Tokyo:20240315T200000
DTEND;TZID=Asia/Tokyo:20240315T210000
DTSTAMP:20260423T072911
CREATED:20240226T022338Z
LAST-MODIFIED:20240226T022854Z
UID:2486-1710532800-1710536400@ot-hyogo.or.jp
SUMMARY:「神戸ブロック勉強会（小児分野）」締切3.14
DESCRIPTION:◯テーマ\n「子どもの行動と愛着障害」 \n◯内容\n講義 \n◯日時\n2024年3月15日（金）　 20:00～21:00　 （19:50受付開始） \n◯場所（ツール）\nオンライン（zoomで開催） \n◯発表者\n合資会社ケアスタッフサービスみかん 楠本　涼介　氏 \n◯会場整理費\n無料 \n◯申し込み方法\nメールにて、以下の内容をお送りください。\n①氏名　　 ②所属　　 ③職種　　 ④経験年数 \n◯申し込み先\n（代表：井上） \n◯〆切\n2024年3月14日（木）17:00　 〆切後、申し込みいただいたメールアドレスへzoomの案内を送らせていただきます。
URL:https://ot-hyogo.or.jp/file/event/2486
LOCATION:オンライン(Zoom)
CATEGORIES:兵庫県作業療法士会主催の研修
END:VEVENT
END:VCALENDAR