BEGIN:VCALENDAR
VERSION:2.0
PRODID:-//兵庫県作業療法士会　研修案内 - ECPv6.7.0//NONSGML v1.0//EN
CALSCALE:GREGORIAN
METHOD:PUBLISH
X-WR-CALNAME:兵庫県作業療法士会　研修案内
X-ORIGINAL-URL:https://ot-hyogo.or.jp/file
X-WR-CALDESC:兵庫県作業療法士会　研修案内 のイベント
REFRESH-INTERVAL;VALUE=DURATION:PT1H
X-Robots-Tag:noindex
X-PUBLISHED-TTL:PT1H
BEGIN:VTIMEZONE
TZID:Asia/Tokyo
BEGIN:STANDARD
TZOFFSETFROM:+0900
TZOFFSETTO:+0900
TZNAME:JST
DTSTART:20240101T000000
END:STANDARD
END:VTIMEZONE
BEGIN:VEVENT
DTSTART;TZID=Asia/Tokyo:20240804T092000
DTEND;TZID=Asia/Tokyo:20240804T165000
DTSTAMP:20260423T002411
CREATED:20240627T083523Z
LAST-MODIFIED:20240801T044443Z
UID:2775-1722763200-1722790200@ot-hyogo.or.jp
SUMMARY:514「教育部　第2回現職者共通研修会」締切7.30
DESCRIPTION:8月1日（木）13時30分前後に研修に関するミーティング情報をPeatixから送信しました（以下参照）\n514　第2回現職者共通研修研修会(8/4)　受付完了者へメールを送信しました \nタイトル\n教育部　第2回現職者共通研修会 \n内　容\n\n\n\n①事例報告と事例研究\n9:20〜10:50\n\n\n②作業療法の可能性\n11:10〜12:40\n\n\n③日本と世界の作業療法の動向\n13:30〜15:00\n\n\n④実践のための作業療法研究\n15:20〜16:50\n\n\n\n– \n①〜④の講義を別々でも申し込み可能。 \n日　時\n令和6年　8月 4日（日）　9：20 ～ 16：50（受付 9：00～） \n会　場\nオンライン（Zoom） \n※申込完了者に研修日の３日前（平日のみ）までにメールにてミーティングを配信します \n講　師\n① 藤原瑞穂 先生（神戸学院大学） \n② 小南陽平 先生（宝塚リハビリテーション病院) \n③ 猿爪優輝 先生（北里大学病院 リハビリテーション部) \n④ 西村優子 先生（神戸大学医学部附属病院） \n定　員\n100名 \n生涯教育ポイント\n☒　２P付与されます \n受講費\n（いずれもPeatixシステム利用料150円を含む）\n1講義1\,150円　全4講義受講ならば4\,150円 \n申込み条件\n☒　兵庫県士会員\n☒　日本OT協会及び他府県士会の両方に所属するOT \n兵庫県士会員として申し込むには申込の時点で兵庫県作業療法士会会員である必要があります\n※条件を満たしていない方からの申し込みは事務局にてキャンセル手続きを自動的に行いますので予めご了承ください。\n（会員か否かの確認はマイページへのログインの可否で判断できます。不明な人はまずはマイページログインができるか試してください。） \n受講条件\nオンラインでの研修会に参加される方は、参加条件・準備事項・個人情報保護について以下の資料を必ずご確認ください。 \nオンライン研修会に参加される皆さまへ \nオンライン研修における研修情報および個人情報保護について \n締め切り\n7月30日（火）13時 \nその他\n１)申し込み方法について\n①受講講義数のチケットを選択し進む。\n②受講する講義は申込者情報登録時画面で選択する \n２)事務局での自動キャンセル扱いとなった方には「ミーティング情報配信メッセージ」が届きません。また自動キャンセル時に返金手続きも完了しています。 \n問い合わせ先\n西村優子　神戸大学医学部附属病院（TEL：078-382-6065　FAX：078-382-6079） \n申し込み受付\n以下のURLからお願いします\nhttps://peatix.com/event/4036043/view
URL:https://ot-hyogo.or.jp/file/event/2775
LOCATION:オンライン(Zoom)
CATEGORIES:兵庫県作業療法士会主催の研修
END:VEVENT
BEGIN:VEVENT
DTSTART;TZID=Asia/Tokyo:20240816T183000
DTEND;TZID=Asia/Tokyo:20240816T203000
DTSTAMP:20260423T002411
CREATED:20240722T072530Z
LAST-MODIFIED:20240722T075937Z
UID:2839-1723833000-1723840200@ot-hyogo.or.jp
SUMMARY:「神戸ブロック勉強会（神戸東・阪神地区精神科）」締切8.15
DESCRIPTION:●研修会名\n神戸ブロック勉強会（神戸東・阪神地区精神科） \n●テーマ\n抄読会 \n●内容\n作業療法マニュアルの『ニューロングステイをつくらない作業療法のコツ』などを紹介し、ディスカッションをする。 \n●日時\n2024年8月16日（金）\n時間：18：30～20：30 \n●会場\nありまこうげんホスピタル \n●講師\nなし \n●定員\n20名 \n●会場整理費\n無料 \n●申し込み方法\nメールにて、以下の内容をお送りください。\n※タイトルは「東神戸・阪神地区精神科勉強会の申し込みについて」でお願いいたします。\n①氏名\n②所属\n③職種\n④経験年数 \n●申し込み先\n \n●問い合わせ先\nありまこうげんホスピタル\n山西慧治 \n●締め切り\n2024年8月15日（木）17：00
URL:https://ot-hyogo.or.jp/file/event/2839
LOCATION:ありまこうげんホスピタル
CATEGORIES:兵庫県作業療法士会主催の研修
END:VEVENT
BEGIN:VEVENT
DTSTART;TZID=Asia/Tokyo:20240825T100000
DTEND;TZID=Asia/Tokyo:20240825T123000
DTSTAMP:20260423T002411
CREATED:20240502T024225Z
LAST-MODIFIED:20240822T040810Z
UID:2583-1724580000-1724589000@ot-hyogo.or.jp
SUMMARY:506「阪神北・南ブロック 第1回 現職者共通研修 事例報告・事例検討」締切(発表)5.29 (検討/聴講)8.7
DESCRIPTION:8月22日（木）12時50分頃に研修に関するミーティング情報をPeatixから送信しました（以下参照）\n506　阪神北南ブロック第１回現職者共通研修事例報告・事例検討（8/25）受付完了者へメールを送信しました \nタイトル\n阪神北・南ブロック　第1回　現職者共通研修 事例報告・事例検討 \n内　容\n阪神北・南ブロック圏域での現職者共通研修　事例報告・事例検討会を開催いたします。 \n日　時\n8月25日　10：00 ～ 12：30（受付 9：30～）\n※終了時間は参加人数によって変動する可能性があります。 \n会　場\nオンライン（Zoom）\n※受付完了者に研修日の３日前（平日のみ）までにメールにてミーティングを配信します \n定　員\n発表者　10名　（生涯教育ポイント2P） \n検討者　制限なし　（生涯教育ポイント2P）\n※検討者は研修時の質疑応答を積極的にお願い致します \n聴講者　制限なし　（生涯教育ポイント非該当） \n受講費\n発表者及び検討者　1\,000円＋Peatixの利用料150円 \n※Peatixシステム利用料の一部（150円）を受講者にご負担いただきます。 \n※聴講者は受講費不要です \n※発表・検討の両方を同時に行う場合は、受講費は2000円＋Peatixの利用料150円が必要です。 \n※この度の研修はPeatixから申し込みをお願いいたします。 \nPeatix の申し込み及び入金により、受付完了となります。申し込みのみでは受付完了とはなりませんのでご注意ください。 \n入金完了後、自動返信にてメールが届けば受付完了となります。 \n申込条件\n申込の時点で兵庫県作業療法士会会員である必要があります \n※条件を満たしていない方からの申し込みは事務局にてキャンセル手続きを自動的に行いますので予めご了承ください。 \n　（会員か否かの確認はマイページへのログインの可否で判断できます。不明な人はまずはマイページログインができるか試してください。） \n1、発表者には「事例報告指導者」をつけてもらうこと\n（※事例報告指導者は日本作業療法士協会会員かつ兵庫県作業療法士会会員であり、生涯教育制度基礎研修修了者が条件となります）\n（※事例報告指導者には、当日各セッションのファシリテーターを依頼させて頂く場合があります）\n事例報告指導者の研修会当日の出席につきましては、可能な限りご出席頂きますようお願い致します。（ご参加いただく場合は検討者または聴講者の申し込みをお願い致します。） \n受講条件\nオンラインでの研修会に参加される方は、参加条件・準備事項・個人情報保護について以下の資料を必ずご確認ください。 \nオンライン研修会に参加される皆さまへ \nオンライン研修における研修情報および個人情報保護について \n締め切り\n発表者　締め切り　5月29日（水）13時\n検討者　締め切り　8月7日（水）13時\n聴講者　締め切り　8月7日（水）13時 \n2、抄録・スライドの提出について \n抄録　…　令和6年7月17日（水）午後１３時まで（※ Wardでの提出）\nスライド…令和6年8月14日（水）午後１３時まで（※ PDFでの提出）\n※抄録とスライドは下記の問い合わせ先のe-mailへ提出をお願い致します。\n※抄録・スライドの書式等の詳細は発表者の申し込み締め切り後にご連絡致します。 \n3、事例報告指導者が不在の方について \n発表を検討されている方で事例報告指導者ができる方がいない場合、下記の問い合わせ先e-mailへその旨をご連絡ください。ブロックより事例報告指導者の紹介を致します。 \nその他\n発表者には受付時に「事例報告指導者の情報」を入力いただきますので氏名、OT協会会員番号、所属先を確認の上、申し込みをお願い致します。\n–\n　現職者共通研修「事例検討・事例報告」発表者・事例報告指導者確認について \n申し込み受付\n発表者（同時履修含む）の受付はコチラ\nhttps://peatix.com/event/3937918/view \n検討のみ・聴講者の受付はコチラ\nhttps://peatix.com/event/3937941/view \n問い合わせ先\n市立伊丹病院　TEL 072-777-3773\ne-mail　 \n医療技術部　医療技術室　リハビリテーション担当　八馬　望
URL:https://ot-hyogo.or.jp/file/event/2583
LOCATION:オンライン(Zoom)
CATEGORIES:兵庫県作業療法士会主催の研修
END:VEVENT
BEGIN:VEVENT
DTSTART;TZID=Asia/Tokyo:20240828T190000
DTEND;TZID=Asia/Tokyo:20240828T210000
DTSTAMP:20260423T002411
CREATED:20240722T080505Z
LAST-MODIFIED:20240826T040242Z
UID:2846-1724871600-1724878800@ot-hyogo.or.jp
SUMMARY:516「浮かんだアイデアをカタチにしよう！　～自助具について考えてみよう～」締切8.20
DESCRIPTION:本研修会は、台風10号の接近に伴い、8月28日（日）17時の時点で中止を判断いたしました。\n大変残念ではありますが、刻々と気象情報が変化しておりますので、皆様と運営側の安全を優先することといたしました。\nこの研修は、後日開催予定ですので、改めて研修会へのお申し込みをお願い申し上げます。 \n※お申込みいただきました皆様へは別途Peatixからメッセージを送信しますのでご確認よろしくお願い致します \n\n8月23日（金）13時20分頃に研修に関するお知らせをPeatixから送信しました（以下参照）\n516 総務部福祉用具係研修「浮かんだアイデアをカタチにしよう」（8/28）受付完了者へメールを送信しました \nタイトル\n総務部 福祉用具係\n「浮かんだアイデアをカタチにしよう！　～　自助具について考えてみよう　～」 \n内容\n高齢者、障がいのある人が快適に暮らせるための「もの」や「行為」の工夫方法について考えるワークをご準備しています。\nこんな困りごとの場合ならどうする？といったテーマで、みなさんには意見交換しながら、参加していただく予定です。また、講師による自助具のご紹介なども予定しておりますので、奮ってご参加ください。 \n日時\n令和６年８月２８日（水）　１９:００～２１:００ \n会場\n複合型交流拠点　ウィズあかし　アスピア明石北館　学習室７０３ \n講師\n大仲　洋太郎（株式会社シニアスタイル） \n定員\n２０名 \n生涯教育ポイント\n☒　２P付与されます \n申込み条件と受講費\n☒　兵庫県士会員 1\,150円\n☒　OT協会及び他府県士会の両方に入会しているOT 兵庫県士会員と同額\n☒　OT協会のみ入会しているOT 兵庫県士会員の倍額\n☒　OT協会休会中のOT 0円（生涯教育ポイント付与無） \n※上記以外のOTは受講できません。\n※有料の場合、すべての受講費に別途Peatix利用料150円が加算されます \n兵庫県士会員として申し込むには申込の時点で兵庫県作業療法士会会員である必要があります\n※条件を満たしていない方からの申し込みは事務局にてキャンセル手続きを自動的に行いますので予めご了承ください。\n（会員か否かの確認はマイページへのログインの可否で判断できます。不明な人はまずはマイページログインができるか試してください。） \n締め切り\n令和6年8月20日（火）13時 \nその他\n事務局での自動キャンセル扱いとなった方には「ミーティング情報配信メッセージ」が届きません。また自動キャンセル時に返金手続きも完了しています \n問い合わせ先\n大仲　洋太郎（株式会社シニアスタイル）\n \n申し込み受付\n以下のURLからお願いします\nhttps://peatix.com/event/4062639/view
URL:https://ot-hyogo.or.jp/file/event/2846
LOCATION:複合型交流拠点　ウィズあかし　アスピア明石北館　学習室７０３
CATEGORIES:兵庫県作業療法士会主催の研修
END:VEVENT
END:VCALENDAR