BEGIN:VCALENDAR
VERSION:2.0
PRODID:-//兵庫県作業療法士会　研修案内 - ECPv6.7.0//NONSGML v1.0//EN
CALSCALE:GREGORIAN
METHOD:PUBLISH
X-ORIGINAL-URL:https://ot-hyogo.or.jp/file
X-WR-CALDESC:兵庫県作業療法士会　研修案内 のイベント
REFRESH-INTERVAL;VALUE=DURATION:PT1H
X-Robots-Tag:noindex
X-PUBLISHED-TTL:PT1H
BEGIN:VTIMEZONE
TZID:Asia/Tokyo
BEGIN:STANDARD
TZOFFSETFROM:+0900
TZOFFSETTO:+0900
TZNAME:JST
DTSTART:20240101T000000
END:STANDARD
END:VTIMEZONE
BEGIN:VEVENT
DTSTART;TZID=Asia/Tokyo:20240910T190000
DTEND;TZID=Asia/Tokyo:20240910T210000
DTSTAMP:20260422T223658
CREATED:20240729T104114Z
LAST-MODIFIED:20240913T041048Z
UID:2868-1725994800-1726002000@ot-hyogo.or.jp
SUMMARY:518「但馬ブロック 第2回ブロック研修会」締切9.4
DESCRIPTION:9月6日（金）12時00分頃に研修に関するミーティング情報をPeatixから送信しました（以下参照）\n518　但馬ブロック第２回ブロック研修（9/10）受付完了者へメールを送信しました \nタイトル\n但馬ブロック　第2回ブロック研修会\n「ノーリフティングケアについて知ってみませんか？」 \n内　容\nノーリフティングケアとは\n・ノーリフティングケアの効果（介護する側される側）\n・ノーリフティングケアの実践に至ったきっかけと導入の手順\n・実施していく上での課題\n・実践していく上でのOTの役割 \n日　時\n9月10日(火)　19：00 ～ 21：00（受付 18：45～） \n会　場\nオンライン（Zoom）\n※受付完了者に研修日の３日前（平日のみ）までにPeatixメッセージからミーティングを配信します \n講　師\n兵庫県社会福祉事業団 福祉のまちづくり研究所\n次長　野上 雅子先生 \n定　員\n30名 \n生涯教育ポイント\n☒　２P付与されます \n申込み条件と受講費\n\n\n\n☒　兵庫県士会員\n1\,000円\n\n\n☒　OT協会及び他府県士会の両方に入会しているOT\n兵庫県士会員と同額\n\n\n☒　OT協会のみ入会しているOT\n兵庫県士会員の倍額\n\n\n☒　OT協会休会中のOT\n0円（生涯教育ポイント付与無）\n\n\n☒　他職種（OT以外の医療職・介護職など）\n兵庫県士会員の半額\n\n\n\nー\n※上記以外のOTは受講できません \n※有料の場合、すべての受講費に別途Peatix利用料150円が加算されます\n兵庫県士会員として申し込むには申込の時点で兵庫県作業療法士会会員である必要があります\n※条件を満たしていない方からの申し込みは事務局にてキャンセル手続きを自動的に行いますので予めご了承ください。\n（会員か否かの確認はマイページへのログインの可否で判断できます。不明な人はまずはマイページログインができるか試してください。） \n受講条件\nオンラインでの研修会に参加される方は、参加条件・準備事項・個人情報保護について以下の資料を必ずご確認ください。 \nオンライン研修会に参加される皆さまへ \nオンライン研修における研修情報および個人情報保護について \n締め切り\n９月４日（水）13時 \nその他\n事務局での自動キャンセル扱いとなった方には「ミーティング情報配信メッセージ」が届きません。また自動キャンセル時に返金手続きも完了しています \n問い合わせ先\n医療法人社団　絹和会　但馬病院　小西浩之\nTEL　079‐662‐2631　Mail:  \n申し込み受付\n以下のURLからお願いします\nhttps://peatix.com/event/4073502/view
URL:https://ot-hyogo.or.jp/file/event/2868
LOCATION:オンライン(Zoom)
CATEGORIES:兵庫県作業療法士会主催の研修
END:VEVENT
BEGIN:VEVENT
DTSTART;TZID=Asia/Tokyo:20240911T190000
DTEND;TZID=Asia/Tokyo:20240911T210000
DTSTAMP:20260422T223658
CREATED:20240724T130411Z
LAST-MODIFIED:20240913T041106Z
UID:2856-1726081200-1726088400@ot-hyogo.or.jp
SUMMARY:517「生活期における車椅子シーティングについて～上肢をもっと活用していくには？～」締切9.4
DESCRIPTION:9月6日（金）12時10分頃に研修に関するミーティング情報をPeatixから送信しました（以下参照）\n517　神戸ブロック研修（9/11）受付完了者へメールを送信しました \nタイトル\n生活期における車椅子シーティングについて～上肢をもっと活用していくには？～ \n内容\n老人保健施設での実体験をもとに、生活期における車椅子選定、シーティング技術、移乗方法の検討。シーティングによるポジショニング変化がどのように上肢へ波及し、操作性向上につながるか。実演を踏まえ、皆さんと一緒に検討していこうと思います。 \n日時\n令和6年9月11日　19時～21時 \n会場\n神戸リハビリテーション病院　作業療法室\n※受付完了者には研修日の３日前（平日のみ）までPeatixメッセージから受講に関するお知らせを配信致します。 \n講師\n介護老人保健施設リハ神戸　辰田慎悟氏 \n定員\n30名 \n生涯教育ポイント\n☒　２P付与されます \n申込み条件と受講費\n\n\n\n☒　兵庫県士会員\n１０００円\n\n\n☒　OT協会及び他府県士会の両方に入会しているOT\n兵庫県士会員と同額\n\n\n☒　OT協会のみ入会しているOT\n兵庫県士会員と同額\n\n\n☒　他職種（OT以外の医療職・介護職など）\n兵庫県士会員と同額\n\n\n\n  \n※上記以外のOTは受講できません。\n※有料の場合、すべての受講費に別途Peatix利用料150円が加算されます \n兵庫県士会員として申し込むには申込の時点で兵庫県作業療法士会会員である必要があります\n※条件を満たしていない方からの申し込みは事務局にてキャンセル手続きを自動的に行いますので予めご了承ください。\n（会員か否かの確認はマイページへのログインの可否で判断できます。不明な人はまずはマイページログインができるか試してください。） \n締め切り\n９月４日（水）13時 \nその他\n事務局での自動キャンセル扱いとなった方には「ミーティング情報配信メッセージ」が届きません。また自動キャンセル時に返金手続きも完了しています \n問い合わせ先\n西部しあわせ訪問看護ステーション　在宅事業課\n作業療法士　田路　隼人\nTEL：078-787-7201\nFAX：078-787-7225\nemail：kobe.rounenki@gmail.com \n申し込み受付\n以下のURLからお願いします\nhttps://peatix.com/event/4067631/view
URL:https://ot-hyogo.or.jp/file/event/2856
LOCATION:神戸リハビリテーション病院　作業療法室
CATEGORIES:兵庫県作業療法士会主催の研修
END:VEVENT
BEGIN:VEVENT
DTSTART;TZID=Asia/Tokyo:20240913T190000
DTEND;TZID=Asia/Tokyo:20240913T210000
DTSTAMP:20260422T223658
CREATED:20240807T030926Z
LAST-MODIFIED:20240913T041026Z
UID:2893-1726254000-1726261200@ot-hyogo.or.jp
SUMMARY:519「第3回淡路ブロック研修会」締切9.4
DESCRIPTION:9月10日（火）13時05分頃に研修に関するミーティング情報をPeatixから送信しました（以下参照） \n519　淡路ブロック研修会（9/13）受付完了者へメールを送信しました \nタイトル\n第3回淡路ブロック研修会\n「姿勢とADL〜食事動作を中心に姿勢の影響を再考する〜」 \n内容\n生活動作である食事姿勢をOTが頼まれることはよくあると思います。その際どのようにセッティングすればいいのか悩まれるのではないでしょうか？\n車いす座位における各不良姿勢が呼吸・嚥下・上肢機能に及ぼす影響を講義や体験実技を通して学び、対応策の一例について考えていきます。またベッドギャッジ姿勢でのセッティングのポイントを実演でお話していただきます。\n姿勢のくずれが食事にどう影響するのかをきちんと知り、シーティングやポジショニングをどうすれば､､､の悩みを減らしましょう！ \n日時\n令和6年9月13日（金曜日）　19：00 ～ 21：00（受付 18：45～） \n会場\n洲本伊月病院\n※受付完了者には研修日の３日前（平日のみ）までPeatixメッセージから受講に関するお知らせを配信致します。 \n講師\n大賀隆正先生（兵庫県立リハビリテーション中央病院） \n定　員\n30名 \n生涯教育ポイント\n☒　２P付与されます \n申込み条件と受講費\n\n\n\n☒　兵庫県士会員\n1\,000円\n\n\n☒　OT協会及び他府県士会の両方に入会しているOT\n兵庫県士会員と同額\n\n\n☒　OT協会のみ入会しているOT\n兵庫県士会員の倍額\n\n\n☒　他職種（OT以外の医療職・介護職など）\n兵庫県士会員の半額\n\n\n☒　一般\n0円\n\n\n\nー\n※上記以外のOTは受講できません \n※有料の場合、すべての受講費に別途Peatix利用料150円が加算されます \n兵庫県士会員として申し込むには申込の時点で兵庫県作業療法士会会員である必要があります \n※条件を満たしていない方からの申し込みは事務局にてキャンセル手続きを自動的に行いますので予めご了承ください。\n（会員か否かの確認はマイページへのログインの可否で判断できます。不明な人はまずはマイページログインができるか試してください。） \n受講条件\n9月5日（木）13時 \nその他\n事務局での自動キャンセル扱いとなった方には「ミーティング情報配信メッセージ」が届きません。また自動キャンセル時に返金手続きも完了しています \n問い合わせ先\n宮本　沙代子（平成病院） \n申し込み受付\n以下のURLからお願いします\n受付は終了しました
URL:https://ot-hyogo.or.jp/file/event/2893
LOCATION:洲本伊月病院
CATEGORIES:兵庫県作業療法士会主催の研修
END:VEVENT
BEGIN:VEVENT
DTSTART;TZID=Asia/Tokyo:20240919T190000
DTEND;TZID=Asia/Tokyo:20240919T210000
DTSTAMP:20260422T223658
CREATED:20240709T103516Z
LAST-MODIFIED:20240913T041005Z
UID:2815-1726772400-1726779600@ot-hyogo.or.jp
SUMMARY:515「精神分野作業療法委員会　第1回研修会」締切9.11
DESCRIPTION:9月13日（金）12時55分頃に研修に関するミーティング情報をPeatixから送信しました（以下参照） \n515　精神分野作業療法委員会第１回研修会（9/19）受付完了者へメールを送信しました \nタイトル\n精神分野作業療法委員会　第1回研修会\n身障・老年期作業療法士から学ぶ　「生活行為につながる体操のコツ」 \n内　容\n身障・老年期作業療法から学ぶ　生活行為につながる体操のコツ \n日　時\n9月19日　19：00～21：00（受付 18：50～） \n会　場\nオンライン（Zoom）\n※受付完了者には研修日の３日前（平日のみ）までにメールにて受講に関するお知らせを配信致します。 \n講　師\n鍛冶　実　（赤穂市立老人保健施設） \n定　員\n３０名 \n生涯教育ポイント\n☒　２P付与されます \n申込み条件と受講費\n\n\n\n☒　兵庫県士会員\n1\,000円\n\n\n☒　OT協会及び他府県士会の両方に入会しているOT\n兵庫県士会員と同額\n\n\n☒　OT協会のみ入会しているOT\n兵庫県士会員の倍額\n\n\n☒　OT協会休会中のOT\n0円（生涯教育ポイント付与無）\n\n\n\nー\n※上記以外のOTは受講できません\n※有料の場合、すべての受講費に別途Peatix利用料150円が加算されます\n兵庫県士会員として申し込むには申込の時点で兵庫県作業療法士会会員である必要があります\n※条件を満たしていない方からの申し込みは事務局にてキャンセル手続きを自動的に行いますので予めご了承ください。\n（会員か否かの確認はマイページへのログインの可否で判断できます。不明な人はまずはマイページログインができるか試してください。） \n受講条件\nオンラインでの研修会に参加される方は、参加条件・準備事項・個人情報保護について以下の資料を必ずご確認ください。 \nオンライン研修会に参加される皆さまへ \nオンライン研修における研修情報および個人情報保護について \n締め切り\n9月11日（水）13時 \n問い合わせ先\n \n申し込み受付\n以下のURLからお願いします\nhttps://peatix.com/event/4049682/view
URL:https://ot-hyogo.or.jp/file/event/2815
LOCATION:オンライン(Zoom)
CATEGORIES:兵庫県作業療法士会主催の研修
END:VEVENT
BEGIN:VEVENT
DTSTART;TZID=Asia/Tokyo:20240920T190000
DTEND;TZID=Asia/Tokyo:20240920T203000
DTSTAMP:20260422T223658
CREATED:20240828T042616Z
LAST-MODIFIED:20240828T043931Z
UID:2988-1726858800-1726864200@ot-hyogo.or.jp
SUMMARY:「リハ計画書作成に役立つ目標設定の練習会」締切9.13
DESCRIPTION:チラシ\n　チラシのダウンロードはこちら \n– \nタイトル\nリハ計画書作成に役立つ目標設定の練習会（中播磨ブロック） \n内容\nケアマネジャーとリハ職がグループワークで、一緒にリハビリテーション計画書の情報を整理し、どのようにケアプラン作成に活用できるかを検討する \n日時\n９月２０日（金曜日）　１９：００ ～ ２０：３０（受付 １８：３０～） \n会場\n姫路市総合福祉会館5階　第１会議室 \n定　員\nなし \n生涯教育ポイント\n☒　付与対象外です \n申込み条件と受講費\n\n\n\n☒　兵庫県士会員\n0円\n\n\n☒　OT協会及び他府県士会の両方に入会しているOT\n\n0円\n\n\n☒　OT協会のみ入会しているOT\n0円\n\n\n☒　OT協会休会中のOT\n0円\n\n\n\nー\n※上記以外のOTは受講できません\n※有料の場合、すべての受講費に別途Peatix利用料150円が加算されます \n締め切り\n９月１３日（金） \n問い合わせ先\n姫路市在宅医療･介護連携支援センター（受託者：姫路市医師会）\nTEL：079-295-3330\nE-MAIL： \nお申込み\n詳しくは上記チラシをご確認下さい
URL:https://ot-hyogo.or.jp/file/event/2988
LOCATION:姫路市総合福祉会館
CATEGORIES:兵庫県作業療法士会主催の研修
END:VEVENT
BEGIN:VEVENT
DTSTART;TZID=Asia/Tokyo:20240920T190000
DTEND;TZID=Asia/Tokyo:20240920T210000
DTSTAMP:20260422T223658
CREATED:20240809T094744Z
LAST-MODIFIED:20240809T095129Z
UID:2902-1726858800-1726866000@ot-hyogo.or.jp
SUMMARY:「中播磨ブロック勉強会」締切なし
DESCRIPTION:●研修会名\n中播磨ブロック勉強会 \n●テーマ\n音楽療法との協働 \n●内容\n音楽療法士と協力して歩行の改善に至った事例の紹介および臨床での活用について中播磨ブロック委員とともにディスカッションしていきます。\n※ブロック委員が主に参加しておりますが、委員でないOT協会、士会の皆さんも参加可能です。 \n●日時\n2024年9月20日（金）　19：00〜21：00（受付：18：30〜） \n●会場\n石川病院　せせらぎ保育所　２階 \n●講師\n奥見　将至先生（酒井病院） \n●定員\n20名程度 \n●会場整理費\n無料 \n●申し込み方法\n当日会場にて受け付けいたしますので事前申し込みは不要です。 \n●問い合わせ先
URL:https://ot-hyogo.or.jp/file/event/2902
LOCATION:石川病院　せせらぎ保育所　２階
CATEGORIES:兵庫県作業療法士会主催の研修
END:VEVENT
BEGIN:VEVENT
DTSTART;TZID=Asia/Tokyo:20240921T083000
DTEND;TZID=Asia/Tokyo:20240922T160000
DTSTAMP:20260422T223658
CREATED:20240604T042424Z
LAST-MODIFIED:20240604T042424Z
UID:2700-1726907400-1727020800@ot-hyogo.or.jp
SUMMARY:2024年度第１回臨床実習指導者講習会
DESCRIPTION:第1回 2024年 9月21日 土 ㆍ22日 日 　定員50名(オンライン開催) \n申し込み手続きなど詳細はコチラ
URL:https://ot-hyogo.or.jp/file/event/2024%e5%b9%b4%e5%ba%a6%e7%ac%ac%ef%bc%91%e5%9b%9e%e8%87%a8%e5%ba%8a%e5%ae%9f%e7%bf%92%e6%8c%87%e5%b0%8e%e8%80%85%e8%ac%9b%e7%bf%92%e4%bc%9a
LOCATION:WEB
CATEGORIES:兵庫県作業療法士会主催の研修
END:VEVENT
BEGIN:VEVENT
DTSTART;TZID=Asia/Tokyo:20240925T190000
DTEND;TZID=Asia/Tokyo:20240925T200000
DTSTAMP:20260422T223658
CREATED:20240819T044744Z
LAST-MODIFIED:20240924T011359Z
UID:2918-1727290800-1727294400@ot-hyogo.or.jp
SUMMARY:520「認知症対策委員会　認知症研修会＋座談会①」締切9.18
DESCRIPTION:9月20日（金）13時5分頃に研修に関するミーティング情報をPeatixから送信しました（以下参照) \n520　認知症対策委員会研修会+座談会①（9/25）受付完了者へメールを送信しました \nタイトル\n認知症対策委員会　認知症研修会＋座談会① \n内　容\n認知症基本法の意味するもの＋地域参画する方法 \n日　時\n9月25日（水）19：00～20：00（受付18：45～） \n会　場\nオンライン（Zoom）\n※受付完了者に研修日の３日前（平日のみ）までにPeatixメッセージからミーティングを配信します \n講　師\n中西誠司（グループホーム　ひだまりの家・認知症対策委員会　副委員長） \n定　員\n50名 \n生涯教育ポイント\n☒　付与対象外です \n申込み条件と受講費\n\n\n\n☒　兵庫県士会員\n1\,000円\n\n\n☒　OT協会及び他府県士会の両方に入会しているOT\n兵庫県士会員と同額\n\n\n\nー\n※上記以外のOTは受講できません\n※有料の場合、すべての受講費に別途Peatix利用料150円が加算されます\n兵庫県士会員として申し込むには申込の時点で兵庫県作業療法士会会員である必要があります\n※条件を満たしていない方からの申し込みは事務局にてキャンセル手続きを自動的に行いますので予めご了承ください。\n（会員か否かの確認はマイページへのログインの可否で判断できます。不明な人はまずはマイページログインができるか試してください。） \n受講条件\nオンラインでの研修会に参加される方は、参加条件・準備事項・個人情報保護について以下の資料を必ずご確認ください。 \nオンライン研修会に参加される皆さまへ \nオンライン研修における研修情報および個人情報保護について \n締め切り\n9月18日（水）13時 \nその他\n①相談したいことがあれば事前に受け付けることも可能です。以下のQRコードからgoogleフォームで送信して下さい。（無記名でもOKです！）\nー\n\nー\nー\n②事務局での自動キャンセル扱いとなった方には「ミーティング情報配信メッセージ」が届きません。また自動キャンセル時に返金手続きも完了しています \n問い合わせ先\n関西総合リハビリテーション専門学校　前谷一旗\n \n申し込み受付\n以下のURLからお願いします\n受付は完了しました
URL:https://ot-hyogo.or.jp/file/event/2918
LOCATION:オンライン(Zoom)
CATEGORIES:兵庫県作業療法士会主催の研修
END:VEVENT
BEGIN:VEVENT
DTSTART;TZID=Asia/Tokyo:20240927T193000
DTEND;TZID=Asia/Tokyo:20240927T210000
DTSTAMP:20260422T223658
CREATED:20240830T062737Z
LAST-MODIFIED:20240830T063043Z
UID:2997-1727465400-1727470800@ot-hyogo.or.jp
SUMMARY:「神戸ブロック勉強会（小児分野）」締切9.26
DESCRIPTION:タイトル\n神戸ブロック勉強会（小児分野） \n内容\n「今一度考える、定型発達。ー赤ちゃん学の観点からー」 \n日時\n9月27日（金）　19：30 ～ 21：00（受付開始19:20〜） \n会場\n神戸市男女共同参画センター　あすてっぷKOBE　セミナー室3 \n講師\n村井 弘育　教授（姫路獨協大学　医療保健学部作業療法学科） \n定　員\n人数問わず \n費用\n無料 \n申込み方法\nメールにて以下の内容をお送りください。\n①氏名　➁所属　③職種　④経験年数 \n申込み／問合せ\n（市山） \n締め切り\n9月26日（木）13時
URL:https://ot-hyogo.or.jp/file/event/2997
LOCATION:神戸市男女共同参画センター
CATEGORIES:兵庫県作業療法士会主催の研修
END:VEVENT
BEGIN:VEVENT
DTSTART;TZID=Asia/Tokyo:20240929T100000
DTEND;TZID=Asia/Tokyo:20240929T120000
DTSTAMP:20260422T223658
CREATED:20240821T125800Z
LAST-MODIFIED:20240926T031525Z
UID:2929-1727604000-1727611200@ot-hyogo.or.jp
SUMMARY:521「中播磨ブロック MTDLP事例発表会」締切(発表)9.11 (聴講)9.18
DESCRIPTION:9月26日（木）12時5分頃に研修に関するミーティング情報をPeatixから送信しました（以下参照) \n521　中播磨ブロックMTDLP事例発表会（9/29）受付完了者へメールを送信しました \nタイトル\n中播磨ブロック　ＭＴＤＬＰ事例発表会 \n内容\nMTDLP基礎研修修了した皆様には、次のステップである実践者研修修了を目指し、自施設で実践を行い、事例発表会にて発表頂きたいと思います。多数の発表よろしくお願いします。また以後発表を予定されている方は聴講者として参加することをおすすめします。 \n2018年度より、発表者は事例発表後に協会の事例報告を行いＭＴＤＬＰ指導者を目指す方（Aコース）と事例発表を行いＭＴＤＬＰ研修修了を目指す方（Bコース）で発表シートを選択できるようになっております。 \n発表者は、「MTDLP事例発表会発表資料変更のおしらせ」「MTDLP事例発表における発表者の皆様へ」をよく読み、資料の作成および事前準備をお願いします。発表に関しては「MTDLP事例発表会に向けたチェックリスト」を必ず参考にして準備をお願いします。 \nMTDLP事例発表会発表資料変更のおしらせ \nMTDLP事例発表における発表者の皆様へ \nMTDLP事例発表会に向けたチェックリスト \n日時\n9月29日（日曜日）　10：00 ～ 12：00（受付 9：30～） \n会　場\n石川病院　せせらぎ保育所\n※受付完了者には研修日の３日前（平日のみ）までPeatixメッセージから受講に関するお知らせを配信致します。 \n講　師\n石橋内科広畑センチュリー病院　西角貴利先生 \n定　員\n発表者　4名（生涯ポイント２ポイント）\n聴講者　16名（生涯ポイント２ポイント） \n受講費\n1\,000円（※別途Peatix利用料150円が加算されます） \n申込条件\n1）発表者・聴講者ともにOT協会員・都道府県士会の両方に入会していること\n2）発表者は、MTDLP基礎研修（平成28年度～現職者選択研修MTDLP）修了者であること \n兵庫県士会員として申し込むには申込の時点で兵庫県作業療法士会会員である必要があります\n※条件を満たしていない方からの申し込みは事務局にてキャンセル手続きを自動的に行いますので予めご了承ください。\n（会員か否かの確認はマイページへのログインの可否で判断できます。不明な人はまずはマイページログインができるか試してください。） \n締め切り\n発表申し込み：9月11日（水）　13時\n聴講申し込み：9月18日（水）　13時\n事例発表資料締切：9月18日（水） \nその他\n・聴講者は、MTDLP研修の要件を満たしません。\n・締め切り後、研修会担当者から、発表者への連絡が必要な場合は「マイページ 個人用メールアドレス」を使用させていただきます。ご了承下さい。\n・事例発表資料提出締め切り後に事務局から受講者全員に発表資料をメールで配布させていただきます。当日は各自印刷して持参をお願いします。\n・事務局での自動キャンセル扱いとなった方には「受講に関するお知らせ」が届きません。また自動キャンセル時に返金手続きも完了しています。 \n問い合わせ先\n事例発表資料提出先：中播磨ブロック　 \n申し込み受付\n以下のサイトからお願いします。\nhttps://peatix.com/event/4102067/view
URL:https://ot-hyogo.or.jp/file/event/2929
LOCATION:石川病院　せせらぎ保育所
CATEGORIES:兵庫県作業療法士会主催の研修
END:VEVENT
END:VCALENDAR