BEGIN:VCALENDAR
VERSION:2.0
PRODID:-//兵庫県作業療法士会　研修案内 - ECPv6.7.0//NONSGML v1.0//EN
CALSCALE:GREGORIAN
METHOD:PUBLISH
X-ORIGINAL-URL:https://ot-hyogo.or.jp/file
X-WR-CALDESC:兵庫県作業療法士会　研修案内 のイベント
REFRESH-INTERVAL;VALUE=DURATION:PT1H
X-Robots-Tag:noindex
X-PUBLISHED-TTL:PT1H
BEGIN:VTIMEZONE
TZID:Asia/Tokyo
BEGIN:STANDARD
TZOFFSETFROM:+0900
TZOFFSETTO:+0900
TZNAME:JST
DTSTART:20250101T000000
END:STANDARD
END:VTIMEZONE
BEGIN:VEVENT
DTSTART;TZID=Asia/Tokyo:20250302T100000
DTEND;TZID=Asia/Tokyo:20250302T120000
DTSTAMP:20260422T130617
CREATED:20250122T132140Z
LAST-MODIFIED:20250227T032431Z
UID:3567-1740909600-1740916800@ot-hyogo.or.jp
SUMMARY:554 「2024年度 丹波北播磨ブロック 第3回ブロック研修会」締切2.24
DESCRIPTION:2月27日（木）12時15分頃に研修に関するミーティング情報をPeatixから送信しました（以下参照) \n554 丹波北播磨ブロック第３回ブロック研修「パーキンソン病 UP TO DATE」（3/2）受付完了者へメールを送信しました \nタイトル\n2024年度第3回ブロック研修会 \n内　容\nパーキンソン病　UP　TO　DATE \n日　時\n3月2日　10：00 ～ 12：00（受付 9：45～） \n会　場\nオンライン（Zoom）\n※受付完了者に研修日の３日前（平日のみ）までにPeatixメッセージからミーティングを配信します \n講　師\n中川　充氏（作業療法士・みきやまリハビリテーション病院） \n定　員\n30名 \n生涯教育ポイント\n☒　２P付与されます \n申込み条件と受講費\n\n\n\n☒　兵庫県士会員\n１，０００円\n\n\n☒　OT協会及び他府県士会の両方に入会しているOT\n兵庫県士会員と同額\n\n\n☒　OT協会のみ入会しているOT\n兵庫県士会員の倍額\n\n\n☒　他職種（OT以外の医療職・介護職など）\n兵庫県士会員の半額\n\n\n\nー\n※上記以外のOTは受講できません\n※有料の場合、すべての受講費に別途Peatix利用料150円が加算されます\n兵庫県士会員として申し込むには申込の時点で兵庫県作業療法士会会員資格を有している必要があります\n※条件を満たしていない方からの申し込みは事務局にてキャンセル手続きを自動的に行いますので予めご了承ください。\n（会員か否かの確認はマイページへのログインの可否で判断できます。不明な人はまずはマイページログインができるか試してください。）\n \n受講条件\nオンラインでの研修会に参加される方は、参加条件・準備事項・個人情報保護について以下の資料を必ずご確認ください。 \nオンライン研修会に参加される皆さまへ\nオンライン研修における研修情報および個人情報保護について \n締め切り\n2月24日（月）13時 \nその他\n事務局での自動キャンセル扱いとなった方には「ミーティング情報配信メッセージ」が届きません。また自動キャンセル時に返金手続きも完了しています \n問い合わせ先\n介護老人保健施設　サンビラ三木　永尾　　℡：0794-82-8202 \n申し込み受付\n期日を過ぎたため終了しています
URL:https://ot-hyogo.or.jp/file/event/3567
LOCATION:オンライン(Zoom)
CATEGORIES:兵庫県作業療法士会主催の研修
END:VEVENT
BEGIN:VEVENT
DTSTART;TZID=Asia/Tokyo:20250309T090000
DTEND;TZID=Asia/Tokyo:20250309T150000
DTSTAMP:20260422T130617
CREATED:20250129T053753Z
LAST-MODIFIED:20250306T031710Z
UID:3583-1741510800-1741532400@ot-hyogo.or.jp
SUMMARY:555「教育部MTDLP実践者研修（事例検討会）」締切(発表)2.28 (聴講)3.3
DESCRIPTION:3月6日（木）12時10分頃に研修に関するミーティング情報をPeatixから送信しました（以下参照) \n555 教育部MTDLP実践者研修（事例検討会）（3/9）受付完了者へメールを送信しました \nタイトル\n教育部MTDLP実践者研修（事例検討会） \n内容\nMTDLP基礎研修修了した皆様には、次のステップである実践者研修修了を目指し、自施設で実践を行い、事例発表会にて発表頂きたいと思います。多数の発表よろしくお願いします。また以後発表を予定されている方は聴講者として参加することをおすすめします。 \n2018年度より、発表者は事例発表後に協会の事例報告を行いＭＴＤＬＰ指導者を目指す方（Aコース）と事例発表を行いＭＴＤＬＰ研修修了を目指す方（Bコース）で発表シートを選択できるようになっております。 \n発表者は、「MTDLP事例発表会発表資料変更のおしらせ」「MTDLP事例発表における発表者の皆様へ」をよく読み、資料の作成および事前準備をお願いします。発表に関しては「MTDLP事例発表会に向けたチェックリスト」を必ず参考にして準備をお願いします。 \nMTDLP事例発表会発表資料変更のおしらせ \nMTDLP事例発表における発表者の皆様へ \nMTDLP事例発表会に向けたチェックリスト \n日　時\n3月9日（日曜日）　9：00 ～ 15：00（受付 8：45～） \n会　場\nオンライン（Zoom）\n※受付完了者には研修日の３日前（平日のみ）までPeatixメッセージからミーティング情報を配信致します。 \n講　師\n松本　宏明　先生（江井島病院）\n他、1名調整中 \n定　員\n発表者　9名（生涯ポイント２ポイント）\n聴講者　30名（生涯ポイント２ポイント） \n受講費\n1\,000円（※別途Peatix利用料150円が加算されます） \n申込条件\n1）発表者・聴講者ともにOT協会員・都道府県士会の両方に入会していること\n2）発表者は、MTDLP基礎研修（平成28年度～現職者選択研修MTDLP）修了者であること\n※申込条件がある場合、申込の時点でその会員資格を有する必要があります\n※条件を満たしていない方からの申し込みは事務局にてキャンセル手続きを自動的に行いますので予めご了承ください。\n（兵庫県士会員か否かの確認はマイページへのログインの可否で判断できます。不明な人はまずはマイページログインができるか試してください。） \n受講条件\nオンラインでの研修会に参加される方は、参加条件・準備事項・個人情報保護について以下の資料を必ずご確認ください。 \nオンライン研修会に参加される皆さまへ \nオンライン研修における研修情報および個人情報保護について \n締め切り\n発表申し込み：2月28日（金）　13時\n聴講申し込み：3月3日（月）　13時\n事例発表資料締切：2月28日（金） \nその他\n・聴講者は、MTDLP研修の要件を満たしません。\n・オンラインでの開催となりますので、発表者の方は当日の資料印刷は必要ありません。\n・締め切り後、研修会担当者から、発表者への連絡が必要な場合は「マイページ 個人用メールアドレス」を使用させていただきます。ご了承下さい。\n・事務局での自動キャンセル扱いとなった方には「ミーティング情報配信メッセージ」が届きません。また自動キャンセル時に返金手続きも完了しています \n問い合わせ先\n天野　佳穂　　　介護老人保健施設　白寿苑（TEL：079-438-2999） \n申し込み受付\n期日を過ぎたため終了しています
URL:https://ot-hyogo.or.jp/file/event/3583
LOCATION:オンライン(Zoom)
CATEGORIES:兵庫県作業療法士会主催の研修
END:VEVENT
BEGIN:VEVENT
DTSTART;TZID=Asia/Tokyo:20250321T193000
DTEND;TZID=Asia/Tokyo:20250321T210000
DTSTAMP:20260422T130617
CREATED:20250311T090603Z
LAST-MODIFIED:20250311T091916Z
UID:3678-1742585400-1742590800@ot-hyogo.or.jp
SUMMARY:「神戸ブロック勉強会（小児分野）」締切3.20
DESCRIPTION:タイトル\n神戸ブロック勉強会（小児分野） \n内容\n「特別支援学校の作業療法相談ケース報告会」 \n日時\n3月21日（金）　19：30 ～ 21：00（受付開始19:15〜） \n会場\nあすてっぷ神戸　セミナー4 \n講師\n田中　尚樹(宝塚市子ども発達支援センター) \n定　員\n人数問わず \n費用\n無料 \n申込み方法\nGoogleフォームにて以下の内容をお送りください。\n①参加の有無　②氏名 ③所属　　④経験年数 \nhttps://docs.google.com/forms/d/1qZ-TwFAU_8Y2H5QULWytaH2K6U-uFywM91qikTttHGU/edit?pli=1 \n締め切り\n3月20日（木）13時
URL:https://ot-hyogo.or.jp/file/event/3678
LOCATION:あすてっぷ神戸
CATEGORIES:兵庫県作業療法士会主催の研修
END:VEVENT
END:VCALENDAR