BEGIN:VCALENDAR
VERSION:2.0
PRODID:-//兵庫県作業療法士会　研修案内 - ECPv6.7.0//NONSGML v1.0//EN
CALSCALE:GREGORIAN
METHOD:PUBLISH
X-WR-CALNAME:兵庫県作業療法士会　研修案内
X-ORIGINAL-URL:https://ot-hyogo.or.jp/file
X-WR-CALDESC:兵庫県作業療法士会　研修案内 のイベント
REFRESH-INTERVAL;VALUE=DURATION:PT1H
X-Robots-Tag:noindex
X-PUBLISHED-TTL:PT1H
BEGIN:VTIMEZONE
TZID:Asia/Tokyo
BEGIN:STANDARD
TZOFFSETFROM:+0900
TZOFFSETTO:+0900
TZNAME:JST
DTSTART:20250101T000000
END:STANDARD
END:VTIMEZONE
BEGIN:VEVENT
DTSTART;TZID=Asia/Tokyo:20250424T193000
DTEND;TZID=Asia/Tokyo:20250424T210000
DTSTAMP:20260422T113031
CREATED:20250414T063159Z
LAST-MODIFIED:20250414T063433Z
UID:3732-1745523000-1745528400@ot-hyogo.or.jp
SUMMARY:「神戸ブロック勉強会（小児分野）」締切4.23
DESCRIPTION:タイトル\n神戸ブロック勉強会（小児分野） \n内容\n「小児領域のトピックス」 \n日時\n4月24日（木）　19：30 ～ 21：00（受付開始19:15〜）\n※今回は木曜日の開催となります \n会場\nあすてっぷ神戸　セミナー5 \n講師\n若林　秀昭 \n定　員\n人数問わず \n費用\n無料 \n申込み方法\nGoogleフォームにて以下の内容をお送りください。\n①参加の有無　②氏名 ③所属　　④経験年数 \n申込み\nhttps://docs.google.com/forms/d/1qZ-TwFAU_8Y2H5QULWytaH2K6U-uFywM91qikTttHGU/edit?pli=1 \n締め切り\n4月23日（水）13時
URL:https://ot-hyogo.or.jp/file/event/3732
LOCATION:あすてっぷ神戸
CATEGORIES:兵庫県作業療法士会主催の研修
END:VEVENT
END:VCALENDAR