BEGIN:VCALENDAR
VERSION:2.0
PRODID:-//兵庫県作業療法士会　研修案内 - ECPv6.7.0//NONSGML v1.0//EN
CALSCALE:GREGORIAN
METHOD:PUBLISH
X-WR-CALNAME:兵庫県作業療法士会　研修案内
X-ORIGINAL-URL:https://ot-hyogo.or.jp/file
X-WR-CALDESC:兵庫県作業療法士会　研修案内 のイベント
REFRESH-INTERVAL;VALUE=DURATION:PT1H
X-Robots-Tag:noindex
X-PUBLISHED-TTL:PT1H
BEGIN:VTIMEZONE
TZID:Asia/Tokyo
BEGIN:STANDARD
TZOFFSETFROM:+0900
TZOFFSETTO:+0900
TZNAME:JST
DTSTART:20250101T000000
END:STANDARD
END:VTIMEZONE
BEGIN:VEVENT
DTSTART;TZID=Asia/Tokyo:20250803T092000
DTEND;TZID=Asia/Tokyo:20250803T165000
DTSTAMP:20260422T050657
CREATED:20250610T074043Z
LAST-MODIFIED:20250731T033938Z
UID:3906-1754212800-1754239800@ot-hyogo.or.jp
SUMMARY:563「教育部 第2回現職者共通研修」締切7.28　
DESCRIPTION:7月31日（木）12時10分から30分頃にかけて研修に関するミーティング情報をPeatixから送信しました（以下参照） \n563 教育部第２回現職共通研修（8/3）受付完了者へメールを送信しました \nタイトル\n教育部　第二回現職者共通研修 \n内　容\n  \n\n\n\n① 実践のための作業療法研究\n9：20～10：50\n\n\n② 作業療法の可能性\n11：10～12：40\n\n\n③ 日本と世界の作業療法の動向\n13：50～15：00\n\n\n④ 事例報告と事例研究\n15：20～16：50\n\n\n\nー\n①～④の講義を別々でも申し込み可能\nー \n日　時\n8月3日　9：20 ～ 16：50（受付 9：00～） \n会　場\nオンライン（Zoom）\n※受付完了者には研修日の３日前（平日のみ）までPeatixメッセージからミーティング情報を配信致します。 \n講　師\n①西村優子先生（神戸大学医学部付属病院） \n②小南陽平先生（宝塚第一病院） \n③小川真寛先生（神戸学院大学） \n④藤原瑞穂先生（神戸学院大学） \n定　員\n100名 \n生涯教育ポイント\n☒　２P付与されます \n申込み条件と受講費\n  \n\n\n\n☒　兵庫県士会員\n1講義　１，０００円\n\n\n☒　OT協会及び他府県士会の両方に入会しているOT\n兵庫県士会員と同額\n\n\n\nー\n※上記以外のOTは受講できません\n※有料の場合、すべての受講費に別途Peatix利用料が加算されます\n※申込条件がある場合、申込の時点でその会員資格を有する必要があります\n※条件を満たしていない方からの申し込みは事務局にてキャンセル手続きを自動的に行いますので予めご了承ください。\n（兵庫県士会員か否かの確認はマイページへのログインの可否で判断できます。不明な人はまずはマイページログインができるか試してください。） \n受講条件\nオンラインでの研修会に参加される方は、参加条件・準備事項・個人情報保護について以下の資料を必ずご確認ください。 \nオンライン研修会に参加される皆さまへ\nオンライン研修における研修情報および個人情報保護について \n締め切り\n7月28日（月）13時 \nその他\n1）申し込み方法について\n① 受講講義数のチケットを選択し進む\n② 受講する講義は申込者情報登録時画面で選択する \n2）事務局での自動キャンセル扱いとなった方には「ミーティング情報配信メッセージ」\nが届きません。また自動キャンセル時に返金手続きも完了しています。 \n問い合わせ先\n佐東　健　兵庫医科大学病院（TEL：0798-45-6388 FAX：0798-45-6948） \n申し込み受付\n受付は終了しています
URL:https://ot-hyogo.or.jp/file/event/3906
LOCATION:オンライン(Zoom)
CATEGORIES:兵庫県作業療法士会主催の研修
END:VEVENT
BEGIN:VEVENT
DTSTART;TZID=Asia/Tokyo:20250820T193000
DTEND;TZID=Asia/Tokyo:20250820T213000
DTSTAMP:20260422T050657
CREATED:20250627T145729Z
LAST-MODIFIED:20250815T040948Z
UID:3995-1755718200-1755725400@ot-hyogo.or.jp
SUMMARY:566「第一回阪神北南ブロック研修会」締切8.8
DESCRIPTION:8月15日（金）13時5分頃に研修に関するミーティング情報をPeatixから送信しました（以下参照） \n566 阪神北南ブロック　第1回ブロック研修会（8/20）受付完了者へメールを送信しました \nタイトル\n第一回阪神北南ブロック研修会　 「住宅改修と福祉用具の実際　排泄と入浴中心に」 \n内容\n生活現場における実際のトイレ・入浴場面の方法や工夫点について \n日時\n2025年8月20日（水曜日）　19：30 ～ 21：30（受付 19：00～） \n会場\n西宮アミティーベイコムホール　502号 \n講師\n河田　哲也先生（作業療法士　MIKOTO訪問看護ステーション） \n定　員\n30名\n※受付完了者には研修日の３日前（平日のみ）までPeatixメッセージから受講に関するお知らせを配信致します。 \n  \n生涯教育ポイント\n☒　２P付与されます \n申込み条件と受講費\n\n\n\n兵庫県士会員\n１，０００円\n\n\nOT協会及び他府県士会の両方に入会しているOT\n兵庫県士会員と同額\n\n\nOT協会のみ入会しているOT\n兵庫県士会員の倍額\n\n\n\nー\n※上記以外のOTは受講できません\n※有料の場合、すべての受講費に別途Peatix利用料が加算されます\n※申込条件がある場合、申込の時点でその会員資格を有する必要があります\n※条件を満たしていない方からの申し込みは事務局にてキャンセル手続きを自動的に行いますので予めご了承ください。\n（兵庫県士会員か否かの確認はマイページへのログインの可否で判断できます。不明な人はまずはマイページログインができるか試してください。） \n締め切り\n8月8日（金）13時 \nその他\n事務局での自動キャンセル扱いとなった方には「ミーティング情報配信メッセージ」が届きません。\nまた自動キャンセル時に返金手続きも完了しています \n問い合わせ先\n西宮協立リハビリテーション病院　高橋快　 \n申し込み受付\n以下のサイトからお願いします。\n受付は終了しています。
URL:https://ot-hyogo.or.jp/file/event/3995
LOCATION:西宮アミティーベイコムホール
CATEGORIES:兵庫県作業療法士会主催の研修
END:VEVENT
BEGIN:VEVENT
DTSTART;TZID=Asia/Tokyo:20250824T090000
DTEND;TZID=Asia/Tokyo:20250824T120000
DTSTAMP:20260422T050657
CREATED:20250701T063558Z
LAST-MODIFIED:20250821T035046Z
UID:4004-1756026000-1756036800@ot-hyogo.or.jp
SUMMARY:567「地域貢献活動推進研修会　STEP2」締切8.18
DESCRIPTION:8月21日（木）12時40分頃に研修に関するミーティング情報をPeatixから送信しました（以下参照） \n567 地域ケア推進委員会 地域貢献活動推進研修会　ステップ2（8/24）受付完了者へメールを送信しました\n–\n　チラシのダウンロードはこちら \n– \nタイトル\n地域貢献活動推進研修会　STEP2 \n内　容\n＊STEP1受講者対象の研修会になります \n地域支援事業における作業療法士の活躍が進んでおり、より一層地域への参画が求められています。\n回復期リハ病棟の施設基準に「地域貢献活動」が加わったように、地域リハと言っても、病院の作業療法士にも地域参画が必要となってきました。\n今回の研修会では、基本的な知識から実際の作業療法士の関り方を経験できるような内容で企画しています。\nまた、研修修了後にはすぐにでも事業参画していけるような繋がりを提供できるように検討中です。\n経験年数・領域を問わず、地域に関われる作業療法士を目指して、第一歩を踏み出しませんか？ \n日　時\n8月24日（日）　9：00 ～ 12：00（受付8：45～） \n会　場\nオンライン（Zoom）\n※受付完了者には研修日の３日前（平日のみ）までPeatixメッセージからミーティング情報を配信致します。 \n講　師\n地域ケア推進委員会の委員より \n定　員\n100名 \n生涯教育ポイント\n☒　２P付与されます \n申込み条件と受講費\n\n\n\n☒　兵庫県士会員\n１，０００円\n\n\n\nー\n※上記以外のOTは受講できません\n※有料の場合、すべての受講費に別途Peatix利用料が加算されます\n※申込条件がある場合、申込の時点でその会員資格を有する必要があります\n※条件を満たしていない方からの申し込みは事務局にてキャンセル手続きを自動的に行いますので予めご了承ください。\n（兵庫県士会員か否かの確認はマイページへのログインの可否で判断できます。不明な人はまずはマイページログインができるか試してください。） \n受講条件\nオンラインでの研修会に参加される方は、参加条件・準備事項・個人情報保護について以下の資料を必ずご確認ください。 \nオンライン研修会に参加される皆さまへ\nオンライン研修における研修情報および個人情報保護について \n締め切り\n8月 18日（月）　13時 \nその他\n・STEP1を受講した方のみ本研修会（STEP2）に申込が可能です。\n・受講資格のない方からの申し込みは事務局にて自動的に受付キャンセルの手続きを行います。\n・自動キャンセル扱いとなった場合、受講料は返金いたします。ただし返金手数料が生じる場合の手数料は返金できません。ご自身で受講資格があるかどうか必ず確認の上、申し込みください。 \n問い合わせ先\n一般社団法人　兵庫県作業療法士会　地域ケア推進委員会\n担当者　佐野 善章　  \n申し込み受付\n受付は終了しました
URL:https://ot-hyogo.or.jp/file/event/4004
LOCATION:オンライン(Zoom)
CATEGORIES:兵庫県作業療法士会主催の研修
END:VEVENT
BEGIN:VEVENT
DTSTART;TZID=Asia/Tokyo:20250824T100000
DTEND;TZID=Asia/Tokyo:20250824T123000
DTSTAMP:20260422T050657
CREATED:20250424T041847Z
LAST-MODIFIED:20250821T032651Z
UID:3759-1756029600-1756038600@ot-hyogo.or.jp
SUMMARY:557「阪神北南ブロック第一回現職者共通研修 事例検討・事例報告」締切(発表)6.1 (検討/聴講)8.8
DESCRIPTION:8月21日（木）12時5分頃に研修に関するミーティング情報をPeatixから送信しました（以下参照） \n557 阪神北南ブロック第１回現職共通研修事例検討・事例報告（8/24）受付完了者へメールを送信しました \nタイトル\n阪神北南ブロック第一回現職者共通研修 事例検討・事例報告 \n日　時\n８月２４日（日曜日）　１０：００ ～ １２：３０（受付 ９：３０～） \n会　場\nオンライン（Zoom）\n※受付完了者には研修日の３日前（平日のみ）までPeatixメッセージからミーティング情報を配信致します。 \n定　員\n発表者　１０名　（生涯教育ポイント２P）\n検討者　制限なし　（生涯教育ポイント２P）\n聴講者　制限なし　（生涯教育ポイント非該当） \n受講費\n発表者及び検討者　1\,000円\n同時履修者　　　　2\,000円\n※別途Peatix利用料が加算されます\n※聴講者は受講費不要です \n申込条件\n発表者；兵庫県作業療法士会会員であること\n検討者；OT協会員であること\n聴講者；特になし \n※申込条件がある場合、申込の時点でその会員資格を有する必要があります\n※条件を満たしていない方からの申し込みは事務局にてキャンセル手続きを自動的に行いますので予めご了承ください。\n（兵庫県士会員か否かの確認はマイページへのログインの可否で判断できます。不明な人はまずはマイページログインができるか試してください。） \n受講条件\nオンラインでの研修会に参加される方は、参加条件・準備事項・個人情報保護について以下の資料を必ずご確認ください。 \nオンライン研修会に参加される皆さまへ\nオンライン研修における研修情報および個人情報保護について \n締め切り\n発表者　締め切り　６月１日（日）13時\n検討者　締め切り　８月８日（金）13時\n聴講者　締め切り　８月８日（金）13時 \n事例報告指導者について\n 発表者には受付時に「事例報告指導者の情報」を入力していただきます。氏名、OT協会会員番号、所属先を確認の上、申し込みをお願いします。\n 事例報告指導者は日本作業療法士協会会員かつ都道府県作業療法士会会員であり、生涯教育制度基礎研修修了者が条件となります\n 事例報告指導者が不在の場合、下記の問い合わせ先e-mailへその旨をご連絡ください。ブロックより事例報告指導者の紹介を致します。\n 事例報告指導者の報告会当日の出席につきましては、可能な限りご出席頂きますようお願いします。ご参加いただく場合は検討者または聴講者の申し込みをお願いします。 \n問い合わせ先\nさんだリハビリテーション病院　療法部　横山幹史，\n \nその他\n事務局での自動キャンセル扱いとなった方には「ミーティング情報配信メッセージ」が届きません。また自動キャンセル時に返金手続きも完了しています。 \n申し込み受付\n発表者・発表と検討同時履修者は定員に達したため受付を終了しました \n検討のみ・聴講者・事例報告指導者はコチラ\n受付は終了しました \n 
URL:https://ot-hyogo.or.jp/file/event/3759
LOCATION:オンライン(Zoom)
CATEGORIES:兵庫県作業療法士会主催の研修
END:VEVENT
END:VCALENDAR