BEGIN:VCALENDAR
VERSION:2.0
PRODID:-//兵庫県作業療法士会　研修案内 - ECPv6.7.0//NONSGML v1.0//EN
CALSCALE:GREGORIAN
METHOD:PUBLISH
X-ORIGINAL-URL:https://ot-hyogo.or.jp/file
X-WR-CALDESC:兵庫県作業療法士会　研修案内 のイベント
REFRESH-INTERVAL;VALUE=DURATION:PT1H
X-Robots-Tag:noindex
X-PUBLISHED-TTL:PT1H
BEGIN:VTIMEZONE
TZID:Asia/Tokyo
BEGIN:STANDARD
TZOFFSETFROM:+0900
TZOFFSETTO:+0900
TZNAME:JST
DTSTART:20250101T000000
END:STANDARD
END:VTIMEZONE
BEGIN:VEVENT
DTSTART;TZID=Asia/Tokyo:20251107T193000
DTEND;TZID=Asia/Tokyo:20251107T213000
DTSTAMP:20260422T002653
CREATED:20250929T092407Z
LAST-MODIFIED:20251104T033223Z
UID:4340-1762543800-1762551000@ot-hyogo.or.jp
SUMMARY:586「大腿骨頚部骨折、転子部骨折の解剖学に基づいたリハビリテーション」締切10.30
DESCRIPTION:11月4日（火）12時15分頃に研修に関する情報をPeatixから送信しました（以下参照）\n586　神戸ブロック研修会「大腿骨頚部骨折、転子部骨折の解剖学に基づいたリハビリテーション」（11/7）受付完了者へメールを送信しました \nタイトル\n神戸ブロック研修会\n「大腿骨頚部骨折、転子部骨折の解剖学に基づいたリハビリテーション」 \n内　容\n股関節解剖学に基づいたリハビリテーション、術前・術後のレントゲンから分かる注意点、術式などを分かりやすく説明し、明日からの臨床ですぐに使える内容となっています。 \n日　時\n11月7日　19：30 ～ 21：30（受付 19：15～） \n会　場\nオンライン（Zoom）\n※受付完了者には研修日の３日前（平日のみ）までPeatixメッセージからミーティング情報を配信致します。 \n講　師\n水島　健太郎氏（大久保病院　理学療法士） \n定　員\n50名 \n生涯教育ポイント\n☒　２P付与されます \n申込み条件と受講費\n  \n\n\n\n兵庫県士会員\n１，０００円\n\n\nOT協会及び他府県士会の両方に入会しているOT\n兵庫県士会員と同額\n\n\nOT協会のみ入会しているOT\n兵庫県士会員の倍額\n\n\n\nー\n※上記以外のOTは受講できません\n※有料の場合、すべての受講費に別途Peatix利用料が加算されます\n※申込条件がある場合、申込の時点でその会員資格を有する必要があります\n※条件を満たしていない方からの申し込みは事務局にてキャンセル手続きを自動的に行いますので予めご了承ください。\n（兵庫県士会員か否かの確認はマイページへのログインの可否で判断できます。不明な人はまずはマイページログインができるか試してください。） \n受講条件\nオンラインでの研修会に参加される方は、参加条件・準備事項・個人情報保護について以下の資料を必ずご確認ください。 \nオンライン研修会に参加される皆さまへ\nオンライン研修における研修情報および個人情報保護について \n締め切り\n10月30日（木）13時 \nその他\n事務局での自動キャンセル扱いとなった方には「ミーティング情報配信メッセージ」が届きません。\nまた自動キャンセル時に返金手続きも完了しています。 \n問い合わせ先\nすみれ訪問看護ステーション　吉留　実悠（） \n申し込み受付\n受付終了致しました。
URL:https://ot-hyogo.or.jp/file/event/4340
LOCATION:オンライン(Zoom)
CATEGORIES:兵庫県作業療法士会主催の研修
END:VEVENT
BEGIN:VEVENT
DTSTART;TZID=Asia/Tokyo:20251115T130000
DTEND;TZID=Asia/Tokyo:20251115T170000
DTSTAMP:20260422T002653
CREATED:20250903T054058Z
LAST-MODIFIED:20251112T030342Z
UID:4230-1763211600-1763226000@ot-hyogo.or.jp
SUMMARY:580「作業療法士・自動車教習所でつながろう！」締切11.7
DESCRIPTION:11月12日（水）12時00分頃に研修に関する情報をPeatixから送信しました（以下参照） \n580　自動車運転支援委員会研修会（11/15）受付完了者へメールを送信しました \nタイトル\n兵庫県作業療法士会 自動車運転支援委員会主催\n作業療法士・自動車教習所でつながろう！\n「障がいのある方と高齢者の自動車運転」\n〜警察・作業療法士・運転指導員の立場から〜 \n内容\n兵庫県内の自動車運転再開支援の推進を目的に、警察・作業療法士・教習指導員の講義と、連携のためのグループワークを行います。 \n日時\n１１月１５日（土曜日）　１３：００ ～ １７：００（受付 １２：４５～） \n会場\n明石免許試験場 \n講師\n①兵庫県警察本部交通部運転免許課\n②兵庫県作業療法士会 自動車運転支援委員会委員長　笹沼里味\n③障がい者支援施設 自立生活訓練センター　運転指導員　掘井好典 \n定員\n５０名\n※受付完了者には研修日の３日前（平日のみ）までPeatixメッセージから受講に関するお知らせを配信致します。 \n生涯教育ポイント\n☒　２P付与されます \n申込み条件と受講費\n  \n\n\n\n兵庫県士会員\n無料\n\n\n兵庫県警察官、兵庫県内指定自動車教習所指導員\n無料\n\n\n\nー\n※上記以外のOTは受講できません\n※有料の場合、すべての受講費に別途Peatix利用料が加算されます\n※申込条件がある場合、申込の時点でその会員資格を有する必要があります\n※条件を満たしていない方からの申し込みは事務局にてキャンセル手続きを自動的に行いますので予めご了承ください。\n（兵庫県士会員か否かの確認はマイページへのログインの可否で判断できます。不明な人はまずはマイページログインができるか試してください。） \n締め切り\n１１月７日（金）13時 \n対象\n兵庫県作業療法士会員、兵庫県内指定自動車教習所の教習指導員 \nその他\n事務局での自動キャンセル扱いとなった方には「ミーティング情報配信メッセージ」が届きません。\nまた自動キャンセル時に返金手続きも完了しています \n問い合わせ先\n自動車運転支援委員会　笹沼\n \n申し込み受付\n受付は終了しました
URL:https://ot-hyogo.or.jp/file/event/4230
LOCATION:明石免許試験場
CATEGORIES:兵庫県作業療法士会主催の研修
END:VEVENT
BEGIN:VEVENT
DTSTART;TZID=Asia/Tokyo:20251116T093000
DTEND;TZID=Asia/Tokyo:20251116T123000
DTSTAMP:20260422T002653
CREATED:20250819T120327Z
LAST-MODIFIED:20251113T031117Z
UID:4163-1763285400-1763296200@ot-hyogo.or.jp
SUMMARY:575　新卒・復職者向けリスク管理研修「運動器疾患」締切11.10
DESCRIPTION:11月13日（木）12時05分頃に研修に関する情報をPeatixから送信しました（以下参照） \n575　教育部　新卒・復職者向けリスク管理研修「運動器疾患」（11/16）受付完了者へメールを送信しました　 \nタイトル\n教育部主催研修　新卒・復職者向けリスク管理研修「運動器疾患」 \n内　容\n臨床現場での対応力を高めるための研修会を開催いたします。\n本研修では、運動器疾患に関する基礎知識から、ハンドセラピーや肩関節疾患に対する作業療法、そして臨床で求められるリスク管理の視点まで、幅広く学ぶことができます。 \n日　時\n2025年11月16日（日）9:30～12:30（受付開始9:00～） \n会　場\nオンライン（Zoom）\n※受付完了者には研修日の３日前（平日のみ）までPeatixメッセージからミーティング情報を配信致します。 \n講　師\n学校法人　関西医科大学　リハビリテーション学部　中山 淳先生\n「基礎から学ぶハンドセラピー：臨床でのリスク管理と対応力」 \n学校法人　日本教育財団　大阪医専　高度作業療法学科　片岡　秀樹先生\n「基礎から学ぶ肩関節疾患の作業療法：臨床でのリスク管理と対応力」 \n定　員\n無し \n生涯教育ポイント\n☒　２P付与されます \n申込み条件と受講費\n  \n\n\n\n兵庫県士会員\n２，０００円\n\n\nOT協会及び他府県士会の両方に入会しているOT\n兵庫県士会員と同額\n\n\n\nー\n※上記以外のOTは受講できません\n※有料の場合、すべての受講費に別途Peatix利用料が加算されます\n※申込条件がある場合、申込の時点でその会員資格を有する必要があります\n※条件を満たしていない方からの申し込みは事務局にてキャンセル手続きを自動的に行いますので予めご了承ください。\n（兵庫県士会員か否かの確認はマイページへのログインの可否で判断できます。不明な人はまずはマイページログインができるか試してください。） \n受講条件\nオンラインでの研修会に参加される方は、参加条件・準備事項・個人情報保護について以下の資料を必ずご確認ください。 \nオンライン研修会に参加される皆さまへ\nオンライン研修における研修情報および個人情報保護について \n締め切り\n2025年11月10日（月）13時 \nその他\n事務局での自動キャンセル扱いとなった方には「ミーティング情報配信メッセージ」が届きません。\nまた自動キャンセル時に返金手続きも完了しています。 \n問い合わせ先\n社会医療法人愛仁会　尼崎だいもつ病院　リハ技術部作業療法科　菊　修一郎\n \n申し込み受付\n受付は終了しました
URL:https://ot-hyogo.or.jp/file/event/4163
LOCATION:オンライン(Zoom)
CATEGORIES:兵庫県作業療法士会主催の研修
END:VEVENT
BEGIN:VEVENT
DTSTART;TZID=Asia/Tokyo:20251116T093000
DTEND;TZID=Asia/Tokyo:20251116T170000
DTSTAMP:20260422T002653
CREATED:20250925T053711Z
LAST-MODIFIED:20251113T032608Z
UID:4320-1763285400-1763312400@ot-hyogo.or.jp
SUMMARY:585「第2回現職者選択研修（第2回MTDLP基礎研修会）」締切11.10
DESCRIPTION:11月13日（木）12時20分頃に研修に関する情報をPeatixから送信しました（以下参照） \n585　教育部「第2回現職者選択研修（第2回MTDLP基礎研修会）」（11/16）受付完了者へメールを送信しました　 \nタイトル\n第2回現職者選択研修（第2回MTDLP基礎研修会）（教育部） \n内　容\n生活行為向上マネジメント（MTDLP）概論＋演習研修 \n日　時\n11月16日　9：30 ～ 17：00（受付 9：00～） \n会　場\nオンライン（Zoom）\n※受付完了者には研修日の３日前（平日のみ）までPeatixメッセージからミーティング情報を配信致します。 \n講　師\n①北岡　裕也先生　（介護老人保健施設　白寿苑）\n②北田　泰敏先生　（大阪リハビリテーション専門学校） \n定　員\n80名 \n生涯教育ポイント\n☒　２P付与されます \n申込み条件と受講費\n  \n\n\n\n兵庫県士会員\n４，０００円\n\n\nOT協会及び他府県士会の両方に入会しているOT\n兵庫県士会員と同額\n\n\n\nー\n※上記以外のOTは受講できません\n※有料の場合、すべての受講費に別途Peatix利用料が加算されます\n※申込条件がある場合、申込の時点でその会員資格を有する必要があります\n※条件を満たしていない方からの申し込みは事務局にてキャンセル手続きを自動的に行いますので予めご了承ください。\n（兵庫県士会員か否かの確認はマイページへのログインの可否で判断できます。不明な人はまずはマイページログインができるか試してください。） \n受講条件\nオンラインでの研修会に参加される方は、参加条件・準備事項・個人情報保護について以下の資料を必ずご確認ください。 \nオンライン研修会に参加される皆さまへ\nオンライン研修における研修情報および個人情報保護について \n締め切り\n11月10日（月）13時 \nその他\n事務局での自動キャンセル扱いとなった方には「ミーティング情報配信メッセージ」が届きません。\nまた自動キャンセル時に返金手続きも完了しています。 \n問い合わせ先\n078-754-8700\n順心神戸病院　　浦田　康平 \n申し込み受付\n受付は終了しました
URL:https://ot-hyogo.or.jp/file/event/4320
LOCATION:オンライン(Zoom)
CATEGORIES:兵庫県作業療法士会主催の研修
END:VEVENT
BEGIN:VEVENT
DTSTART;TZID=Asia/Tokyo:20251119T190000
DTEND;TZID=Asia/Tokyo:20251119T210000
DTSTAMP:20260422T002653
CREATED:20250922T064401Z
LAST-MODIFIED:20251114T030851Z
UID:4295-1763578800-1763586000@ot-hyogo.or.jp
SUMMARY:584「デジタル機器のアクセシビリティ」締切11.11
DESCRIPTION:11月14日（金）12時00分頃に研修に関する情報をPeatixから送信しました（以下参照） \n584　総務部福祉用具係研修会「デジタル機器のアクセシビリティ」（11/19）受付完了者へメールを送信しました \nタイトル\n総務部　福祉用具係研修会　「デジタル機器のアクセシビリティ」 \n内容\nスイッチ等の入力支援機器（自助具を含む）やデジタルアクセシビリティを活用したICT機器の操作に関する学習をします。重度意思伝達装置や日常生活用具に関連する展示機器の見学・体験も行います。 \n日時\n11月19日（水曜日）　19：00 ～ 21：00（受付 18：45～） \n会場\n兵庫県立福祉のまちづくり研究所 1階　介護実習室（神戸市西区曙町1070） \n講師\n兵庫県立福祉のまちづくり研究所　ロボットリハビリテーションセンター\n作業療法士　太田智之先生・福元正伸先生 \n定　員\n40名\n※受付完了者には研修日の３日前（平日のみ）までPeatixメッセージから受講に関するお知らせを配信致します。 \n生涯教育ポイント\n☒　２P付与されます \n申込み条件と受講費\n  \n\n\n\n兵庫県士会員\n１，０００円\n\n\nOT協会及び他府県士会の両方に入会しているOT\n兵庫県士会員と同額\n\n\nOT協会のみ入会しているOT\n兵庫県士会員と倍額\n\n\n他職種（OT以外の医療職・介護職など）\n兵庫県士会員と半額\n\n\n\nー\n※上記以外のOTは受講できません\n※有料の場合、すべての受講費に別途Peatix利用料が加算されます\n※申込条件がある場合、申込の時点でその会員資格を有する必要があります\n※条件を満たしていない方からの申し込みは事務局にてキャンセル手続きを自動的に行いますので予めご了承ください。\n（兵庫県士会員か否かの確認はマイページへのログインの可否で判断できます。不明な人はまずはマイページログインができるか試してください。） \n締め切り\n11月11日（火）13時 \nその他\n事務局での自動キャンセル扱いとなった方には「ミーティング情報配信メッセージ」が届きません。\nまた自動キャンセル時に返金手続きも完了しています \n問い合わせ先\n兵庫県作業療法士会　総務部福祉用具係　柏木　秀文\nMail  \n申し込み受付\n受付は終了しました \n研修会チラシ\n　11月19日研修会チラシ詳細
URL:https://ot-hyogo.or.jp/file/event/4295
LOCATION:兵庫県立福祉のまちづくり研究所
CATEGORIES:兵庫県作業療法士会主催の研修
END:VEVENT
BEGIN:VEVENT
DTSTART;TZID=Asia/Tokyo:20251121T190000
DTEND;TZID=Asia/Tokyo:20251121T200000
DTSTAMP:20260422T002653
CREATED:20251014T064926Z
LAST-MODIFIED:20251014T065336Z
UID:4386-1763751600-1763755200@ot-hyogo.or.jp
SUMMARY:「便利な福祉用具のご紹介」締切11.20
DESCRIPTION:テーマ\n便利な福祉用具のご紹介 \n講師\n川口昌大氏\n（八千代ケアサポート株式会社・福祉用具専門相談員） \n日時\n2025年11月21日（金）19：00～20：00 \n場所\n土井リハビリテーション病院\n小野市復井町字中ノ池1723-2 \n参加費\n無料 \n申し込み方法\n以下の内容を記載し、メールにてお申込み下さい。\n①氏名\n②所属\n③経験年数 \n申し込み先\n \n問い合わせ際\n介護老人保健施設　サンビラ三木　永尾\nTEL：0794-70-8202 \n〆切\n2025年11月20日（木）13:00。
URL:https://ot-hyogo.or.jp/file/event/4386
LOCATION:土井リハビリテーション病院
CATEGORIES:兵庫県作業療法士会主催の研修
END:VEVENT
BEGIN:VEVENT
DTSTART;TZID=Asia/Tokyo:20251121T190000
DTEND;TZID=Asia/Tokyo:20251121T210000
DTSTAMP:20260422T002653
CREATED:20251007T080317Z
LAST-MODIFIED:20251118T031548Z
UID:4369-1763751600-1763758800@ot-hyogo.or.jp
SUMMARY:587「活動分析アプローチ ～治療道具の分析、上肢へのアプローチ～」締切11.13
DESCRIPTION:11月18日（火）12時10分頃に研修に関する情報をPeatixから送信しました（以下参照） \n587 淡路ブロック第３回研修会「活動分析アプローチ」（11/21）受付完了者へメールを送信しました \nタイトル\n淡路ブロック第3回研修会\n活動分析アプローチ－治療道具の分析、上肢へのアプローチ－ \n内容\n活動分析アプローチを用いて、道具の特性を分析しつつ、上肢機能向上についても考える。 \n日時\n11月21日（金曜日）　19：00 ～ 21：00（受付 18：30～） \n会場\n洲本伊月病院 \n講師\n中島　大輔先生(新須磨リハビリテーション病院　作業療法士) \n定員\n30名\n※受付完了者には研修日の３日前（平日のみ）までPeatixメッセージから受講に関するお知らせを配信致します。 \n生涯教育ポイント\n☒　２P付与されます \n申込み条件と受講費\n\n\n\n兵庫県士会員\n１，０００円\n\n\nOT協会及び他府県士会の両方に入会しているOT\n兵庫県士会員と同額\n\n\nOT協会のみ入会しているOT\n兵庫県士会員と倍額\n\n\nOT協会休会中のOT\n0円(生涯教育ポイント付与無)\n\n\n他職種（OT以外の医療職・介護職など）\n兵庫県士会員と半額\n\n\n一般\n0円\n\n\n\nー\n※上記以外のOTは受講できません\n※有料の場合、すべての受講費に別途Peatix利用料が加算されます\n※申込条件がある場合、申込の時点でその会員資格を有する必要があります\n※条件を満たしていない方からの申し込みは事務局にてキャンセル手続きを自動的に行いますので予めご了承ください。\n（兵庫県士会員か否かの確認はマイページへのログインの可否で判断できます。不明な人はまずはマイページログインができるか試してください。） \n締め切り\n11月13日（木）13時 \nその他\n事務局での自動キャンセル扱いとなった方には「ミーティング情報配信メッセージ」が届きません。\nまた自動キャンセル時に返金手続きも完了しています \n問い合わせ先\n田浦康代(平成病院)　 \n申し込み受付\n受付は終了しました
URL:https://ot-hyogo.or.jp/file/event/4369
LOCATION:洲本伊月病院
CATEGORIES:兵庫県作業療法士会主催の研修
END:VEVENT
BEGIN:VEVENT
DTSTART;TZID=Asia/Tokyo:20251127T190000
DTEND;TZID=Asia/Tokyo:20251127T210000
DTSTAMP:20260422T002653
CREATED:20250910T065253Z
LAST-MODIFIED:20251121T030924Z
UID:4258-1764270000-1764277200@ot-hyogo.or.jp
SUMMARY:582「精神分野作業療法委員会主催 第2回研修会」締切11.18
DESCRIPTION:11月21日（金）12時00分頃に研修に関する情報をPeatixから送信しました（以下参照）\n582 　精神分野作業療法委員会　第２回研修会「集団プログラムの工夫」（11/27）受付完了者へメールを送信しました \n上記でお知らせの締切日を11.19から11.18に修正しました（2025/10/30）\nタイトル\n「集団プログラムの工夫〜ひとり一人の主体的な参加につなげるために〜」\n精神分野作業療法委員会主催 第2回研修会 \n内　容\n今回の研修は、単なる集団プログラムの紹介ではありません。ひとり一人の主体的な参加につなげるための「事前の準備」や「仕掛け」などを紹介しながら講義していただく予定です。\n集団を治療的に実施するための「仕掛け」を一緒に学びましょう。\nぜひご参加ください。 \n日　時\n１１月２７日　１９：００ ～ ２１：００（受付 １８：４５～） \n会　場\nオンライン（Zoom）\n※受付完了者には研修日の３日前（平日のみ）までPeatixメッセージからミーティング情報を配信致します。 \n講　師\n辻 智代 先生(ひょうごこころの医療センター)\n入江 勇多 先生(向陽病院) \n定　員\n３０名 \n生涯教育ポイント\n☒　２P付与されます \n申込み条件と受講費\n  \n\n\n\n兵庫県士会員\n１，０００円\n\n\nOT協会及び他府県士会の両方に入会しているOT\n兵庫県士会員と同額\n\n\nOT協会のみ入会しているOT\n兵庫県士会員の倍額\n\n\nOT協会休会中のOT\n0円（生涯教育ポイント付与無）\n\n\n\nー\n※上記以外のOTは受講できません\n※有料の場合、すべての受講費に別途Peatix利用料が加算されます\n※申込条件がある場合、申込の時点でその会員資格を有する必要があります\n※条件を満たしていない方からの申し込みは事務局にてキャンセル手続きを自動的に行いますので予めご了承ください。\n（兵庫県士会員か否かの確認はマイページへのログインの可否で判断できます。不明な人はまずはマイページログインができるか試してください。） \n受講条件\nオンラインでの研修会に参加される方は、参加条件・準備事項・個人情報保護について以下の資料を必ずご確認ください。 \nオンライン研修会に参加される皆さまへ\nオンライン研修における研修情報および個人情報保護について \n締め切り\n１１月１8日（火）13時 \nその他\n事務局での自動キャンセル扱いとなった方には「ミーティング情報配信メッセージ」が届きません。\nまた自動キャンセル時に返金手続きも完了しています。 \n問い合わせ先\n \n申し込み受付\n受付は終了しました
URL:https://ot-hyogo.or.jp/file/event/4258
LOCATION:オンライン(Zoom)
CATEGORIES:兵庫県作業療法士会主催の研修
END:VEVENT
BEGIN:VEVENT
DTSTART;TZID=Asia/Tokyo:20251128T190000
DTEND;TZID=Asia/Tokyo:20251128T210000
DTSTAMP:20260422T002653
CREATED:20251118T033235Z
LAST-MODIFIED:20251121T092747Z
UID:4521-1764356400-1764363600@ot-hyogo.or.jp
SUMMARY:「第2回東播磨ブロック勉強会」締切11.27
DESCRIPTION:▪タイトル\n第2回東播磨ブロック勉強会「身体障害領域でも活用できる精神疾患をお持ちの患者様への関わり方」 \n▪内容\n身体障害領域の急性期～回復期では障害受容の過程で抑うつ傾向や不安を生じる事も多く，精神科領域との共通課題が増えています．\n本勉強会では，代表的な精神疾患の症状や特徴をおさらいする事でこうした心理的変化の背景理解を促したり，\nグループワークを通して現場で実践できる対応のポイントを整理したいと思います． \n▪日時\n2025年11月28日（金）19：00 ～ 21：00 \n▪会場\n障がい者支援センターてらだ（兵庫県加古川市平岡町新在家2509-1） \n▪講師\n明石こころのホスピタル 宇都宮 秀啓 \n▪定員\n25名 \n▪費用\n無料 \n▪申し込み方法\nGoogleフォーム（https://forms.gle/Cnn6v5ocofB8YytT7） \n▪締め切り\n2025年11月27日（木）18：00まで \n▪問い合わせ先\n明石こころのホスピタル 宇都宮（）
URL:https://ot-hyogo.or.jp/file/event/4521
LOCATION:障がい者支援センターてらだ
CATEGORIES:兵庫県作業療法士会主催の研修
END:VEVENT
END:VCALENDAR