BEGIN:VCALENDAR
VERSION:2.0
PRODID:-//兵庫県作業療法士会　研修案内 - ECPv6.7.0//NONSGML v1.0//EN
CALSCALE:GREGORIAN
METHOD:PUBLISH
X-WR-CALNAME:兵庫県作業療法士会　研修案内
X-ORIGINAL-URL:https://ot-hyogo.or.jp/file
X-WR-CALDESC:兵庫県作業療法士会　研修案内 のイベント
REFRESH-INTERVAL;VALUE=DURATION:PT1H
X-Robots-Tag:noindex
X-PUBLISHED-TTL:PT1H
BEGIN:VTIMEZONE
TZID:Asia/Tokyo
BEGIN:STANDARD
TZOFFSETFROM:+0900
TZOFFSETTO:+0900
TZNAME:JST
DTSTART:20220101T000000
END:STANDARD
END:VTIMEZONE
BEGIN:VEVENT
DTSTART;TZID=Asia/Tokyo:20230226T140000
DTEND;TZID=Asia/Tokyo:20230226T170000
DTSTAMP:20260423T151210
CREATED:20230110T035716Z
LAST-MODIFIED:20230110T035716Z
UID:985-1677420000-1677430800@ot-hyogo.or.jp
SUMMARY:第8回クリニカル・クラークシップに基づく　作業療法臨床教育研究会　研究大会
DESCRIPTION:◆開催日時：令和5年2月26日（日）　14時00分 ～ 17時00分（13時30分受付開始） \n◆開催方法：オンライン（zoom） \n◆内容： \n大会テーマ：地域リハビリテーションにおける臨床教育 \n指定規則の改正に伴い、臨床教育において「地域実習」を1単位以上行うという規定が追加されました。地域リハビリテーションの臨床教育に、クリニカル・クラークシップの考え方はどう生かせるでしょうか。そこで、今回、地域の現場で人材育成を実践されている先生や、通所リハや訪問リハでの実習を実践されている先生をお招きして、どのような人材を育成していけば良いのか？地域実習で何を学生に学ばせたいか？について皆様と考えて行きたいと思います。 \n  \n大会長　岡田　岳　マロニエ医療福祉専門学校 \n  \n大会長講演：『地域実習で何を学生に学ばせたいか？養成校の立場から』 \n岡田　岳 氏　 マロニエ医療福祉専門学校 \n  \n基調講演： 『地域リハビリテーションにおける人材育成』 \n細田 忠博氏　つくば市福祉支援センターさくら　管理者 \n日本訪問リハビリテーション協会　理事 \n実践報告： 『地域リハ施設での実習で学生に学んでほしいこと』 \n佐藤 純 氏　　介護老人保健施設花水木 \n八代 雄太氏　甲府共立診療所 \n  \n◆参加費：会員 1000円、非会員2000円 \n※申し込みと同時に会員申し込み可 年会費3000円 \n※日本作業療法士協会生涯教育制度基礎コース 1 ポイント付与 \n  \n◆申し込み：パスマーケットというイベント管理サイトにてお申し込みを承ります。 \n  \nhttps://passmarket.yahoo.co.jp/event/show/detail/029qxcxpb0t21.html? \n〆切：2月19日（土） \n  \n◆お問い合わせ：クリニカル・クラークシップに基づく作業療法臨床教育研究会 \n事務局：担当：野村　e-mail : ccs_ot_education@yahoo.co.jp \nHP： https://ccs-ot-education.jimdo.com/ \n  \n研究大会資料は添付データにてご確認くださいますようよろしくお願いいたします。 \nhttps://ccs-ot-education.jimdofree.com/研修案内/
URL:https://ot-hyogo.or.jp/file/event/%e7%ac%ac8%e5%9b%9e%e3%82%af%e3%83%aa%e3%83%8b%e3%82%ab%e3%83%ab%e3%83%bb%e3%82%af%e3%83%a9%e3%83%bc%e3%82%af%e3%82%b7%e3%83%83%e3%83%97%e3%81%ab%e5%9f%ba%e3%81%a5%e3%81%8f%e3%80%80%e4%bd%9c%e6%a5%ad
LOCATION:オンライン(Zoom)
CATEGORIES:その他主催の研修
END:VEVENT
BEGIN:VEVENT
DTSTART;TZID=Asia/Tokyo:20230226T100000
DTEND;TZID=Asia/Tokyo:20230226T133000
DTSTAMP:20260423T151210
CREATED:20230127T035009Z
LAST-MODIFIED:20230127T035009Z
UID:1111-1677405600-1677418200@ot-hyogo.or.jp
SUMMARY:主催：奈良県作業療法士会「第3回事業部研修会」脳内ネットワークを踏まえて考える、脳損傷者の高次脳機能の評価と解釈
DESCRIPTION:第3回事業部研修会 \n〇日時：令和5年2月26日　日曜日　10時～13時10分 \n〇講師：大阪公立大学 医学部 リハビリテーション学科  講師 上田 将也 先生 \n〇講座名：「脳内ネットワークを踏まえて考える、脳損傷者の高次脳機能の評価と解釈」 \n〇形式：オンライン講座(ズーム使用) \n〇受講費：都道府県士会員　無料　　非会員　受講不可　　他職種　無料 \nHPはこちらから
URL:https://ot-hyogo.or.jp/file/event/%e4%b8%bb%e5%82%ac%ef%bc%9a%e5%a5%88%e8%89%af%e7%9c%8c%e4%bd%9c%e6%a5%ad%e7%99%82%e6%b3%95%e5%a3%ab%e4%bc%9a%e3%80%8c%e7%ac%ac3%e5%9b%9e%e4%ba%8b%e6%a5%ad%e9%83%a8%e7%a0%94%e4%bf%ae%e4%bc%9a%e3%80%8d
LOCATION:オンライン(Zoom)
CATEGORIES:その他主催の研修
END:VEVENT
BEGIN:VEVENT
DTSTART;TZID=Asia/Tokyo:20230226T093000
DTEND;TZID=Asia/Tokyo:20230226T163000
DTSTAMP:20260423T151210
CREATED:20221228T020831Z
LAST-MODIFIED:20221228T020910Z
UID:920-1677403800-1677429000@ot-hyogo.or.jp
SUMMARY:第4回チーム医療推進学会
DESCRIPTION:日　　時：2023年2月26日（日）9:50～16:30 \n主　　催：チーム医療推進協議会 \n大 会 長：公益社団法人日本栄養士会会長 中村丁次 \nテ ー マ：医療-介護－地域での一体的な多職種連携の推進 \n～地域包括ケアシステムの推進最終章～ \n会　　場：オンラインによるライブ配信（Web会議システムZoom webinar） \nおよびオンデマンド配信（2023年3月5日～3月26日） \n参加登録：2023年2月18日（土）にて締切 \n参 加 費：2\,000円 \n  \n＜チーム医療推進協議会ホームページ＞ \nhttps://www.team-med.jp/archives/news/2022-12-26 \n 
URL:https://ot-hyogo.or.jp/file/event/%e7%ac%ac4%e5%9b%9e%e3%83%81%e3%83%bc%e3%83%a0%e5%8c%bb%e7%99%82%e6%8e%a8%e9%80%b2%e5%ad%a6%e4%bc%9a
LOCATION:オンライン(Zoom)
CATEGORIES:その他主催の研修
END:VEVENT
BEGIN:VEVENT
DTSTART;TZID=Asia/Tokyo:20230226T093000
DTEND;TZID=Asia/Tokyo:20230226T153000
DTSTAMP:20260423T151210
CREATED:20230124T015204Z
LAST-MODIFIED:20230124T015330Z
UID:1088-1677403800-1677425400@ot-hyogo.or.jp
SUMMARY:主催：千葉県作業療法士会　「レジェンドから学ぶ医療と福祉の具体的実践 ～地域連携の基本である相互理解を目指して」
DESCRIPTION:テーマ \nレジェンドから学ぶ医療と福祉の具体的実践 \n～地域連携の基本である相互理解を目指して \n講師 \n黒澤 淳二 氏、酒井 康年 氏、松本 茂樹 氏 \n日時 \n2023年2月26日(日)ZOOM \n9：30～15：30(9：00～受付開始) \n\n参加方法●\n\n下記URLまたはQRコードから申し込みフォームに \nアクセスし必要事項を入力して送信してください。 \nURL:https://forms.gle/DR6B36jeU8AbH13p8 \n  \n＜研修の概要＞ \n詳細は千葉県作業療法士会ホームページおよび添付資料をご覧ください。 \nhttps://www.chiba-ot.ne.jp/events/event/6373/
URL:https://ot-hyogo.or.jp/file/event/%e3%83%ac%e3%82%b8%e3%82%a7%e3%83%b3%e3%83%89%e3%81%8b%e3%82%89%e5%ad%a6%e3%81%b6%e5%8c%bb%e7%99%82%e3%81%a8%e7%a6%8f%e7%a5%89%e3%81%ae%e5%85%b7%e4%bd%93%e7%9a%84%e5%ae%9f%e8%b7%b5-%ef%bd%9e%e5%9c%b0
LOCATION:オンライン(Zoom)
CATEGORIES:その他主催の研修
END:VEVENT
BEGIN:VEVENT
DTSTART;VALUE=DATE:20230225
DTEND;VALUE=DATE:20230227
DTSTAMP:20260423T151210
CREATED:20230110T033328Z
LAST-MODIFIED:20230110T034332Z
UID:978-1677283200-1677455999@ot-hyogo.or.jp
SUMMARY:第11回訪問リハビリテーション管理者スキルアップ研修会
DESCRIPTION:【オンライン開催】第11回訪問リハビリテーション管理者スキルアップ研修会\n【主催】リハビリテーション専門職団体協議会（日本理学療法士協会、日本作業療法士協会、日本言語聴覚士協会）\n【要旨】管理者養成研修会STEP3の修了者を対象に\n・全国における管理者ネットワークの構築\n・管理者のスキルアップのための研修\n・各地区における講師としての人材育成\n更なる高みを求めて３つの要素を踏まえた研修会を開催いたします。\n毎年、内容がリニューアルされていますので、過去に受講された方の再受講も大歓迎です。\nZoomを利用したオンラインセミナーとなります。 \n■日時：2023年2月25日（土）～2月26日（日）\n■会場：オンライン開催\n■ホームページ：http://www.hvrpf.jp/4282\n■お申込み：https://ws.formzu.net/fgen/S54924151/
URL:https://ot-hyogo.or.jp/file/event/%e7%ac%ac11%e5%9b%9e%e8%a8%aa%e5%95%8f%e3%83%aa%e3%83%8f%e3%83%93%e3%83%aa%e3%83%86%e3%83%bc%e3%82%b7%e3%83%a7%e3%83%b3%e7%ae%a1%e7%90%86%e8%80%85%e3%82%b9%e3%82%ad%e3%83%ab%e3%82%a2%e3%83%83%e3%83%97
LOCATION:オンライン(Zoom)
CATEGORIES:その他主催の研修
END:VEVENT
BEGIN:VEVENT
DTSTART;TZID=Asia/Tokyo:20230223T133000
DTEND;TZID=Asia/Tokyo:20230223T170000
DTSTAMP:20260423T151210
CREATED:20221221T040401Z
LAST-MODIFIED:20221221T040401Z
UID:886-1677159000-1677171600@ot-hyogo.or.jp
SUMMARY:第４９回兵庫県医療職団体協議会研修会
DESCRIPTION:
URL:https://ot-hyogo.or.jp/file/event/%e7%ac%ac%ef%bc%94%ef%bc%99%e5%9b%9e%e5%85%b5%e5%ba%ab%e7%9c%8c%e5%8c%bb%e7%99%82%e8%81%b7%e5%9b%a3%e4%bd%93%e5%8d%94%e8%ad%b0%e4%bc%9a%e7%a0%94%e4%bf%ae%e4%bc%9a
LOCATION:兵庫県看護協会
CATEGORIES:その他主催の研修
END:VEVENT
BEGIN:VEVENT
DTSTART;VALUE=DATE:20230218
DTEND;VALUE=DATE:20230219
DTSTAMP:20260423T151210
CREATED:20230110T035016Z
LAST-MODIFIED:20230110T035017Z
UID:982-1676678400-1676764799@ot-hyogo.or.jp
SUMMARY:全国地域作業療法研究大会　第28回学術集会
DESCRIPTION:[テーマ] \n全国地域作業療法研究大会　第28回学術集会 \nコミュニティデザイン論-教科書には載っていない新たな作業療法のカタチ \n[ご案内] \n超高齢人口減少社会。作業療法士や医療介護関係者は、地域で活躍することを求められています。ただ、地域のカタチが多様なだけに、地域づくり（コミュニティーデザイン）にも多様性を求められており、その答えは画一的なものではないはずです。　本学術集会では、コミュニティーデザインを実践されてきた作業療法士や医師にフォーカスし、これからの地域戦略について学習することができます。　すでに地域に出ている方、これから地域に出たいと思っている方、必聴のプログラムです。 \n[会　期]　2023年2月18日（土） \n[方　法]　WEB開催 \n[プログラム] \n講演①（宮崎県向け公開講座）総合診療医がデザインする地域での医療介護連携 \n〇都農町国民保険病院　　院長　桐ケ谷 大淳氏（Dr） \n  \n講演②　自治体OTが考えるこれからのコミュニティデザイン \n○三重県こころの健康センター　　主査 河合 晶子氏（OT） \n  \n講演③　自治体と協力して取り組むこれからのコミュニティデザイン \n〇群馬医療福祉大学 リハビリテーション学部 　教授　山口智晴氏（OT） \n  \n講演④　ごちゃまぜで社会は変えられる　OTが実践するこれからのコミュニティデザイン \n〇一般社団法人えんがお　　代表理事　濱野将行氏（OT） \n  \n講演⑤　地域に仕掛ける！誰もが自分らしく生きるMUKUの挑戦 \n〇合同会社MUKU　　代表　佐伯 美智子氏（OT） \n  \n講演⑥　ケアとまちづくり。ときどきアート \n〇一般社団法人　ケアと暮らしの編集社 代表理事　守本陽一氏（Dr） \n  \n[参加費]　3000円 \n[お申込]　 http://peatix.com/event/3398052 \n[S I G]　 全国地域作業療法研究大会は日本地域作業療法研究会が主催し、日本作業療法士協会の認定を受けている研修会です。 \n○参加者は、生涯教育制度2ポイントを取得できます。 \n○演題発表者は、更に1ポイント取得できます。 \n○認定OT更新要件の「実践報告」にカウントされます。
URL:https://ot-hyogo.or.jp/file/event/%e5%85%a8%e5%9b%bd%e5%9c%b0%e5%9f%9f%e4%bd%9c%e6%a5%ad%e7%99%82%e6%b3%95%e7%a0%94%e7%a9%b6%e5%a4%a7%e4%bc%9a%e3%80%80%e7%ac%ac28%e5%9b%9e%e5%ad%a6%e8%a1%93%e9%9b%86%e4%bc%9a
LOCATION:オンライン(Zoom)
CATEGORIES:その他主催の研修
END:VEVENT
BEGIN:VEVENT
DTSTART;TZID=Asia/Tokyo:20230216T190000
DTEND;TZID=Asia/Tokyo:20230216T210000
DTSTAMP:20260423T151210
CREATED:20230209T022422Z
LAST-MODIFIED:20230209T022422Z
UID:1149-1676574000-1676581200@ot-hyogo.or.jp
SUMMARY:第4回CURE-KOBE研修会
DESCRIPTION:キュア神戸のHPはこちら
URL:https://ot-hyogo.or.jp/file/event/%e7%ac%ac4%e5%9b%9ecure-kobe%e7%a0%94%e4%bf%ae%e4%bc%9a
LOCATION:オンライン(Zoom)
CATEGORIES:その他主催の研修
END:VEVENT
BEGIN:VEVENT
DTSTART;TZID=Asia/Tokyo:20230216T190000
DTEND;TZID=Asia/Tokyo:20230216T203000
DTSTAMP:20260423T151210
CREATED:20220727T045231Z
LAST-MODIFIED:20220727T045231Z
UID:245-1676574000-1676579400@ot-hyogo.or.jp
SUMMARY:ADOCを用いた認知症高齢者の意思決定と目標設定
DESCRIPTION:
URL:https://ot-hyogo.or.jp/file/event/adoc%e3%82%92%e7%94%a8%e3%81%84%e3%81%9f%e8%aa%8d%e7%9f%a5%e7%97%87%e9%ab%98%e9%bd%a2%e8%80%85%e3%81%ae%e6%84%8f%e6%80%9d%e6%b1%ba%e5%ae%9a%e3%81%a8%e7%9b%ae%e6%a8%99%e8%a8%ad%e5%ae%9a
LOCATION:オンライン(Zoom)
CATEGORIES:その他主催の研修
END:VEVENT
BEGIN:VEVENT
DTSTART;TZID=Asia/Tokyo:20230212T093000
DTEND;TZID=Asia/Tokyo:20230212T154000
DTSTAMP:20260423T151210
CREATED:20230110T064220Z
LAST-MODIFIED:20230110T064343Z
UID:1002-1676194200-1676216400@ot-hyogo.or.jp
SUMMARY:「災害リハビリテーション研修」締切1.31
DESCRIPTION:チラシのダウンロードはコチラから\n–\n\n–\nチラシのダウンロードはコチラから
URL:https://ot-hyogo.or.jp/file/event/1002
LOCATION:ハイブリッド開催
CATEGORIES:その他主催の研修
END:VEVENT
BEGIN:VEVENT
DTSTART;VALUE=DATE:20230211
DTEND;VALUE=DATE:20230212
DTSTAMP:20260423T151210
CREATED:20221003T064132Z
LAST-MODIFIED:20221003T064132Z
UID:475-1676073600-1676159999@ot-hyogo.or.jp
SUMMARY:日本心臓リハビリテーション学会第８回近畿支部地方会
DESCRIPTION:日本心臓リハビリテーション学会第８回近畿支部地方会HPはコチラから
URL:https://ot-hyogo.or.jp/file/event/%e6%97%a5%e6%9c%ac%e5%bf%83%e8%87%93%e3%83%aa%e3%83%8f%e3%83%93%e3%83%aa%e3%83%86%e3%83%bc%e3%82%b7%e3%83%a7%e3%83%b3%e5%ad%a6%e4%bc%9a%e7%ac%ac%ef%bc%98%e5%9b%9e%e8%bf%91%e7%95%bf%e6%94%af%e9%83%a8
LOCATION:舞子ビラ
CATEGORIES:その他主催の研修
END:VEVENT
BEGIN:VEVENT
DTSTART;TZID=Asia/Tokyo:20230209T190000
DTEND;TZID=Asia/Tokyo:20230209T210000
DTSTAMP:20260423T151210
CREATED:20230201T015524Z
LAST-MODIFIED:20230201T015524Z
UID:1117-1675969200-1675976400@ot-hyogo.or.jp
SUMMARY:第3回CURE-KOBE研修会
DESCRIPTION:  \nキュア神戸のHPはこちら
URL:https://ot-hyogo.or.jp/file/event/%e7%ac%ac3%e5%9b%9ecure-kobe%e7%a0%94%e4%bf%ae%e4%bc%9a
LOCATION:オンライン(Zoom)
CATEGORIES:その他主催の研修
END:VEVENT
BEGIN:VEVENT
DTSTART;TZID=Asia/Tokyo:20230205T093000
DTEND;TZID=Asia/Tokyo:20230205T130000
DTSTAMP:20260423T151210
CREATED:20221221T035143Z
LAST-MODIFIED:20221221T035143Z
UID:884-1675589400-1675602000@ot-hyogo.or.jp
SUMMARY:和歌山県作業療法士会：令和４年度現職者選択研修
DESCRIPTION:テーマ：令和４年度　現職者選択研修「発達障害領域の作業療法」 \n日時：2023年1月29日(日)・2月5日(日)　両日　9：30～12：40 \n会場：WEB開催（ZOOM） \n定員：100名 \n参加費：4\,000円 \n問い合わせ：和歌山県作業療法士会HP　教育部　杉谷武人 \n  \n【第１日目】令和5年１月29日（日） \n9：30～11：00　テーマ2：「作業療法の実際①（0 歳～就学前）」 \n講　師：中島　るみ　先生（大阪発達総合療育センター） \n11：10～12：40　テーマ3：「作業療法の実際②（就学･学童期･青年期以降：6歳～18歳以降）」 \n講　師：米持　喬　先生（大阪発達総合療育センター \n  \n【第2日目】令和5年2月5日（日） \n9：30～11：00　テーマ1：「発達障害領域の基礎知識と作業療法の課題と展望」 \n講　師：伊藤　直子　先生（森ノ宮医療大学） \n11：10～12：40　テーマ4：「自閉症スペクトラム障害児に対する作業療法の実際」 \n講　師：大谷　真寿美　先生（愛徳医療福祉センター） \n申込方法等の詳細はこちらから
URL:https://ot-hyogo.or.jp/file/event/%e5%92%8c%e6%ad%8c%e5%b1%b1%e7%9c%8c%e4%bd%9c%e6%a5%ad%e7%99%82%e6%b3%95%e5%a3%ab%e4%bc%9a%ef%bc%9a%e4%bb%a4%e5%92%8c%ef%bc%94%e5%b9%b4%e5%ba%a6%e7%8f%be%e8%81%b7%e8%80%85%e9%81%b8%e6%8a%9e%e7%a0%94-2
LOCATION:オンライン(Zoom)
CATEGORIES:その他主催の研修
END:VEVENT
BEGIN:VEVENT
DTSTART;TZID=Asia/Tokyo:20230204T103000
DTEND;TZID=Asia/Tokyo:20230204T163000
DTSTAMP:20260423T151210
CREATED:20221227T041647Z
LAST-MODIFIED:20230120T070909Z
UID:916-1675506600-1675528200@ot-hyogo.or.jp
SUMMARY:第24回兵庫県総合リハビリテーション・ケア研究大会
DESCRIPTION:  \n \n  \nホームページはこちらから
URL:https://ot-hyogo.or.jp/file/event/%e7%ac%ac24%e5%9b%9e%e5%85%b5%e5%ba%ab%e7%9c%8c%e7%b7%8f%e5%90%88%e3%83%aa%e3%83%8f%e3%83%93%e3%83%aa%e3%83%86%e3%83%bc%e3%82%b7%e3%83%a7%e3%83%b3%e3%83%bb%e3%82%b1%e3%82%a2%e7%a0%94%e7%a9%b6%e5%a4%a7
LOCATION:会場参加 と Web 参加 による ハイブリッド開催
CATEGORIES:その他主催の研修
END:VEVENT
BEGIN:VEVENT
DTSTART;VALUE=DATE:20230204
DTEND;VALUE=DATE:20230206
DTSTAMP:20260423T151210
CREATED:20221228T034159Z
LAST-MODIFIED:20221228T034220Z
UID:924-1675468800-1675641599@ot-hyogo.or.jp
SUMMARY:JIMTEF災害医療研修アドバンスコース（関西、関東）開催のお知らせ
DESCRIPTION:①第13回JIMTEF災害医療研修アドバンスコース（関西開催） \n日時：2023年2月4日（土）～2月5日（日） \n場所：独立行政法人国際協力機構　関西センター \n神戸市中央区脇浜海岸通1-5-2 \n対象：ベーシックコース修了者および同等の経験者 \n受講料：20\,000円 \n人数：OT協会より20名以内 \n募集期間：～1月15日（日）　※先着順。定員に達し次第終了となります。 \n応募フォーム：https://forms.gle/8vajN9NBdvJqDh4DA \n  \n②第14回JIMTEF災害医療研修アドバンスコース（関東開催） \n日時：2023年3月18日（土）～3月19日（日） \n場所：一般財団法人日本教育会館8階　第一会議室 \n東京都千代田区一ツ橋2-6-2 \n対象：ベーシックコース修了者および同等の経験者 \n受講料：20\,000円 \n人数：OT協会より20名以内 \n募集期間：～2月26日（日）　※先着順。定員に達し次第終了となります。 \n応募フォーム：https://forms.gle/Ep78yp8hsmbFjZp78 \n  \n【ご確認下さい】 \n・作業療法士の申し込みは、ＯＴ協会が取りまとめて財団へ申請いたします。JIMTEFへ直接お申し込みはできません。 \n・全体の定員100名を超える場合は、職種を考慮して選考になりますので、参加をお約束するものではありません。 \n・関西と関東での開催となりますので、開催地を確認の上応募して下さい。 \n・交通費および研修会参加費はすべて自己負担となります。
URL:https://ot-hyogo.or.jp/file/event/jimtef%e7%81%bd%e5%ae%b3%e5%8c%bb%e7%99%82%e7%a0%94%e4%bf%ae%e3%82%a2%e3%83%89%e3%83%90%e3%83%b3%e3%82%b9%e3%82%b3%e3%83%bc%e3%82%b9%ef%bc%88%e9%96%a2%e8%a5%bf%e3%80%81%e9%96%a2%e6%9d%b1%ef%bc%89
LOCATION:独立行政法人国際協力機構　関西センター
CATEGORIES:その他主催の研修
END:VEVENT
BEGIN:VEVENT
DTSTART;TZID=Asia/Tokyo:20230129T093000
DTEND;TZID=Asia/Tokyo:20230129T130000
DTSTAMP:20260423T151210
CREATED:20221221T034821Z
LAST-MODIFIED:20221221T034821Z
UID:881-1674984600-1674997200@ot-hyogo.or.jp
SUMMARY:和歌山県作業療法士会：令和４年度現職者選択研修
DESCRIPTION:テーマ：令和４年度　現職者選択研修「発達障害領域の作業療法」 \n日時：2023年1月29日(日)・2月5日(日)　両日　9：30～12：40 \n会場：WEB開催（ZOOM） \n定員：100名 \n参加費：4\,000円 \n問い合わせ：和歌山県作業療法士会HP　教育部　杉谷武人 \n  \n【第１日目】令和5年１月29日（日） \n9：30～11：00　テーマ2：「作業療法の実際①（0 歳～就学前）」 \n講　師：中島　るみ　先生（大阪発達総合療育センター） \n11：10～12：40　テーマ3：「作業療法の実際②（就学･学童期･青年期以降：6歳～18歳以降）」 \n講　師：米持　喬　先生（大阪発達総合療育センター \n  \n【第2日目】令和5年2月5日（日） \n9：30～11：00　テーマ1：「発達障害領域の基礎知識と作業療法の課題と展望」 \n講　師：伊藤　直子　先生（森ノ宮医療大学） \n11：10～12：40　テーマ4：「自閉症スペクトラム障害児に対する作業療法の実際」 \n講　師：大谷　真寿美　先生（愛徳医療福祉センター） \n申込方法等の詳細はこちらから
URL:https://ot-hyogo.or.jp/file/event/%e5%92%8c%e6%ad%8c%e5%b1%b1%e7%9c%8c%e4%bd%9c%e6%a5%ad%e7%99%82%e6%b3%95%e5%a3%ab%e4%bc%9a%ef%bc%9a%e4%bb%a4%e5%92%8c%ef%bc%94%e5%b9%b4%e5%ba%a6%e7%8f%be%e8%81%b7%e8%80%85%e9%81%b8%e6%8a%9e%e7%a0%94
LOCATION:オンライン(Zoom)
CATEGORIES:その他主催の研修
END:VEVENT
BEGIN:VEVENT
DTSTART;TZID=Asia/Tokyo:20230128T100000
DTEND;TZID=Asia/Tokyo:20230128T153000
DTSTAMP:20260423T151210
CREATED:20221213T050352Z
LAST-MODIFIED:20221213T051650Z
UID:823-1674900000-1674919800@ot-hyogo.or.jp
SUMMARY:第13回 アクティビティ・ケア全国大会オンライン
DESCRIPTION:第13回 アクティビティ・ケア全国大会オンライン \n高齢者のアクティビティを実践や活動報告から学び合う二日間の大会です。（録画配信のみの参加もあり） \n各地の施設と参加者の皆様をzoomでつなぎ、オンラインで実践を学び合います。 \n団体でお申込みいただくと、施設の利用者さんや他のスタッフさんも一緒にご参加いただけます。 \n複数でも、お１人でも、楽しみながら学んでいただける内容です。 \n  \n日時　2023年1月21日（土）10：00～12：00　13：30～15：30 \n2023年1月28日（土）10：00～12：00　13：30～15：30 \n会場　WEB開催（zoom） \n※参加費をお支払いいただいた方は、全てのリアルタイム配信への参加と録画配信の閲覧ができます。 \n録画配信は、各開催日の２日後～2月28日（火）まで \n  \n参加費　《一般》　個人：4\,000円　団体：6\,000円　《学生》　個人：2\,000円 \n  \n内容　詳細、お申し込みは、ホームページをご覧いただけますようお願い致します。 \nhttps://www.aptycare.com/forum_zenkoku.html
URL:https://ot-hyogo.or.jp/file/event/%e7%ac%ac13%e5%9b%9e-%e3%82%a2%e3%82%af%e3%83%86%e3%82%a3%e3%83%93%e3%83%86%e3%82%a3%e3%83%bb%e3%82%b1%e3%82%a2%e5%85%a8%e5%9b%bd%e5%a4%a7%e4%bc%9a%e3%82%aa%e3%83%b3%e3%83%a9%e3%82%a4%e3%83%b3-2
LOCATION:オンライン(Zoom)
CATEGORIES:その他主催の研修
END:VEVENT
BEGIN:VEVENT
DTSTART;TZID=Asia/Tokyo:20230126T190000
DTEND;TZID=Asia/Tokyo:20230126T210000
DTSTAMP:20260423T151210
CREATED:20230117T031438Z
LAST-MODIFIED:20230117T031438Z
UID:1039-1674759600-1674766800@ot-hyogo.or.jp
SUMMARY:第2回 CURE-KOBE研修
DESCRIPTION:CURE-KOBE ホームページはこちらから
URL:https://ot-hyogo.or.jp/file/event/%e7%ac%ac2%e5%9b%9e-cure-kobe%e7%a0%94%e4%bf%ae
LOCATION:オンライン(Zoom)
CATEGORIES:その他主催の研修
END:VEVENT
BEGIN:VEVENT
DTSTART;TZID=Asia/Tokyo:20230124T190000
DTEND;TZID=Asia/Tokyo:20230124T203000
DTSTAMP:20260423T151210
CREATED:20220727T044920Z
LAST-MODIFIED:20220727T044920Z
UID:243-1674586800-1674592200@ot-hyogo.or.jp
SUMMARY:認知症の予防事業における作業療法士の役割　とっとり方式認知症予防プログラム
DESCRIPTION:
URL:https://ot-hyogo.or.jp/file/event/%e8%aa%8d%e7%9f%a5%e7%97%87%e3%81%ae%e4%ba%88%e9%98%b2%e4%ba%8b%e6%a5%ad%e3%81%ab%e3%81%8a%e3%81%91%e3%82%8b%e4%bd%9c%e6%a5%ad%e7%99%82%e6%b3%95%e5%a3%ab%e3%81%ae%e5%bd%b9%e5%89%b2%e3%80%80%e3%81%a8
LOCATION:オンライン(Zoom)
CATEGORIES:その他主催の研修
END:VEVENT
BEGIN:VEVENT
DTSTART;TZID=Asia/Tokyo:20230121T100000
DTEND;TZID=Asia/Tokyo:20230121T153000
DTSTAMP:20260423T151210
CREATED:20221213T050054Z
LAST-MODIFIED:20221213T051724Z
UID:821-1674295200-1674315000@ot-hyogo.or.jp
SUMMARY:第13回 アクティビティ・ケア全国大会オンライン
DESCRIPTION:第13回 アクティビティ・ケア全国大会オンライン \n高齢者のアクティビティを実践や活動報告から学び合う二日間の大会です。（録画配信のみの参加もあり） \n各地の施設と参加者の皆様をzoomでつなぎ、オンラインで実践を学び合います。 \n団体でお申込みいただくと、施設の利用者さんや他のスタッフさんも一緒にご参加いただけます。 \n複数でも、お１人でも、楽しみながら学んでいただける内容です。 \n  \n日時　2023年1月21日（土）10：00～12：00　13：30～15：30 \n2023年1月28日（土）10：00～12：00　13：30～15：30 \n会場　WEB開催（zoom） \n※参加費をお支払いいただいた方は、全てのリアルタイム配信への参加と録画配信の閲覧ができます。 \n録画配信は、各開催日の２日後～2月28日（火）まで \n  \n参加費　《一般》　個人：4\,000円　団体：6\,000円　《学生》　個人：2\,000円 \n  \n内容　詳細、お申し込みは、ホームページをご覧いただけますようお願い致します。 \nhttps://www.aptycare.com/forum_zenkoku.html
URL:https://ot-hyogo.or.jp/file/event/%e7%ac%ac13%e5%9b%9e-%e3%82%a2%e3%82%af%e3%83%86%e3%82%a3%e3%83%93%e3%83%86%e3%82%a3%e3%83%bb%e3%82%b1%e3%82%a2%e5%85%a8%e5%9b%bd%e5%a4%a7%e4%bc%9a%e3%82%aa%e3%83%b3%e3%83%a9%e3%82%a4%e3%83%b3
LOCATION:オンライン(Zoom)
CATEGORIES:その他主催の研修
END:VEVENT
BEGIN:VEVENT
DTSTART;VALUE=DATE:20230121
DTEND;VALUE=DATE:20230123
DTSTAMP:20260423T151210
CREATED:20221108T031537Z
LAST-MODIFIED:20221108T031537Z
UID:669-1674259200-1674431999@ot-hyogo.or.jp
SUMMARY:第14回訪問リハビリテーション管理者養成研修会STEP3　開催案内
DESCRIPTION:【オンライン開催】第14回訪問リハビリテーション管理者養成研修会STEP3 \n【主催】リハビリテーション専門職団体協議会（日本理学療法士協会、日本作業療法士協会、日本言語聴覚士協会） \n【要旨】訪問リハビリテーションのスペシャリストを育成するための、3協会合同の唯一の人材育成プログラムです。 \nZoomを利用したオンラインセミナーとなります。 \n■日時：2023年1月21日（土）～22日（日） \n■会場：オンライン開催 \n■ホームページ： http://www.hvrpf.jp/4248 \n■お申込み：https://ws.formzu.net/fgen/S64732028/ \n 
URL:https://ot-hyogo.or.jp/file/event/%e7%ac%ac14%e5%9b%9e%e8%a8%aa%e5%95%8f%e3%83%aa%e3%83%8f%e3%83%93%e3%83%aa%e3%83%86%e3%83%bc%e3%82%b7%e3%83%a7%e3%83%b3%e7%ae%a1%e7%90%86%e8%80%85%e9%a4%8a%e6%88%90%e7%a0%94%e4%bf%ae%e4%bc%9astep3
LOCATION:オンライン(Zoom)
CATEGORIES:その他主催の研修
END:VEVENT
BEGIN:VEVENT
DTSTART;TZID=Asia/Tokyo:20230112T190000
DTEND;TZID=Asia/Tokyo:20230112T210000
DTSTAMP:20260423T151210
CREATED:20230105T014438Z
LAST-MODIFIED:20230106T071639Z
UID:936-1673550000-1673557200@ot-hyogo.or.jp
SUMMARY:第１回CURE-KOBE研修会
DESCRIPTION:キュア神戸のHPはこちら
URL:https://ot-hyogo.or.jp/file/event/936
CATEGORIES:その他主催の研修
END:VEVENT
BEGIN:VEVENT
DTSTART;TZID=Asia/Tokyo:20221218T130000
DTEND;TZID=Asia/Tokyo:20221218T180000
DTSTAMP:20260423T151210
CREATED:20221122T022256Z
LAST-MODIFIED:20221122T022353Z
UID:770-1671368400-1671386400@ot-hyogo.or.jp
SUMMARY:令和4年度クリニカル・クラークシップに基づく作業療法臨床教育研究会主催　研修会
DESCRIPTION:開催日時：令和4年12月18日（日）　13時00分 ～ 16時00分（12時30分受付開始） \n開催方法：オンライン（zoom） \n内容： \n研修会テーマ：考える力を育てる！　クリニカルリーズニングの基礎を学び、臨床に活かす \n講師：丸山　祥 \n湘南慶育病院　リハビリテーション部  作業療法科 科長 \n東京都立大学大学院 人間健康科学研究科 客員研究員 \n作業療法のクリニカルリーズニング評価尺度（SA-CROT\,A-CROT）開発者 \n臨床作業療法NOVA 作業療法と臨床判断　編集 \n5W1Hでわかりやすく学べる 作業療法理論の教科書　分担執筆 \n  \n◆参加費：会員 1000円、非会員2000円 \n◆申し込み：パスマーケットというイベント管理サイトにてお申し込みを承ります。 \nhttps://passmarket.yahoo.co.jp/event/show/detail/021n8ak8dxp21.html \n〆切：12月11日（日） \n◆お問い合わせ：クリニカル・クラークシップに基づく作業療法臨床教育研究会 \n事務局：担当：野村　e-mail : ccs_ot_education@yahoo.co.jp \nHP： https://ccs-ot-education.jimdo.com/
URL:https://ot-hyogo.or.jp/file/event/%e4%bb%a4%e5%92%8c4%e5%b9%b4%e5%ba%a6%e3%82%af%e3%83%aa%e3%83%8b%e3%82%ab%e3%83%ab%e3%83%bb%e3%82%af%e3%83%a9%e3%83%bc%e3%82%af%e3%82%b7%e3%83%83%e3%83%97%e3%81%ab%e5%9f%ba%e3%81%a5%e3%81%8f%e4%bd%9c
LOCATION:オンライン(Zoom)
CATEGORIES:その他主催の研修
END:VEVENT
BEGIN:VEVENT
DTSTART;TZID=Asia/Tokyo:20221218T130000
DTEND;TZID=Asia/Tokyo:20221218T161500
DTSTAMP:20260423T151210
CREATED:20221021T073811Z
LAST-MODIFIED:20221023T062018Z
UID:541-1671368400-1671380100@ot-hyogo.or.jp
SUMMARY:ひょうご高次脳機能障害リハビリテーション「兵庫県高次脳機能障害リハビリテーション講習会」のご案内
DESCRIPTION:
URL:https://ot-hyogo.or.jp/file/event/%e3%81%b2%e3%82%87%e3%81%86%e3%81%94%e9%ab%98%e6%ac%a1%e8%84%b3%e6%a9%9f%e8%83%bd%e9%9a%9c%e5%ae%b3%e3%83%aa%e3%83%8f%e3%83%93%e3%83%aa%e3%83%86%e3%83%bc%e3%82%b7%e3%83%a7%e3%83%b3%e3%80%8c%e5%85%b5
LOCATION:オンライン(Zoom)
CATEGORIES:その他主催の研修
END:VEVENT
BEGIN:VEVENT
DTSTART;TZID=Asia/Tokyo:20221218T090000
DTEND;TZID=Asia/Tokyo:20221218T181000
DTSTAMP:20260423T151210
CREATED:20221021T074721Z
LAST-MODIFIED:20221021T074721Z
UID:548-1671354000-1671387000@ot-hyogo.or.jp
SUMMARY:【OT協会より】令和4年度診療報酬改定対応研修会　開催案内
DESCRIPTION:●令和4年度診療報酬改定対応研修　運動器リハ料への糖尿病性足病変の追記 ～下肢慢性創傷への作業療法～\n高齢化社会においては、内部障害を有する対象者は増加傾向にあり、特に糖尿病においては、合併症として下肢病変が高頻度で発生することが知られていますが、その作業療法について学ぶ場は少なく、試行錯誤している方も多いと思われます。本研修は、下肢慢性創傷患者の活動と参加の拡大を支援する質の高い作業療法の普及を図る目的で開催します。 \n日時：2022年12月03日(土)\n開催方法：web開催\n参加費：￥4\,000\n申込締切：2022年11月2日（水） \n詳細は下記の協会ホームページをご覧ください。＊お申込みは会員ポータルサイトから。\nhttps://www.jaot.or.jp/kenshuukai/kensyuukaiitiran/detail/20220022000500001/ \n●令和4年度診療報酬改定対応研修会 ～透析時運動指導等加算～\n腎臓機能障害の診断、症状、治療について、および透析患者におけるリハビリテーション、作業療法の専門性を理解し、事例を通じて透析患者への作業療法の実際を学びます。\n注意）この研修は、透析時運動指導等加算の算定要件に示されている研修会ではありません。 \n日時：2022年12月18日(日) 9:00~16:10\n開催方法：web開催\n参加費：￥4\,000\n申込締切：2022年11月16日（水） \n詳細は下記の協会ホームページをご覧ください。＊お申込みは会員ポータルサイトから。\nhttps://www.jaot.or.jp/kenshuukai/kensyuukaiitiran/detail/20220022000300023/
URL:https://ot-hyogo.or.jp/file/event/%e3%80%90ot%e5%8d%94%e4%bc%9a%e3%82%88%e3%82%8a%e3%80%91%e4%bb%a4%e5%92%8c4%e5%b9%b4%e5%ba%a6%e8%a8%ba%e7%99%82%e5%a0%b1%e9%85%ac%e6%94%b9%e5%ae%9a%e5%af%be%e5%bf%9c%e7%a0%94%e4%bf%ae%e4%bc%9a-2
LOCATION:WEB
CATEGORIES:その他主催の研修
END:VEVENT
BEGIN:VEVENT
DTSTART;VALUE=DATE:20221217
DTEND;VALUE=DATE:20221219
DTSTAMP:20260423T151210
CREATED:20220909T035446Z
LAST-MODIFIED:20220909T035446Z
UID:341-1671235200-1671407999@ot-hyogo.or.jp
SUMMARY:「令和4年度在宅リハビリテーション従事者研修会≪通所リハ編≫」申込11.30
DESCRIPTION:オンライン開催\n令和4年度在宅リハビリテーション従事者研修会≪通所リハ編≫ \n主催\nリハビリテーション専門職団体協議会（日本理学療法士協会・日本作業療法士協会・日本言語聴覚士協会） \nZoomを利用したオンラインセミナーとなります。 \n日時\n2022年12月17日（土）～18日（日） \n会場\nオンライン開催 \nホームページ\nhttp://www.hvrpf.jp/4209 \nお申込みURL\nhttp://fs219.xbit.jp/n954/form13/
URL:https://ot-hyogo.or.jp/file/event/%e3%80%8c%e4%bb%a4%e5%92%8c4%e5%b9%b4%e5%ba%a6%e5%9c%a8%e5%ae%85%e3%83%aa%e3%83%8f%e3%83%93%e3%83%aa%e3%83%86%e3%83%bc%e3%82%b7%e3%83%a7%e3%83%b3%e5%be%93%e4%ba%8b%e8%80%85%e7%a0%94%e4%bf%ae%e4%bc%9a
LOCATION:オンライン(Zoom)
CATEGORIES:その他主催の研修
END:VEVENT
BEGIN:VEVENT
DTSTART;TZID=Asia/Tokyo:20221209T190000
DTEND;TZID=Asia/Tokyo:20221209T201500
DTSTAMP:20260423T151210
CREATED:20221021T064538Z
LAST-MODIFIED:20221021T064538Z
UID:524-1670612400-1670616900@ot-hyogo.or.jp
SUMMARY:食とコミュニケーション研究所オンラインセミナーシリーズ4「はじめての症例報告/研究/学会発表/論文発表大切なポイントと実際」
DESCRIPTION:主催\n一般社団法人　食とコミュニケーション研究所「2022年度オンラインセミナー　シリーズ4」開催案内 \n「はじめての症例報告/研究/学会発表/論文発表大切なポイントと実際」\n講師\n柴本　勇先生（聖隷クリストファー大学大学院　リハビリテーション科学研究科長） \n開催日・各講座テーマ\n・11/4（金） 第１回「はじめての症例報告」\n・11/18（金） 第２回「はじめての研究①　プランニング」\n・11/25（金）  第３回「はじめての研究②　実行とまとめ」\n・12/2（金）  第4回「はじめての学会発表」\n・12/9（金） 第5回「はじめての論文執筆」 \n開催時間\n全講座19：00～20：15（質疑応答含む） \n開催方法 \n\nZOOMによるオンライン配信 \n参加費\n1講座につき、\n・一般社団法人　食とコミュニケーション研究所会員：1\,000円\n・一般社団法人　食とコミュニケーション研究所会員外：3\,000円\n※お申し込み時に、貴会会員で会員と選択される方がおられます。一般社団法人食とコミュニケーション研究所会員か否かで参加費が異なりますのでご注意ください。 \nお申し込み\n下記のURLまたは当法人ホームページからお申し込みください。 \n申込みフォームURL　\nhttps://onl.bz/ifynGwB \n当法人ホームページ\nhttps://fc-science.or.jp
URL:https://ot-hyogo.or.jp/file/event/%e9%a3%9f%e3%81%a8%e3%82%b3%e3%83%9f%e3%83%a5%e3%83%8b%e3%82%b1%e3%83%bc%e3%82%b7%e3%83%a7%e3%83%b3%e7%a0%94%e7%a9%b6%e6%89%80%e3%82%aa%e3%83%b3%e3%83%a9%e3%82%a4%e3%83%b3%e3%82%bb%e3%83%9f%e3%83%8a-5
LOCATION:オンライン(Zoom)
CATEGORIES:その他主催の研修
END:VEVENT
BEGIN:VEVENT
DTSTART;TZID=Asia/Tokyo:20221204T130000
DTEND;TZID=Asia/Tokyo:20221204T163000
DTSTAMP:20260423T151210
CREATED:20221116T043022Z
LAST-MODIFIED:20221116T043022Z
UID:731-1670158800-1670171400@ot-hyogo.or.jp
SUMMARY:京都版 認知症作業療法（ベーシック）
DESCRIPTION:京都府作業療法士会では、12月4日（日）に認知症支援に関する研修会を実施します。 \n認知症の⼈との関わりに悩んでいる⽅や、認知症の⼈を取り巻く環境や家族が望んでいる⽀援など、 \n先を⾒据えた⽀援⽅法に悩んでいる⽅などを対象に、主に基礎的な内容（基盤となる重要な考え⽅）を学ぶ内容となります。 \n認知症支援に関心をお持ちの作業療法士の皆さま（特に若手の皆さま!!）、多数の\nご参加をお待ちしております。 \n  \n【日時】12月4日（日）13時～16時30分 \n【開催方法】オンラインおよび対面 \n【講師】苅山和生先生・白井はる奈先生\n【受講料】2000円（非会員・会費未納者：4000円）\n【申込期限】 2022年11月13日（日）17:00まで \n→＜1週間延長！＞11月20日（日）17:00まで \n【申込フォーム】https://forms.gle/XZKJdxuRBJuSUjHR8 \n【お問い合わせ】京都府作業療法士会 教育部（篠田昭）kyouikubu.kyoto.ot@gmail.com \n認知症研修会チラシはこちらから
URL:https://ot-hyogo.or.jp/file/event/%e4%ba%ac%e9%83%bd%e7%89%88-%e8%aa%8d%e7%9f%a5%e7%97%87%e4%bd%9c%e6%a5%ad%e7%99%82%e6%b3%95%ef%bc%88%e3%83%99%e3%83%bc%e3%82%b7%e3%83%83%e3%82%af%ef%bc%89
LOCATION:ハイブリッド開催
CATEGORIES:その他主催の研修
END:VEVENT
BEGIN:VEVENT
DTSTART;TZID=Asia/Tokyo:20221204T130000
DTEND;TZID=Asia/Tokyo:20221204T160000
DTSTAMP:20260423T151210
CREATED:20221108T030801Z
LAST-MODIFIED:20221108T030949Z
UID:665-1670158800-1670169600@ot-hyogo.or.jp
SUMMARY:2022年度第2回事業部研修会 ～明日から使える園芸療法～
DESCRIPTION:
URL:https://ot-hyogo.or.jp/file/event/2022%e5%b9%b4%e5%ba%a6%e7%ac%ac2%e5%9b%9e%e4%ba%8b%e6%a5%ad%e9%83%a8%e7%a0%94%e4%bf%ae%e4%bc%9a-%ef%bd%9e%e6%98%8e%e6%97%a5%e3%81%8b%e3%82%89%e4%bd%bf%e3%81%88%e3%82%8b%e5%9c%92%e8%8a%b8%e7%99%82
LOCATION:オンライン(Zoom)
CATEGORIES:その他主催の研修
END:VEVENT
BEGIN:VEVENT
DTSTART;TZID=Asia/Tokyo:20221204T130000
DTEND;TZID=Asia/Tokyo:20221204T160000
DTSTAMP:20260423T151210
CREATED:20221028T050616Z
LAST-MODIFIED:20221201T044814Z
UID:584-1670158800-1670169600@ot-hyogo.or.jp
SUMMARY:423「育ちと学びを支える地域づくりの実現に向けて」締切12.01
DESCRIPTION:－\n　チラシのダウンロードはこちら\n－ \nテーマ\n市民公開講座（介護の仕事啓発促進事業）\n「育ちと学びを支える地域づくりの実現に向けて」 \n内容\n【第1部】映画上映会　〜「みんなの学校」〜\n【第2部】特別講演　〜育ちと学びを支える地域づくりの実現に向けて〜 \n日時\n2022年12月4日（日）13:00〜16:00（受付12:30〜13:00） \n会場\n尼崎市総合文化センター　アルカイックホール・ミニ\n〒660-0881 兵庫県尼崎市昭和通2丁目7-16 \n講師\n若林 秀昭 氏（兵庫県立リハビリテーション中央病院　作業療法士）\n近松 俊樹 氏（尼崎市立園和北小学校　教諭） \n定員\n150名 \n会場整理費\n無料 \n申込み条件\n☒　兵庫県士会員および日本OT協会員\n☒　兵庫県士会以外（他府県士会、非会員、一般） \n申し込み方法\n① ホームページからの申し込み\n② FAXによる申し込み：掲載のPDF裏面に必要事項を記載のうえで申し込みください。\n（送信先番号を間違えないようご注意ください） \n締め切り\n12月1日（木）13時 \n問い合わせ先\n兵庫県作業療法士会事務局\n \n\n申し込み受付は終了しました
URL:https://ot-hyogo.or.jp/file/event/423%e3%80%80%e8%82%b2%e3%81%a1%e3%81%a8%e5%ad%a6%e3%81%b3%e3%82%92%e6%94%af%e3%81%88%e3%82%8b%e5%9c%b0%e5%9f%9f%e3%81%a5%e3%81%8f%e3%82%8a%e3%81%ae%e5%ae%9f%e7%8f%be%e3%81%ab%e5%90%91%e3%81%91
LOCATION:尼崎市総合文化センター　アルカイックホール・ミニ\, 兵庫県尼崎市昭和通2丁目7-16
CATEGORIES:その他主催の研修
END:VEVENT
END:VCALENDAR