BEGIN:VCALENDAR
VERSION:2.0
PRODID:-//兵庫県作業療法士会　研修案内 - ECPv6.7.0//NONSGML v1.0//EN
CALSCALE:GREGORIAN
METHOD:PUBLISH
X-WR-CALNAME:兵庫県作業療法士会　研修案内
X-ORIGINAL-URL:https://ot-hyogo.or.jp/file
X-WR-CALDESC:兵庫県作業療法士会　研修案内 のイベント
REFRESH-INTERVAL;VALUE=DURATION:PT1H
X-Robots-Tag:noindex
X-PUBLISHED-TTL:PT1H
BEGIN:VTIMEZONE
TZID:Asia/Tokyo
BEGIN:STANDARD
TZOFFSETFROM:+0900
TZOFFSETTO:+0900
TZNAME:JST
DTSTART:20230101T000000
END:STANDARD
END:VTIMEZONE
BEGIN:VEVENT
DTSTART;TZID=Asia/Tokyo:20240629T093000
DTEND;TZID=Asia/Tokyo:20240630T163000
DTSTAMP:20260422T083649
CREATED:20240216T030109Z
LAST-MODIFIED:20240216T030305Z
UID:2455-1719653400-1719765000@ot-hyogo.or.jp
SUMMARY:第４４回近畿作業学会
DESCRIPTION:大会名：第44回近畿作業療法学会 \nテーマ：Well-beingに寄与する作業療法 \n会場：大阪国際会議場（グランキューブ大阪） \n会期：2024年6月29日（土）・30日（日） \n学会長：松下 太（森ノ宮医療大学 総合リハビリテーション学部 作業療法学科） \n主催：近畿作業療法士連絡協議会 \n担当：一般社団法人 大阪府作業療法士会 \n運営事務局：森ノ宮医療大学 総合リハビリテーション学部 作業療法学科内 \n　　　　　　〒559-8611 大阪市住之江区南港北1-26-16\n　　　　　　E-mail：44kinkiot@gmail.com \nHPはコチラ
URL:https://ot-hyogo.or.jp/file/event/%e7%ac%ac%ef%bc%94%ef%bc%94%e5%9b%9e%e8%bf%91%e7%95%bf%e4%bd%9c%e6%a5%ad%e5%ad%a6%e4%bc%9a
LOCATION:大阪国際会議場（グランキューブ大阪）
CATEGORIES:その他主催の研修
END:VEVENT
BEGIN:VEVENT
DTSTART;TZID=Asia/Tokyo:20240615T190000
DTEND;TZID=Asia/Tokyo:20240615T203000
DTSTAMP:20260422T083649
CREATED:20240509T042114Z
LAST-MODIFIED:20240509T042114Z
UID:2620-1718478000-1718483400@ot-hyogo.or.jp
SUMMARY:奈良県作業療法士会主催　研修会のお知らせ
DESCRIPTION:【内容】Allen認知能力障害モデルの精神障害領域における実践 \n【日時】2024年6月15日（土）19:00～20:30 \n【開催方法】オンライン開催（Zoom） \n【講師】木納潤一　先生（秋津鴻池病院　アレン認知能力障害モデル研究会） \n【概要】Allen認知能力障害モデルを精神科の臨床現場でどのように用いるのか、ACLS-5の方法を紹介し、事例への支援を通じてモデルを理解していただきます。 \n【参加費】無料 \n【詳細・申込】https://www.naraot.jp/nblog/?p=5366 \n【申込締切】6/13（木） \n【受講資格】日本作業療法士協会会員であり、かつ各都道府県作業療法士会会員 \n【定員】100 \n【生涯教育基礎ポイント】２ポイント \n【主催】奈良県作業療法士会　学術部精神障害専門委員会 \n【お問い合わせ】nara.ot.kyoikubu@gmail.com　木納（きのう）潤一
URL:https://ot-hyogo.or.jp/file/event/%e5%a5%88%e8%89%af%e7%9c%8c%e4%bd%9c%e6%a5%ad%e7%99%82%e6%b3%95%e5%a3%ab%e4%bc%9a%e4%b8%bb%e5%82%ac%e3%80%80%e7%a0%94%e4%bf%ae%e4%bc%9a%e3%81%ae%e3%81%8a%e7%9f%a5%e3%82%89%e3%81%9b
LOCATION:オンライン(Zoom)
CATEGORIES:その他主催の研修
END:VEVENT
BEGIN:VEVENT
DTSTART;VALUE=DATE:20240615
DTEND;VALUE=DATE:20240617
DTSTAMP:20260422T083649
CREATED:20240312T012345Z
LAST-MODIFIED:20240312T012345Z
UID:2516-1718409600-1718582399@ot-hyogo.or.jp
SUMMARY:第33回日本作業行動学会学術集会
DESCRIPTION:第33回日本作業行動学会学術集会 \n主催：日本作業行動学会 \n会期：2024年6月15日（土）・16日（日） \n会場：じゅうろくプラザ（〒500-8856 岐阜県岐阜市橋本町1丁目10-11） \n大会テーマ：人間作業モデルが導く多様性への支援 \n大会長：永井 貴士（平成医療短期大学） \nhttp://ob33gifu.kenkyuukai.jp/special/index.asp?id=42102
URL:https://ot-hyogo.or.jp/file/event/%e7%ac%ac33%e5%9b%9e%e6%97%a5%e6%9c%ac%e4%bd%9c%e6%a5%ad%e8%a1%8c%e5%8b%95%e5%ad%a6%e4%bc%9a%e5%ad%a6%e8%a1%93%e9%9b%86%e4%bc%9a
LOCATION:じゅうろくプラザ
CATEGORIES:その他主催の研修
END:VEVENT
BEGIN:VEVENT
DTSTART;VALUE=DATE:20240608
DTEND;VALUE=DATE:20240610
DTSTAMP:20260422T083649
CREATED:20231128T050819Z
LAST-MODIFIED:20231128T050819Z
UID:2096-1717804800-1717977599@ot-hyogo.or.jp
SUMMARY:第28回日本ペインリハビリテーション学会学術大会
DESCRIPTION:第28回日本ペインリハビリテーション学会学術大会 \n  \nこのたび，2024年6月8日（土）～9日（日）の2日間，長崎県長崎市の長崎大学医学部医学科坂本地区キャンパス1にて，第28回日本ペインリハビリテーション学会学術大会を開催する運びとなりました。本学術大会はテーマを『臨床実践の新機軸』とし，ペインリハビリテーションに関わる新たな知見や技術をどのように活用し，日常の臨床に実装していくかについて議論するとともに，臨床実践が不十分な患者について理解を深め，少しでも効果的な介入が可能となるような新機軸を打ち出すことを目指したプログラムを企画しております。なお，本学術大会は，現地開催を予定しており，各種講演やセミナー，シンポジウム，一般演題（口演，ポスター）のほか，オンラインによるプレコングレス企画の開催も検討しております。第28回日本ペインリハビリテーション学会学術大会が実り多き大会になるよう，皆様のご参加を心よりお待ちしております。 \n  \n大会ホームページはコチラ ⇒ https://www.painreha.com \n  \n【大会名称】 \n第28回日本ペインリハビリテーション学会学術大会 \n  \n【テーマ】 \n臨床実践の新機軸 \n  \n【会期】 \n2024年6月8日（土），9日（日） \n  \n【大会長】 \n片岡　英樹（長崎記念病院リハビリテーション部　副部長 / 長崎大学医学部保健学科理学療法学専攻　臨床教授） \n  \n【会場】 \n長崎大学医学部医学科　坂本キャンパス \n〒852-8523　長崎県長崎市坂本1-12-4 \n  \n【演題募集期間】 \n2023年12月1日（金）～2024年1月31日（水） \n  \n【学術大会関連SNS】 \n第28回日本ペインリハビリテーション学会学術大会 \n公式HP：https://www.painreha.com/ \n公式X（旧Twitter）：https://twitter.com/painreha28/ \n公式Facebook：https://www.facebook.com/profile.php?id=100094022724254 \n公式Instagram: https://www.instagram.com/japr28_nagasaki/ \n  \n第28回日本ペインリハビリテーション学会学術大会 \n大会長 片岡　英樹（長崎記念病院　リハビリテーション部） \n詳細チラシ \nプログラム \n 
URL:https://ot-hyogo.or.jp/file/event/%e7%ac%ac28%e5%9b%9e%e6%97%a5%e6%9c%ac%e3%83%9a%e3%82%a4%e3%83%b3%e3%83%aa%e3%83%8f%e3%83%93%e3%83%aa%e3%83%86%e3%83%bc%e3%82%b7%e3%83%a7%e3%83%b3%e5%ad%a6%e4%bc%9a%e5%ad%a6%e8%a1%93%e5%a4%a7%e4%bc%9a
LOCATION:長崎大学医学部医学科　坂本キャンパス
CATEGORIES:その他主催の研修
END:VEVENT
BEGIN:VEVENT
DTSTART;VALUE=DATE:20240518
DTEND;VALUE=DATE:20240520
DTSTAMP:20260422T083649
CREATED:20240402T053021Z
LAST-MODIFIED:20240402T053021Z
UID:2538-1715990400-1716163199@ot-hyogo.or.jp
SUMMARY:第36回活動分析研究大会
DESCRIPTION: 
URL:https://ot-hyogo.or.jp/file/event/%e7%ac%ac36%e5%9b%9e%e6%b4%bb%e5%8b%95%e5%88%86%e6%9e%90%e7%a0%94%e7%a9%b6%e5%a4%a7%e4%bc%9a
LOCATION:ハイブリッド開催
CATEGORIES:その他主催の研修
END:VEVENT
BEGIN:VEVENT
DTSTART;VALUE=DATE:20240427
DTEND;VALUE=DATE:20240429
DTSTAMP:20260422T083649
CREATED:20240122T035214Z
LAST-MODIFIED:20240822T054753Z
UID:2330-1714176000-1714348799@ot-hyogo.or.jp
SUMMARY:第36回日本ハンドセラピィ学会学術集会
DESCRIPTION:会名:第36回日本ハンドセラピィ学会学術集会 \nテーマ：知行合一空〜Science and skill to smile〜 \n会期：2024年4月27日（土）−28日（日） \n場所：奈良県コンベンションセンター（奈良市） \n会長：蓬萊谷耕士（関西医科大学 リハビリテーション学部） \n学会HP： https://plaza.umin.ac.jp/jhts36hand/ \n＊2024年2月1日より事前参加登録開始！
URL:https://ot-hyogo.or.jp/file/event/%e7%ac%ac36%e5%9b%9e%e6%97%a5%e6%9c%ac%e3%83%8f%e3%83%b3%e3%83%89%e3%82%bb%e3%83%a9%e3%83%94%e3%82%a3%e5%ad%a6%e4%bc%9a%e5%ad%a6%e8%a1%93%e9%9b%86%e4%bc%9a
LOCATION:奈良県コンベンションセンター
CATEGORIES:その他主催の研修
END:VEVENT
BEGIN:VEVENT
DTSTART;TZID=Asia/Tokyo:20240326T193000
DTEND;TZID=Asia/Tokyo:20240326T213000
DTSTAMP:20260422T083649
CREATED:20240130T051306Z
LAST-MODIFIED:20240130T051432Z
UID:2376-1711481400-1711488600@ot-hyogo.or.jp
SUMMARY:第2回作業科学基礎入門研修会
DESCRIPTION:【主催】日本作業科学研究会（SIG） \n【研修会名】　第2回作業科学基礎入門研修会 \n【開催日時】2024年3月26日（火）19:30-21:30 \n【開催形式】オンライン（zoom） \n【内容】 \n①作業科学概論（講師：渡辺潤） \n②事例紹介-がん患者から凧づくりのおっちゃんへ-（講師：齊藤隆一） \n【参加費】2\,000 円 学生500円（院生除く） \n振込先:ゆうちょ銀行 日本作業科学研究会 \n記号番号:振替:00160-6-515483 (当座:〇一九店 515483) (代表) \n【研究会HP】http://www.jsso.jp \n【申込方法】下記googleフォームよりお願いいたします． \nhttps://forms.gle/j6w97hRRe8YAnuid7 \n締め切り：2024年3月19日（火）18：00まで． \n【問合先・連絡先】小樽老人保健施設はまなす　池田 実佳 \nE-mail：mt0829.ot26@gmail.com \n  \n※締め切り日までに入金してください.入金完了をもって受付完了といたします. \n※登録するメールアドレスはキャリアメール(docomo.ne.jp\,ezweb.ne.jp\,softbank.ne.jp など) \n以外のメールアドレスをお願いいたします. \n※Google フォーム送信後\,自動送信メールが届きます.届かない場合はお手数ですが問い合わせ先 \nまでご連絡ください. \n※zoom 情報は 2から3 日前にお送りいたします. \n※当日参加できなくなった場合はお手数ですがご連絡をお願いいたします. \n※本研修会は日本作業療法士協会 生涯教育基礎ポイントの対象になります(1ポイント). \n 
URL:https://ot-hyogo.or.jp/file/event/%e7%ac%ac2%e5%9b%9e%e4%bd%9c%e6%a5%ad%e7%a7%91%e5%ad%a6%e5%9f%ba%e7%a4%8e%e5%85%a5%e9%96%80%e7%a0%94%e4%bf%ae%e4%bc%9a
LOCATION:WEB
CATEGORIES:その他主催の研修
END:VEVENT
BEGIN:VEVENT
DTSTART;TZID=Asia/Tokyo:20240321T183000
DTEND;TZID=Asia/Tokyo:20240321T203000
DTSTAMP:20260422T083649
CREATED:20240227T042904Z
LAST-MODIFIED:20240227T042904Z
UID:2495-1711045800-1711053000@ot-hyogo.or.jp
SUMMARY:第18回兵庫県学術研修フォーラム
DESCRIPTION:
URL:https://ot-hyogo.or.jp/file/event/%e7%ac%ac18%e5%9b%9e%e5%85%b5%e5%ba%ab%e7%9c%8c%e5%ad%a6%e8%a1%93%e7%a0%94%e4%bf%ae%e3%83%95%e3%82%a9%e3%83%bc%e3%83%a9%e3%83%a0
LOCATION:オンライン(Zoom)
CATEGORIES:その他主催の研修
END:VEVENT
BEGIN:VEVENT
DTSTART;VALUE=DATE:20240317
DTEND;VALUE=DATE:20240318
DTSTAMP:20260422T083649
CREATED:20240122T034913Z
LAST-MODIFIED:20240122T034913Z
UID:2327-1710633600-1710719999@ot-hyogo.or.jp
SUMMARY:日本音楽療法学会　第22回近畿学術大会のご案内
DESCRIPTION:第22回近畿学術大会のご案内\n～今　ここから　共に歩む～ をテーマに第22回近畿学術大会は対面で、講習会はWebで開催することになりました。\n＜学術大会＞\n開催日：2024年3月17日（日）\n会　場：三宮コンベンションセンター（兵庫県神戸市）\n＜講習会（Web開催）＞\n開催期間：2024年3月4日（月）～3月17日（日） \n大会詳細HPはこちらから \n 
URL:https://ot-hyogo.or.jp/file/event/%e6%97%a5%e6%9c%ac%e9%9f%b3%e6%a5%bd%e7%99%82%e6%b3%95%e5%ad%a6%e4%bc%9a%e3%80%80%e7%ac%ac22%e5%9b%9e%e8%bf%91%e7%95%bf%e5%ad%a6%e8%a1%93%e5%a4%a7%e4%bc%9a%e3%81%ae%e3%81%94%e6%a1%88%e5%86%85
LOCATION:三宮コンベンションセンター
CATEGORIES:その他主催の研修
END:VEVENT
BEGIN:VEVENT
DTSTART;TZID=Asia/Tokyo:20240315T090000
DTEND;TZID=Asia/Tokyo:20240325T170000
DTSTAMP:20260422T083649
CREATED:20240304T044821Z
LAST-MODIFIED:20240304T044821Z
UID:2499-1710493200-1711386000@ot-hyogo.or.jp
SUMMARY:令和5年度「高次脳機能障害」研修のご案内
DESCRIPTION:
URL:https://ot-hyogo.or.jp/file/event/%e4%bb%a4%e5%92%8c5%e5%b9%b4%e5%ba%a6%e3%80%8c%e9%ab%98%e6%ac%a1%e8%84%b3%e6%a9%9f%e8%83%bd%e9%9a%9c%e5%ae%b3%e3%80%8d%e7%a0%94%e4%bf%ae%e3%81%ae%e3%81%94%e6%a1%88%e5%86%85
LOCATION:WEB
CATEGORIES:その他主催の研修
END:VEVENT
BEGIN:VEVENT
DTSTART;TZID=Asia/Tokyo:20240304T190000
DTEND;TZID=Asia/Tokyo:20240304T203000
DTSTAMP:20260422T083649
CREATED:20240205T060703Z
LAST-MODIFIED:20240205T061417Z
UID:2423-1709578800-1709584200@ot-hyogo.or.jp
SUMMARY:「姫路市リハ職ネットワーク研修会」締切2.26
DESCRIPTION:－\n　チラシのダウンロードはこちら\n－ \nタイトル\n姫路市リハ職ネットワーク研修会　令和５年度　第2回　リハ計画書作成に役立つ目標設定の練習会を記載して下さい \n内容\n日頃の業務で、利用者様の活動・参加に向けた具体的な目標設定を立てることができていますか？ICFを元にリハビリ目標の設定に至るまでの思考プロセスを解剖し、リハ職同士で共有しましょう！ \n日時\n3月4日　19：00 ～ 20：30（受付 18：30～） \n会場\n姫路市総合福祉会館 5階 第1会議室\n〒670-0955 姫路市安田三丁目1番 \n定員\nなし \n生涯教育ポイント\n☒　付与対象外です \n受講費\n無料 \n申込み条件\n☒　日本OT協会・他府県士会の一方のみ在籍している、またはいずれにも在籍していないOT \n締め切り\n2月26日（月） \nその他\n申し込みは、別途資料にあるQRコードよりお願い致します。 \n問い合わせ先\n姫路市リハ職ネットワーク検討委員会 事務局\nE-mail： \n－\n　チラシのダウンロードはこちら\n－
URL:https://ot-hyogo.or.jp/file/event/2423
LOCATION:姫路市総合福祉会館
CATEGORIES:その他主催の研修
END:VEVENT
BEGIN:VEVENT
DTSTART;TZID=Asia/Tokyo:20240304T140000
DTEND;TZID=Asia/Tokyo:20240304T180000
DTSTAMP:20260422T083650
CREATED:20240213T043444Z
LAST-MODIFIED:20240213T043444Z
UID:2451-1709560800-1709575200@ot-hyogo.or.jp
SUMMARY:神戸市　介護テクノロジー導入促進プロジェクト～未来の介護をクリエイト～報告会・交流会
DESCRIPTION:
URL:https://ot-hyogo.or.jp/file/event/%e7%a5%9e%e6%88%b8%e5%b8%82%e3%80%80%e4%bb%8b%e8%ad%b7%e3%83%86%e3%82%af%e3%83%8e%e3%83%ad%e3%82%b8%e3%83%bc%e5%b0%8e%e5%85%a5%e4%bf%83%e9%80%b2%e3%83%97%e3%83%ad%e3%82%b8%e3%82%a7%e3%82%af%e3%83%88
LOCATION:ハイブリッド開催
CATEGORIES:その他主催の研修
END:VEVENT
BEGIN:VEVENT
DTSTART;TZID=Asia/Tokyo:20240225T133000
DTEND;TZID=Asia/Tokyo:20240225T170000
DTSTAMP:20260422T083650
CREATED:20240116T020248Z
LAST-MODIFIED:20240116T020248Z
UID:2283-1708867800-1708880400@ot-hyogo.or.jp
SUMMARY:第9回クリニカル・クラークシップに基づく作業療法臨床教育研究会　研究大会
DESCRIPTION:
URL:https://ot-hyogo.or.jp/file/event/%e7%ac%ac9%e5%9b%9e%e3%82%af%e3%83%aa%e3%83%8b%e3%82%ab%e3%83%ab%e3%83%bb%e3%82%af%e3%83%a9%e3%83%bc%e3%82%af%e3%82%b7%e3%83%83%e3%83%97%e3%81%ab%e5%9f%ba%e3%81%a5%e3%81%8f%e4%bd%9c%e6%a5%ad%e7%99%82
LOCATION:WEB
CATEGORIES:その他主催の研修
END:VEVENT
BEGIN:VEVENT
DTSTART;TZID=Asia/Tokyo:20240224T093000
DTEND;TZID=Asia/Tokyo:20240224T123000
DTSTAMP:20260422T083650
CREATED:20240122T040148Z
LAST-MODIFIED:20240122T040235Z
UID:2336-1708767000-1708777800@ot-hyogo.or.jp
SUMMARY:令和5年度 地域リハビリテーション推進研修会「介護保険制度の福祉用具活用における多職種協働」
DESCRIPTION:　　　　　　　　　　　　　　　申込方法 \nGoogleフォーム https://forms.gle/3Nhh3XrCotLpDDJx9
URL:https://ot-hyogo.or.jp/file/event/%e4%bb%a4%e5%92%8c5%e5%b9%b4%e5%ba%a6-%e5%9c%b0%e5%9f%9f%e3%83%aa%e3%83%8f%e3%83%93%e3%83%aa%e3%83%86%e3%83%bc%e3%82%b7%e3%83%a7%e3%83%b3%e6%8e%a8%e9%80%b2%e7%a0%94%e4%bf%ae%e4%bc%9a%e3%80%8c%e4%bb%8b
LOCATION:宝塚市西公民館
CATEGORIES:その他主催の研修
END:VEVENT
BEGIN:VEVENT
DTSTART;TZID=Asia/Tokyo:20240224T080000
DTEND;TZID=Asia/Tokyo:20240224T170000
DTSTAMP:20260422T083650
CREATED:20240118T015139Z
LAST-MODIFIED:20240119T012401Z
UID:2287-1708761600-1708794000@ot-hyogo.or.jp
SUMMARY:奈良県作業療法士会学術部精神障害専門委員会主催研修
DESCRIPTION:【内容】やっぱり作業を大事にする精神科OTになりたいです～理論を学ぶ５回シリーズ～ \n【日時】2024年2/24\, 3/2\, 3/21\, 4/13\, 4/25　いずれも19:00～20:30 \n【開催方法】オンライン開催（Zoom） \n【参加費】無料 \n【詳細】https://www.naraot.jp/nblog/?p=5115 \n【申込】https://forms.gle/vvL63KTSPRrDbG4v5 \n【主催】奈良県作業療法士会　学術部精神障害専門委員会 \n【お問い合わせ】nara.ot.kyoikubu@gmail.com　木納（きのう）潤一
URL:https://ot-hyogo.or.jp/file/event/%e5%a5%88%e8%89%af%e7%9c%8c%e4%bd%9c%e6%a5%ad%e7%99%82%e6%b3%95%e5%a3%ab%e4%bc%9a%e5%ad%a6%e8%a1%93%e9%83%a8%e7%b2%be%e7%a5%9e%e9%9a%9c%e5%ae%b3%e5%b0%82%e9%96%80%e5%a7%94%e5%93%a1%e4%bc%9a%e4%b8%bb
CATEGORIES:その他主催の研修
END:VEVENT
BEGIN:VEVENT
DTSTART;VALUE=DATE:20240224
DTEND;VALUE=DATE:20240226
DTSTAMP:20260422T083650
CREATED:20240109T040050Z
LAST-MODIFIED:20240109T040050Z
UID:2272-1708732800-1708905599@ot-hyogo.or.jp
SUMMARY:第12回訪問リハビリテーション管理者スキルアップ研修会
DESCRIPTION:研修会名： \n第12回訪問リハビリテーション管理者スキルアップ研修会 \n  \n開催日： \n2024年2月24日（土）～2月25日（日） \n  \n対象職種： \n日本理学療法士協会・日本作業療法士協会・日本言語聴覚士協会　会員 \n訪問リハビリテーション管理者養成研修会STEP3修了者 \n  \n参加費： \n13\,000円（税込） \n※過去に参加されたことのある方は再受講割引：10\,000円（税込） \n  \n詳細：http://www.hvrpf.jp/4490 \n申込：https://ws.formzu.net/fgen/S733453306/ \n申込締切：2024年2月4日(日) \n  \n※スケジュール、パンフレットは下記のチラシを参照下さい。 \nスケジュール \nチラシデータはこちらから
URL:https://ot-hyogo.or.jp/file/event/%e7%ac%ac12%e5%9b%9e%e8%a8%aa%e5%95%8f%e3%83%aa%e3%83%8f%e3%83%93%e3%83%aa%e3%83%86%e3%83%bc%e3%82%b7%e3%83%a7%e3%83%b3%e7%ae%a1%e7%90%86%e8%80%85%e3%82%b9%e3%82%ad%e3%83%ab%e3%82%a2%e3%83%83%e3%83%97
LOCATION:WEB
CATEGORIES:その他主催の研修
END:VEVENT
BEGIN:VEVENT
DTSTART;TZID=Asia/Tokyo:20240223T133000
DTEND;TZID=Asia/Tokyo:20240223T160000
DTSTAMP:20260422T083650
CREATED:20231121T021112Z
LAST-MODIFIED:20231121T021112Z
UID:2068-1708695000-1708704000@ot-hyogo.or.jp
SUMMARY:第50回兵庫県医療職団体協議会研修会
DESCRIPTION:
URL:https://ot-hyogo.or.jp/file/event/%e7%ac%ac50%e5%9b%9e%e5%85%b5%e5%ba%ab%e7%9c%8c%e5%8c%bb%e7%99%82%e8%81%b7%e5%9b%a3%e4%bd%93%e5%8d%94%e8%ad%b0%e4%bc%9a%e7%a0%94%e4%bf%ae%e4%bc%9a
LOCATION:兵庫県看護協会
CATEGORIES:その他主催の研修
END:VEVENT
BEGIN:VEVENT
DTSTART;TZID=Asia/Tokyo:20240218T093000
DTEND;TZID=Asia/Tokyo:20240218T123000
DTSTAMP:20260422T083650
CREATED:20240131T044529Z
LAST-MODIFIED:20240131T045051Z
UID:2403-1708248600-1708259400@ot-hyogo.or.jp
SUMMARY:「近畿運転リハプロジェクト主催　第3回事例検討会」締切2.15
DESCRIPTION:－\n自動車運転支援委員会から近畿OT運転支援プロジェクト主催 事例検討会（ZOOM・参加費無料）のご案内です。\nご都合がよろしければご参加いただけますと幸いです。よろしくお願い致します。\n－\n　チラシのダウンロードはこちら\n－\n\n－\n　チラシのダウンロードはこちら\n－
URL:https://ot-hyogo.or.jp/file/event/2403
LOCATION:オンライン(Zoom)
CATEGORIES:その他主催の研修
END:VEVENT
BEGIN:VEVENT
DTSTART;TZID=Asia/Tokyo:20240217T090000
DTEND;TZID=Asia/Tokyo:20240217T170000
DTSTAMP:20260422T083650
CREATED:20240119T045800Z
LAST-MODIFIED:20240119T045800Z
UID:2295-1708160400-1708189200@ot-hyogo.or.jp
SUMMARY:日本呼吸ケア・リハビリテーション学会主催　第16回呼吸リハビリテーション研修会
DESCRIPTION:開催日時：2024年2月17日（土）9：00～17：00（講義予定） \n会　場　：兵庫医科大学　オクタホール　現地参加になります \n〇　　　〇〒650-8530 兵庫県神戸市中央区港島１丁目３−６ \n〇　　　〇交通アクセス　https://www.hyo-med.ac.jp/about/access/guide/kobe/ \n対　　象：理学療法士、作業療法士、看護師、医師等の呼吸リハビリテーションに関連する医療担当者 \n取得単位　：\n・呼吸ケア指導士認定更新単位：20単位\n・3学会合同呼吸療法認定士認定更新単位：25単位 \n主　　催　：一般社団法人日本呼吸ケア・リハビリテーション学会  呼吸リハビリテーション委員会 \n参加申込　：研修会の詳細と参加申込につきましては、下記をご参照ください。 \nhttp://jsrcr.umin.jp/16/ \nプログラムなど、詳細はチラシから確認ください。 \n  \n運営事務局：株式会社コンベンションプラス \n〒113-0034　東京都文京区湯島2-31-14　湯島ファーストジェネシスビル5階 \n電話:03-4355-1137　　E-mail: rcrk@convention-plus.com
URL:https://ot-hyogo.or.jp/file/event/%e6%97%a5%e6%9c%ac%e5%91%bc%e5%90%b8%e3%82%b1%e3%82%a2%e3%83%bb%e3%83%aa%e3%83%8f%e3%83%93%e3%83%aa%e3%83%86%e3%83%bc%e3%82%b7%e3%83%a7%e3%83%b3%e5%ad%a6%e4%bc%9a%e4%b8%bb%e5%82%ac%e3%80%80%e7%ac%ac16
LOCATION:兵庫医科大学
CATEGORIES:その他主催の研修
END:VEVENT
BEGIN:VEVENT
DTSTART;TZID=Asia/Tokyo:20240203T090000
DTEND;TZID=Asia/Tokyo:20240203T120000
DTSTAMP:20260422T083650
CREATED:20231225T070931Z
LAST-MODIFIED:20231225T071326Z
UID:2230-1706950800-1706961600@ot-hyogo.or.jp
SUMMARY:「人材育成研修会 STEP Ⅲ」締切1.26
DESCRIPTION:－\n　チラシのダウンロードはこちら\n－\n\n－\n　チラシのダウンロードはこちら\n－
URL:https://ot-hyogo.or.jp/file/event/2230
LOCATION:兵庫県民会館\, (神戸市中央区下山手通4丁目16-3)
CATEGORIES:その他主催の研修
END:VEVENT
BEGIN:VEVENT
DTSTART;TZID=Asia/Tokyo:20240128T093000
DTEND;TZID=Asia/Tokyo:20240128T123000
DTSTAMP:20260422T083650
CREATED:20231215T045747Z
LAST-MODIFIED:20231215T045747Z
UID:2175-1706434200-1706445000@ot-hyogo.or.jp
SUMMARY:滋賀県OT士会MTDLP推進教育部主催研修
DESCRIPTION:ー研修内容ー \n◯研修名 \n滋賀県OT士会MTDLP推進教育部主催研修 \n「作業療法の臨床思考過程を育成する方法を考える」 \n〇日時\n2024年1月28日（日）9:30〜12:30 \n◯内容 \nMTDLPは作業療法における臨床思考過程を可視化するためのツールです。 \n今回の研修は、「MTDLPを活用した作業療法参加型臨床実習ガイド」をベースに、学生等への思考過程を伝える方法を考える研修となっています。学生等への指導にあたられる方が活用できる内容となっているかと思いますので、ご参加を検討していただけると幸いです。 \n◯講師 \n小林　幸治　先生    （目白大学、OT協会養成教育委員MTDLP教育推進班長） \n水島  眞由美  先生　（横浜リハビリテーション専門学校：MTDLP推進協力強化校） \n竹田  和也  先生　　（社会医療法人緑壮会金田病院、実習指導者） \n◯開催方法 \nZOOMによるオンライン開催 \n◯参加費 \n他府県士会員：1000円 \nOT協会・都道府県OT士会のどちらか一つでも未加入のOT：８０００円 \n◯申し込み・詳細について \n以下リンクをご参照ください（申し込みはpeatixへの登録が必要です） \nhttps://shigamtdlp3.peatix.com/
URL:https://ot-hyogo.or.jp/file/event/%e6%bb%8b%e8%b3%80%e7%9c%8cot%e5%a3%ab%e4%bc%9amtdlp%e6%8e%a8%e9%80%b2%e6%95%99%e8%82%b2%e9%83%a8%e4%b8%bb%e5%82%ac%e7%a0%94%e4%bf%ae
LOCATION:オンライン(Zoom)
CATEGORIES:その他主催の研修
END:VEVENT
BEGIN:VEVENT
DTSTART;TZID=Asia/Tokyo:20240127T140000
DTEND;TZID=Asia/Tokyo:20240127T160000
DTSTAMP:20260422T083650
CREATED:20231206T044654Z
LAST-MODIFIED:20231206T044723Z
UID:2137-1706364000-1706371200@ot-hyogo.or.jp
SUMMARY:2023年度自殺未遂者ケア研修
DESCRIPTION:
URL:https://ot-hyogo.or.jp/file/event/2023%e5%b9%b4%e5%ba%a6%e8%87%aa%e6%ae%ba%e6%9c%aa%e9%81%82%e8%80%85%e3%82%b1%e3%82%a2%e7%a0%94%e4%bf%ae
LOCATION:三宮研修センター
CATEGORIES:その他主催の研修
END:VEVENT
BEGIN:VEVENT
DTSTART;VALUE=DATE:20240126
DTEND;VALUE=DATE:20240128
DTSTAMP:20260422T083650
CREATED:20230822T035027Z
LAST-MODIFIED:20230822T035027Z
UID:1600-1706227200-1706399999@ot-hyogo.or.jp
SUMMARY:日本物理療法合同学術大会2024
DESCRIPTION:日時: 2024年1月26日（金） ～ 1月27日（土） \n場所: 奈良県コンペンションセンター \n演題募集期間: 2023年9月1日 ～ 10月31日 \n詳細はこちらから
URL:https://ot-hyogo.or.jp/file/event/%e6%97%a5%e6%9c%ac%e7%89%a9%e7%90%86%e7%99%82%e6%b3%95%e5%90%88%e5%90%8c%e5%ad%a6%e8%a1%93%e5%a4%a7%e4%bc%9a2024
LOCATION:奈良県コンペンションセンター
CATEGORIES:その他主催の研修
END:VEVENT
BEGIN:VEVENT
DTSTART;TZID=Asia/Tokyo:20240120T132000
DTEND;TZID=Asia/Tokyo:20240120T163000
DTSTAMP:20260422T083650
CREATED:20231127T061849Z
LAST-MODIFIED:20231127T063951Z
UID:2081-1705756800-1705768200@ot-hyogo.or.jp
SUMMARY:人材育成研修会 STEP Ⅲ【介護予防】締切1.10
DESCRIPTION:－\n　チラシのダウンロードはこちら\n－\n\n－\n　チラシのダウンロードはこちら\n－
URL:https://ot-hyogo.or.jp/file/event/2081
LOCATION:アクリエひめじ
CATEGORIES:その他主催の研修
END:VEVENT
BEGIN:VEVENT
DTSTART;TZID=Asia/Tokyo:20240114T093000
DTEND;TZID=Asia/Tokyo:20240114T130000
DTSTAMP:20260422T083650
CREATED:20231222T050927Z
LAST-MODIFIED:20231222T050927Z
UID:2201-1705224600-1705237200@ot-hyogo.or.jp
SUMMARY:【主催】和歌山県作業療法士会 ：令和５年度現職者選択研修「精神障害領域の作業療法」
DESCRIPTION:【内容】令和５年度現職者選択研修「精神障害領域の作業療法」 \n  \n【日時】令和6年1月14日（日）・1月21日（日）　両日ともに9：30～12：40 \n  \n【開催方法】オンライン開催（Zoom） \n  \n【参加費】4\,000円（参加資格：今年度の日本作業療法士協会、都道府県作業療法士会の年会費納入済みの方） \n  \n【参加申込方法】 \n《Googleフォーム》〔申込み締め切り　令和6年1月5日（金）〕 \n下記のURLもしくはQRコードから必要事項をご記入いただきます。 \nhttps://forms.gle/qumvFSdwto2tPMor6 \n  \n【参加チケットの購入方法】 \n《PASSMARKET》〔チケット購入期限　令和5年1月8日（月）〕 \n下記のサイトから参加チケットを１枚ご購入下さい。 \nhttps://passmarket.yahoo.co.jp/event/show/detail/02t39h5m8me31.html \n（キャンセルポリシー） \n一日、一講義の参加でも4\,000円になります。くれぐれも、お間違いのないようご購入ください。 \n無断キャンセルの場合はご返金いたしかねますので、ご了承ください。 \n  \n【主催】和歌山県作業療法士会 \n  \n【お問い合わせ】和歌山県作業療法士会　事務局 \n  \n【注意事項】参加申込み期限とチケット購入期限が異なりますので、ご確認ください。 \n和歌山県作業療法士会　掲載HPはこちらから \n詳細チラシはこちらから
URL:https://ot-hyogo.or.jp/file/event/%e3%80%90%e4%b8%bb%e5%82%ac%e3%80%91%e5%92%8c%e6%ad%8c%e5%b1%b1%e7%9c%8c%e4%bd%9c%e6%a5%ad%e7%99%82%e6%b3%95%e5%a3%ab%e4%bc%9a-%ef%bc%9a%e4%bb%a4%e5%92%8c%ef%bc%95%e5%b9%b4%e5%ba%a6%e7%8f%be%e8%81%b7
LOCATION:オンライン(Zoom)
CATEGORIES:その他主催の研修
END:VEVENT
BEGIN:VEVENT
DTSTART;TZID=Asia/Tokyo:20240113T093000
DTEND;TZID=Asia/Tokyo:20240113T170000
DTSTAMP:20260422T083650
CREATED:20231117T032454Z
LAST-MODIFIED:20231117T032454Z
UID:2039-1705138200-1705165200@ot-hyogo.or.jp
SUMMARY:第９回京都府作業療法学会
DESCRIPTION:第9回京都府作業療法学会\n\n「学会テーマ」手間と覚悟 \n\n\n日時：2024年1月13日（土）　9時30分～16時40分\n場所：ハイブリッド開催 （ハートピア京都・オンライン参加） \n詳細はこちらから
URL:https://ot-hyogo.or.jp/file/event/%e7%ac%ac%ef%bc%99%e5%9b%9e%e4%ba%ac%e9%83%bd%e5%ba%9c%e4%bd%9c%e6%a5%ad%e7%99%82%e6%b3%95%e5%ad%a6%e4%bc%9a
LOCATION:会場参加 と Web 参加 による ハイブリッド開催
CATEGORIES:その他主催の研修
END:VEVENT
BEGIN:VEVENT
DTSTART;TZID=Asia/Tokyo:20240107T093000
DTEND;TZID=Asia/Tokyo:20240107T170000
DTSTAMP:20260422T083650
CREATED:20231215T045334Z
LAST-MODIFIED:20231215T045334Z
UID:2168-1704619800-1704646800@ot-hyogo.or.jp
SUMMARY:兵庫県理学療法士会研修「神経リハビリテーションの未来を考える」
DESCRIPTION:
URL:https://ot-hyogo.or.jp/file/event/%e5%85%b5%e5%ba%ab%e7%9c%8c%e7%90%86%e5%ad%a6%e7%99%82%e6%b3%95%e5%a3%ab%e4%bc%9a%e7%a0%94%e4%bf%ae%e3%80%8c%e7%a5%9e%e7%b5%8c%e3%83%aa%e3%83%8f%e3%83%93%e3%83%aa%e3%83%86%e3%83%bc%e3%82%b7%e3%83%a7
LOCATION:垂水レバンテホール
CATEGORIES:その他主催の研修
END:VEVENT
BEGIN:VEVENT
DTSTART;TZID=Asia/Tokyo:20231217T100000
DTEND;TZID=Asia/Tokyo:20231217T133000
DTSTAMP:20260422T083650
CREATED:20231110T041233Z
LAST-MODIFIED:20231110T041233Z
UID:2021-1702807200-1702819800@ot-hyogo.or.jp
SUMMARY:奈良県作業療法士会事業部主催　第2回事業部研修会
DESCRIPTION:奈良県作業療法士会事業部主催　第2回事業部研修会 \n〇日時：令和5年12月17日　日曜日　10時～13時10分 \n〇講師：地方独立行政法人 大阪府立病院機構 大阪精神医療センター \n認定作業療法士 南 庄一郎 先生 \n〇講座名：「臨床実践に必要な事例報告のまとめ方ー臨床家が実践を報告する意義とはー」 \n〇形式：オンライン講座(ズーム使用) \n〇受講費：都道府県士会員　無料　　非会員　受講不可　　他職種　無料 \n詳細チラシはこちらから↓ \n一社)奈良県作業療法会主催　令和5年度 第2回事業部研修会 臨床実践に必要な事例報告のまとめ方
URL:https://ot-hyogo.or.jp/file/event/%e5%a5%88%e8%89%af%e7%9c%8c%e4%bd%9c%e6%a5%ad%e7%99%82%e6%b3%95%e5%a3%ab%e4%bc%9a%e4%ba%8b%e6%a5%ad%e9%83%a8%e4%b8%bb%e5%82%ac%e3%80%80%e7%ac%ac2%e5%9b%9e%e4%ba%8b%e6%a5%ad%e9%83%a8%e7%a0%94%e4%bf%ae
LOCATION:WEB
CATEGORIES:その他主催の研修
END:VEVENT
BEGIN:VEVENT
DTSTART;TZID=Asia/Tokyo:20231210T130000
DTEND;TZID=Asia/Tokyo:20231210T170000
DTSTAMP:20260422T083650
CREATED:20231031T024404Z
LAST-MODIFIED:20231031T024404Z
UID:1967-1702213200-1702227600@ot-hyogo.or.jp
SUMMARY:兵庫県プライマリ・ケア協議会令和5年度研究集会
DESCRIPTION:
URL:https://ot-hyogo.or.jp/file/event/%e5%85%b5%e5%ba%ab%e7%9c%8c%e3%83%97%e3%83%a9%e3%82%a4%e3%83%9e%e3%83%aa%e3%83%bb%e3%82%b1%e3%82%a2%e5%8d%94%e8%ad%b0%e4%bc%9a%e4%bb%a4%e5%92%8c5%e5%b9%b4%e5%ba%a6%e7%a0%94%e7%a9%b6%e9%9b%86%e4%bc%9a
LOCATION:兵庫県医師会館
CATEGORIES:その他主催の研修
END:VEVENT
BEGIN:VEVENT
DTSTART;VALUE=DATE:20231209
DTEND;VALUE=DATE:20231211
DTSTAMP:20260422T083650
CREATED:20231107T015332Z
LAST-MODIFIED:20231107T015332Z
UID:2004-1702080000-1702252799@ot-hyogo.or.jp
SUMMARY:令和５年度在宅リハビリテーション従事者研修会《通所リハ編》
DESCRIPTION:【オンライン開催】令和５年度在宅リハビリテーション従事者研修会《通所リハ編》 \n【主催】リハビリテーション専門職団体協議会（日本理学療法士協会、日本作業療法士協会、日本言語聴覚士協会） \n【要旨】少子高齢社会対策として、地域包括ケアシステムの構築と持続可能な社会の実現に向けて、矢継ぎ早に社会保障制度が見直されています。 \n在宅リハビリテーションにおいては、高齢であっても、認知機能の低下があっても、障害があっても、病気療養をしていても、心身機能の回復だけでなく、 \nその人の持っている強みを活かして役割や社会参加活動につなげる暮らし作りが求められています。 \n一方、これまで通所介護に従事する療法士のための系統的な人材育成プログラムがなく、各事業所において手探りでの運営がなされてきた経緯があります。 \nそこで、本研修会において、通所リハにおける運営の基礎から、実務の具体的な進め方、これからの療法士の役割に関してトータルに学びたいと思います。 \n■日　　時 　2023年12月9日（土）～12月10日(日） \n■対象者　理学療法士・作業療法士・言語聴覚士、その他 \n■参加費　日本理学療法士協会・日本作業療法士協会・日本言語聴覚士協会 \n会員　…13\,000円（税込） \n非会員…18\,500円（税込） \n■チラシ　　　　在宅リハビリテーション従事者研修会（通所リハ編） \n■ホームページ　http://www.hvrpf.jp/4440 \n■詳　細　　https://www.gene-llc.jp/secretariat/46/ \n■お申込みURL　　https://ws.formzu.net/fgen/S80186303/ \n■申込期限　11月23日（木）まで
URL:https://ot-hyogo.or.jp/file/event/%e4%bb%a4%e5%92%8c%ef%bc%95%e5%b9%b4%e5%ba%a6%e5%9c%a8%e5%ae%85%e3%83%aa%e3%83%8f%e3%83%93%e3%83%aa%e3%83%86%e3%83%bc%e3%82%b7%e3%83%a7%e3%83%b3%e5%be%93%e4%ba%8b%e8%80%85%e7%a0%94%e4%bf%ae%e4%bc%9a
LOCATION:WEB
CATEGORIES:その他主催の研修
END:VEVENT
END:VCALENDAR