BEGIN:VCALENDAR
VERSION:2.0
PRODID:-//兵庫県作業療法士会　研修案内 - ECPv6.7.0//NONSGML v1.0//EN
CALSCALE:GREGORIAN
METHOD:PUBLISH
X-ORIGINAL-URL:https://ot-hyogo.or.jp/file
X-WR-CALDESC:兵庫県作業療法士会　研修案内 のイベント
REFRESH-INTERVAL;VALUE=DURATION:PT1H
X-Robots-Tag:noindex
X-PUBLISHED-TTL:PT1H
BEGIN:VTIMEZONE
TZID:Asia/Tokyo
BEGIN:STANDARD
TZOFFSETFROM:+0900
TZOFFSETTO:+0900
TZNAME:JST
DTSTART:20240101T000000
END:STANDARD
END:VTIMEZONE
BEGIN:VEVENT
DTSTART;TZID=Asia/Tokyo:20241012T080000
DTEND;TZID=Asia/Tokyo:20241013T170000
DTSTAMP:20260422T052513
CREATED:20240722T010030Z
LAST-MODIFIED:20240722T010030Z
UID:2835-1728720000-1728838800@ot-hyogo.or.jp
SUMMARY:2024 年度日本パラスポーツ協会公認 中級パラスポーツ指導者養成講習会
DESCRIPTION:●主催\n一般社団法人日本作業療法士協会 \n●日程と会場（全 4 日）\n①座学（オンライン）\n2024 年10 月12 日（土）・13 日（日）【Ａ日程・Ｂ日程共通実施】\n②実技（対面）\n・Ａ日程（東京）※東京の実技会場は1 日目と2 日目で異なりますので、ご注意ください。\n2024 年10 月19 日（土）東京都多摩障害者スポーツセンター（東京都国立市富士見台2 丁目1-1）\n2024 年10 月20 日（日）東京都障害者総合スポーツセンター（東京都北区十条台1 丁目2-2）\n・B 日程（大阪）\n2024 年11 月23 日（土）・24 日（日）大阪市長居障がい者スポーツセンター\n（大阪府大阪市東住吉区長居公園1-32）\n●受講対象者\n日本作業療法士協会会員 \n●受講費\n16\,000 円＋テキスト代（3\,500 円） \n●申込み方法\n日本作業療法士協会ホームページの会員向け情報＞研修会よりお申込みください。\n※ A 日程またはB 日程のどちらかにお申込みください（申込みは先着順ではございません）。\n※ 「備考」欄をご確認ください。 \n作業療法士が積極的にパラスポーツ支援にかかわることで、支援を必要とする方がスポーツを通じて社会参加することができます。本養成講習会を通して活動場所や支援方法等について学び、講師や受講生と交流しながら、ぜひスポーツの良さを「活動」や「参加」等に取り入れ、「意味のある活動」へつなげていただきたいと思います。　　　　 　（地域社会振興部 地域事業支援課 スポーツ振興班）
URL:https://ot-hyogo.or.jp/file/event/2024-%e5%b9%b4%e5%ba%a6%e6%97%a5%e6%9c%ac%e3%83%91%e3%83%a9%e3%82%b9%e3%83%9d%e3%83%bc%e3%83%84%e5%8d%94%e4%bc%9a%e5%85%ac%e8%aa%8d-%e4%b8%ad%e7%b4%9a%e3%83%91%e3%83%a9%e3%82%b9%e3%83%9d%e3%83%bc
LOCATION:WEB
CATEGORIES:その他主催の研修
END:VEVENT
BEGIN:VEVENT
DTSTART;VALUE=DATE:20241013
DTEND;VALUE=DATE:20241015
DTSTAMP:20260422T052513
CREATED:20240827T013852Z
LAST-MODIFIED:20240827T013852Z
UID:2971-1728777600-1728950399@ot-hyogo.or.jp
SUMMARY:第23回兵庫医科大学呼吸リハビリテーションセミナー
DESCRIPTION:<目的>「より臨床に生きるセミナー」をテーマに、呼吸リハビリテーションに関する講義、実技の研修により、その知識や手技を身につけ臨床活動に活かし患者及び社会に貢献する。 \n<対象>呼吸リハビリテーションに関わるすべての医療従事者 \n<開催日時> \n①2024年10月13日(日)　講義コース \n②2024年10月13日(日)、 10月14日(月・祝)　講義+実技コース \n※申し込み時に①か②のいずれかを選択 \n<開催形式>対面方式(実地開催) \n<開催場所>兵庫医科大学(教育研究棟、シミュレーションセンター) \n<定員>①150名、②80名 \n<値段>①15\,000円、②24\,000円 \n<3学会合同呼吸療法認定士>①25点、②50点 \n  \n<タイムスケジュール>(仮) \n1日目（講義）9：00〜17：50（予定） \n・「呼吸のキネシオロジーと呼吸生理」 \n内山侑紀先生（兵庫医科大学リハビリテーション医学講座准教授） \n竹田倫世先生（兵庫医科大学リハビリテーション医学講座助教） \n・「臨床データ・画像から読み解く呼吸の診かた」 \n尾﨑孝平先生（尾﨑塾代表） \n・「心疾患に対する評価とリスク管理の実際」 \n森沢知之先生（順天堂大学保健医療学部准教授） \n・「チーム医療における臨床倫理の知識」 \n氏家良人先生（函館市公営企業管理者病院局長・岡山大学名誉教授） \n・「侵襲からの回復期における早期離床の実際」 \n安藤守秀先生（大垣市民病院副院長） \n・「呼吸器疾患に対する運動療法の理論と実践」 \n笹沼直樹先生（兵庫医科大学病院リハビリテーション技術部部長） \n・「急性期の呼吸管理」 \n今中秀光先生（宝塚市立病院病院長） \n  \n  \n  \n2日目（実技）　9：00〜16：50 (予定) \n・「呼吸リハビリテーションに必要な体表解剖」 \n森沢知之先生（順天堂大学保健医療学部准教授） \n・「呼吸のアセスメント（視診・触診・聴診・打診）」 \n眞渕敏先生（みどりヶ丘病院リハビリテーション科） \n・「呼吸介助手技」 \n眞渕敏先生（みどりヶ丘病院リハビリテーション科） \n・「呼吸リハビリテーションの総まとめ　臨床の実際」 \n兵庫医科大学病院リハビリテーション技術部スタッフ \n  \n<HP> \nNPO法人リハビリテーション医療推進機CRASEED \nhttp://craseed.sakura.ne.jp/seminar/2024/2024101314.html \n＜申し込み方法＞ \n上記URLより申し込み可能です。 \n＜申し込み期日＞ \n定員に達し次第終了 \n<お問い合わせ> \nhyoreha.resp@gmail.com までお問い合わせ下さい。
URL:https://ot-hyogo.or.jp/file/event/%e7%ac%ac23%e5%9b%9e%e5%85%b5%e5%ba%ab%e5%8c%bb%e7%a7%91%e5%a4%a7%e5%ad%a6%e5%91%bc%e5%90%b8%e3%83%aa%e3%83%8f%e3%83%93%e3%83%aa%e3%83%86%e3%83%bc%e3%82%b7%e3%83%a7%e3%83%b3%e3%82%bb%e3%83%9f%e3%83%8a
LOCATION:兵庫医科大学(教育研究棟、シミュレーションセンター)
CATEGORIES:その他主催の研修
END:VEVENT
BEGIN:VEVENT
DTSTART;TZID=Asia/Tokyo:20241024T190000
DTEND;TZID=Asia/Tokyo:20241024T203000
DTSTAMP:20260422T052513
CREATED:20240626T120754Z
LAST-MODIFIED:20240704T071431Z
UID:2761-1729796400-1729801800@ot-hyogo.or.jp
SUMMARY:【主催】大阪府作業療法士会「令和6年度 組織率向上に向けた研修会」のご案内
DESCRIPTION:【日時】2024年10月24日(木)　19：00 – 20：30（18：30 – 受付開始）\n【会場】ZOOMにてオンライン開催\n【参加費】無料\n【お申込み】 https://forms.gle/kiWad7NaMtw87o149\n–\n　チラシのダウンロードはこちら\n–
URL:https://ot-hyogo.or.jp/file/event/2761
LOCATION:オンライン(Zoom)
CATEGORIES:その他主催の研修
END:VEVENT
BEGIN:VEVENT
DTSTART;TZID=Asia/Tokyo:20241028T190000
DTEND;TZID=Asia/Tokyo:20241028T210000
DTSTAMP:20260422T052513
CREATED:20241002T052438Z
LAST-MODIFIED:20241002T052438Z
UID:3177-1730142000-1730149200@ot-hyogo.or.jp
SUMMARY:【主催：滋賀県作業療法士会】MTDLP事例のファシリーテートのポイント
DESCRIPTION:【内容】MTDLP事例のファシリーテートのポイント \n【講師】林辰博先生（大阪医療福祉専門学校） \n【日時】2024年10月28日（月）19:00～21:00 \n【開催方法】オンライン開催（Zoom） \n【参加費】他都道府県士会員　1500円　OT協会・都道府県士会未加入のOT:8000円 \n【申込方法】下記 URLよりお申し込み下さい。 \nhttps://mtdlpkensyu-3.peatix.com \n【主催】滋賀県作業療法士会MTDLP推進教育部
URL:https://ot-hyogo.or.jp/file/event/%e3%80%90%e4%b8%bb%e5%82%ac%ef%bc%9a%e6%bb%8b%e8%b3%80%e7%9c%8c%e4%bd%9c%e6%a5%ad%e7%99%82%e6%b3%95%e5%a3%ab%e4%bc%9a%e3%80%91mtdlp%e4%ba%8b%e4%be%8b%e3%81%ae%e3%83%95%e3%82%a1%e3%82%b7%e3%83%aa
LOCATION:オンライン(Zoom)
CATEGORIES:その他主催の研修
END:VEVENT
BEGIN:VEVENT
DTSTART;TZID=Asia/Tokyo:20241103T100000
DTEND;TZID=Asia/Tokyo:20241103T160000
DTSTAMP:20260422T052513
CREATED:20241008T033905Z
LAST-MODIFIED:20241008T033905Z
UID:3224-1730628000-1730649600@ot-hyogo.or.jp
SUMMARY:中級パラスポーツ指導員と一緒にパラスポーツを体験しよう！
DESCRIPTION:
URL:https://ot-hyogo.or.jp/file/event/%e4%b8%ad%e7%b4%9a%e3%83%91%e3%83%a9%e3%82%b9%e3%83%9d%e3%83%bc%e3%83%84%e6%8c%87%e5%b0%8e%e5%93%a1%e3%81%a8%e4%b8%80%e7%b7%92%e3%81%ab%e3%83%91%e3%83%a9%e3%82%b9%e3%83%9d%e3%83%bc%e3%83%84%e3%82%92
LOCATION:しあわせの村
CATEGORIES:その他主催の研修
END:VEVENT
BEGIN:VEVENT
DTSTART;TZID=Asia/Tokyo:20241106T100000
DTEND;TZID=Asia/Tokyo:20241109T120000
DTSTAMP:20260422T052513
CREATED:20240216T032251Z
LAST-MODIFIED:20240220T030907Z
UID:2474-1730887200-1731153600@ot-hyogo.or.jp
SUMMARY:第 8 回アジア太平洋作業療法学会
DESCRIPTION:学会正式名称：第 8 回アジア太平洋作業療法学会\n主催：一般社団法人日本作業療法士協会　アジア太平洋作業療法学会実行委員会\n会場：札幌コンベンションセンター（北海道）\n会期：2024年11月6日～9日\nテーマ：互いに支えあう地域づくり―持続可能で根拠に基づいた作業療法―\n公式言語：英語 \n大会HPはコチラ
URL:https://ot-hyogo.or.jp/file/event/2474
LOCATION:札幌コンベンションセンター
CATEGORIES:その他主催の研修
END:VEVENT
BEGIN:VEVENT
DTSTART;TZID=Asia/Tokyo:20241109T090000
DTEND;TZID=Asia/Tokyo:20241110T120000
DTSTAMP:20260422T052513
CREATED:20240216T031111Z
LAST-MODIFIED:20240216T031111Z
UID:2466-1731142800-1731240000@ot-hyogo.or.jp
SUMMARY:第５８回日本作業療法学会
DESCRIPTION:大会名：第58回日本作業療法学会\nテーマ：作業療法の効果を最大化する知識・技術・環境を問う\n会期：​2024年11月9日（土）～10日（日）（日曜日午前で終了）\n　　　※現地開催に加えて、 ライブ配信（一部）、オンデマンド配信を予定しています。\n会場：札幌コンベンションセンター\n　　　〒003-0006 札幌市⽩⽯区東札幌6条1丁⽬1-1\n主催：一般社団法人　日本作業療法士協会\n学会長：​仙石　泰仁（札幌医科大学保健医療学部）\n副学会長：​能登　真一（新潟医療福祉大学リハビリテーション学部） \n運営事務局：​株式会社コンベンションリンケージ内\n　　　　　　〒060-0001　札幌市中央区北1条西2丁目1　札幌時計台ビル 3階\n　　　　　　TEL：011-272-2151／FAX：011-272-2152\n　　　　　　E-mail：ot58@c-linkage.co.jp \n大会HPはコチラ
URL:https://ot-hyogo.or.jp/file/event/%e7%ac%ac%ef%bc%95%ef%bc%98%e5%9b%9e%e6%97%a5%e6%9c%ac%e4%bd%9c%e6%a5%ad%e7%99%82%e6%b3%95%e5%ad%a6%e4%bc%9a
LOCATION:札幌コンベンションセンター
CATEGORIES:その他主催の研修
END:VEVENT
BEGIN:VEVENT
DTSTART;TZID=Asia/Tokyo:20241116T130000
DTEND;TZID=Asia/Tokyo:20241116T170000
DTSTAMP:20260422T052513
CREATED:20241010T022011Z
LAST-MODIFIED:20241010T022429Z
UID:3230-1731762000-1731776400@ot-hyogo.or.jp
SUMMARY:兵庫県栄養士会-植物油講演会
DESCRIPTION:＜植物油講演会＞ \n日時：令和6年11月16日（土） \n会場：ラッセホールB1階リリー＋オンライン（ハイブリッド開催） \n申込方法：下記URLよりお申込みを受け付けております。 \nhttps://www.eiyou-hyogo.or.jp/publics/index/245/#page-content \nその他詳細は、植物油講演会チラシ2024をご参照ください。
URL:https://ot-hyogo.or.jp/file/event/3230
LOCATION:ハイブリッド開催
CATEGORIES:その他主催の研修
END:VEVENT
BEGIN:VEVENT
DTSTART;TZID=Asia/Tokyo:20241117T140000
DTEND;TZID=Asia/Tokyo:20241117T153000
DTSTAMP:20260422T052513
CREATED:20240925T014058Z
LAST-MODIFIED:20240925T014205Z
UID:3106-1731852000-1731857400@ot-hyogo.or.jp
SUMMARY:【主催　歯科衛生士会】健康公開講座
DESCRIPTION:  \nFAX申込書はこちらから
URL:https://ot-hyogo.or.jp/file/event/%e3%80%90%e4%b8%bb%e5%82%ac%e3%80%80%e6%ad%af%e7%a7%91%e8%a1%9b%e7%94%9f%e5%a3%ab%e4%bc%9a%e3%80%91%e5%81%a5%e5%ba%b7%e5%85%ac%e9%96%8b%e8%ac%9b%e5%ba%a7
LOCATION:兵庫県学校厚生会館３階大会議室
CATEGORIES:その他主催の研修
END:VEVENT
BEGIN:VEVENT
DTSTART;VALUE=DATE:20241121
DTEND;VALUE=DATE:20241123
DTSTAMP:20260422T052513
CREATED:20240828T011635Z
LAST-MODIFIED:20240828T011635Z
UID:2982-1732147200-1732319999@ot-hyogo.or.jp
SUMMARY:日本精神科医学会　学術教育研修会　作業療法士部門
DESCRIPTION:研修会：日本精神科医学会　学術教育研修会　作業療法士部門 \n「地域とつながる実践力」 \n～多様性と専門性を期待する精神科作業療法～ \n主催：公益社団法人日本精神科病院協会　日本精神科医学会 \n開催日：令和6年11月21日(木)～11月22日(金) \n開催場所：松山市総合コミュニティセンター \n参加資格：精神科医療に関与している作業療法士もしくはこれに準ずる者 \n参加費： \n①日本精神科医学会　会員（日本精神科病院協会　会員）日本精神科医学会　準会員 \n1名　15\,000円 \n②会員外 \n1名　25\,000円 \n③学生 \n1名　5\,000円 \n申込み、研修会詳細URL： \nhttps://www.nisseikyo.or.jp/education/kenshuukai/gakujutsukenshu/sagyouryouhoushibumon.php \nお問合せ： \n日本精神科病院協会 愛媛県支部事務局 \n医療法人光佑会くろだ病院 担当：中村 \nTEL：089-984-1201 \nMail：sagyo2004@kuroda.or.jp
URL:https://ot-hyogo.or.jp/file/event/%e6%97%a5%e6%9c%ac%e7%b2%be%e7%a5%9e%e7%a7%91%e5%8c%bb%e5%ad%a6%e4%bc%9a%e3%80%80%e5%ad%a6%e8%a1%93%e6%95%99%e8%82%b2%e7%a0%94%e4%bf%ae%e4%bc%9a%e3%80%80%e4%bd%9c%e6%a5%ad%e7%99%82%e6%b3%95%e5%a3%ab
LOCATION:松山市総合コミュニティセンター
CATEGORIES:その他主催の研修
END:VEVENT
BEGIN:VEVENT
DTSTART;TZID=Asia/Tokyo:20241121T180000
DTEND;TZID=Asia/Tokyo:20241121T210000
DTSTAMP:20260422T052513
CREATED:20240910T043834Z
LAST-MODIFIED:20240910T043834Z
UID:3055-1732212000-1732222800@ot-hyogo.or.jp
SUMMARY:神戸市立医療センター中央市民病院　地域連携懇話会（ハイブリッド開催）開催案内
DESCRIPTION:【日時】令和6年11月21日(木)18：00～20：50 \n【会場】神戸ポートピアホテル　本館地下1階＠偕楽\n　　　　〒650-0046　兵庫県神戸市中央区港島中町6丁目10-1\n【参加費】第1部　　 無料\n　　　　　第2部　2\,000円\n\n  \n詳細はこちらから \n 
URL:https://ot-hyogo.or.jp/file/event/%e7%a5%9e%e6%88%b8%e5%b8%82%e7%ab%8b%e5%8c%bb%e7%99%82%e3%82%bb%e3%83%b3%e3%82%bf%e3%83%bc%e4%b8%ad%e5%a4%ae%e5%b8%82%e6%b0%91%e7%97%85%e9%99%a2%e3%80%80%e5%9c%b0%e5%9f%9f%e9%80%a3%e6%90%ba%e6%87%87
LOCATION:神戸ポートピアホテル　本館地下1階＠偕楽
CATEGORIES:その他主催の研修
END:VEVENT
BEGIN:VEVENT
DTSTART;VALUE=DATE:20241123
DTEND;VALUE=DATE:20241125
DTSTAMP:20260422T052513
CREATED:20240917T043247Z
LAST-MODIFIED:20240917T043247Z
UID:3082-1732320000-1732492799@ot-hyogo.or.jp
SUMMARY:SST普及協会　30周年記念事業　プレ大会
DESCRIPTION:  \n詳細はこちらから
URL:https://ot-hyogo.or.jp/file/event/sst%e6%99%ae%e5%8f%8a%e5%8d%94%e4%bc%9a%e3%80%8030%e5%91%a8%e5%b9%b4%e8%a8%98%e5%bf%b5%e4%ba%8b%e6%a5%ad%e3%80%80%e3%83%97%e3%83%ac%e5%a4%a7%e4%bc%9a
LOCATION:帝京平成大学　池袋キャンパス
CATEGORIES:その他主催の研修
END:VEVENT
BEGIN:VEVENT
DTSTART;VALUE=DATE:20241123
DTEND;VALUE=DATE:20241125
DTSTAMP:20260422T052513
CREATED:20240927T035721Z
LAST-MODIFIED:20240927T035721Z
UID:3113-1732320000-1732492799@ot-hyogo.or.jp
SUMMARY:訪問リハビリテーション管理者養成研修会STEP2
DESCRIPTION:＜訪問リハビリテーション管理者養成研修会STEP2＞ \n【ご案内】 \nリハビリテーション専門職団体協議会（PT・OT・ST協会）主催の研修会です。 \nSTEP2では『管理スキルを高め事業所の組織化をどのように推し進めればいいかを学ぶ』をテーマに、STEP1からステップアップした事業運営に必要な法令や組織作りについて学びます。 \n役職に関わらず、ご自身の資質・能力向上等のためにも ぜひご参加ください。 \n  \n【開催日】 \n2024年11月23日（土）～24日（日） \n  \n【対象】 \nSTEP1修了者 \n  \nスケジュール+開催予定　訪問リハビリテーション管理者養成研修会STEP2 \n  \n【詳細】 \n振興財団：http://www.hvrpf.jp/4690 \n株式会社gene：https://www.gene-llc.jp/secretariat/54/
URL:https://ot-hyogo.or.jp/file/event/%e8%a8%aa%e5%95%8f%e3%83%aa%e3%83%8f%e3%83%93%e3%83%aa%e3%83%86%e3%83%bc%e3%82%b7%e3%83%a7%e3%83%b3%e7%ae%a1%e7%90%86%e8%80%85%e9%a4%8a%e6%88%90%e7%a0%94%e4%bf%ae%e4%bc%9astep2
LOCATION:オンライン(Zoom)
CATEGORIES:その他主催の研修
END:VEVENT
BEGIN:VEVENT
DTSTART;TZID=Asia/Tokyo:20241207T090000
DTEND;TZID=Asia/Tokyo:20241208T170000
DTSTAMP:20260422T052513
CREATED:20240530T025212Z
LAST-MODIFIED:20240530T025212Z
UID:2677-1733562000-1733677200@ot-hyogo.or.jp
SUMMARY:日本デイケア学会 第29回 年次大会 兵庫大会
DESCRIPTION:【会期】2024年12月7日(土)・8日(日)\n【会場】神戸商工会議所会館\n【演題募集期間】2024年5月10日(金)～7月22日(月)\nhttps://www.daycare.gr.jp/29th/ \n 
URL:https://ot-hyogo.or.jp/file/event/%e6%97%a5%e6%9c%ac%e3%83%87%e3%82%a4%e3%82%b1%e3%82%a2%e5%ad%a6%e4%bc%9a-%e7%ac%ac29%e5%9b%9e-%e5%b9%b4%e6%ac%a1%e5%a4%a7%e4%bc%9a-%e5%85%b5%e5%ba%ab%e5%a4%a7%e4%bc%9a
LOCATION:神戸商工会議所会館
CATEGORIES:その他主催の研修
END:VEVENT
BEGIN:VEVENT
DTSTART;TZID=Asia/Tokyo:20241208T130000
DTEND;TZID=Asia/Tokyo:20241208T163000
DTSTAMP:20260422T052513
CREATED:20241016T020716Z
LAST-MODIFIED:20241016T020716Z
UID:3265-1733662800-1733675400@ot-hyogo.or.jp
SUMMARY:令和6年度兵庫県高次脳機能障害リハビリテーション講習会
DESCRIPTION:
URL:https://ot-hyogo.or.jp/file/event/%e4%bb%a4%e5%92%8c6%e5%b9%b4%e5%ba%a6%e5%85%b5%e5%ba%ab%e7%9c%8c%e9%ab%98%e6%ac%a1%e8%84%b3%e6%a9%9f%e8%83%bd%e9%9a%9c%e5%ae%b3%e3%83%aa%e3%83%8f%e3%83%93%e3%83%aa%e3%83%86%e3%83%bc%e3%82%b7%e3%83%a7
LOCATION:ハイブリッド開催
CATEGORIES:その他主催の研修
END:VEVENT
BEGIN:VEVENT
DTSTART;TZID=Asia/Tokyo:20241214T100000
DTEND;TZID=Asia/Tokyo:20241215T153000
DTSTAMP:20260422T052513
CREATED:20241017T020448Z
LAST-MODIFIED:20241017T020448Z
UID:3272-1734170400-1734276600@ot-hyogo.or.jp
SUMMARY:令和６年度在宅リハビリテーション従事者研修会　通所リハ編
DESCRIPTION:
URL:https://ot-hyogo.or.jp/file/event/%e4%bb%a4%e5%92%8c%ef%bc%96%e5%b9%b4%e5%ba%a6%e5%9c%a8%e5%ae%85%e3%83%aa%e3%83%8f%e3%83%93%e3%83%aa%e3%83%86%e3%83%bc%e3%82%b7%e3%83%a7%e3%83%b3%e5%be%93%e4%ba%8b%e8%80%85%e7%a0%94%e4%bf%ae%e4%bc%9a
LOCATION:WEB
CATEGORIES:その他主催の研修
END:VEVENT
BEGIN:VEVENT
DTSTART;TZID=Asia/Tokyo:20241215T133000
DTEND;TZID=Asia/Tokyo:20241215T183000
DTSTAMP:20260422T052513
CREATED:20241021T052303Z
LAST-MODIFIED:20241021T053002Z
UID:3292-1734269400-1734287400@ot-hyogo.or.jp
SUMMARY:「ケアマネジャー＆リハビリテーション専門職ジョイント研修会」締切12.8
DESCRIPTION:－\n　チラシのダウンロードはこちら\n－\n\n－\n　チラシのダウンロードはこちら\n－
URL:https://ot-hyogo.or.jp/file/event/3292
LOCATION:三宮コンベンションセンター
CATEGORIES:その他主催の研修
END:VEVENT
BEGIN:VEVENT
DTSTART;TZID=Asia/Tokyo:20241222T130000
DTEND;TZID=Asia/Tokyo:20241222T170000
DTSTAMP:20260422T052513
CREATED:20241113T015550Z
LAST-MODIFIED:20241113T015550Z
UID:3363-1734872400-1734886800@ot-hyogo.or.jp
SUMMARY:兵庫県プライマリ・ケア協議会　令和6年度研究集会
DESCRIPTION:
URL:https://ot-hyogo.or.jp/file/event/%e5%85%b5%e5%ba%ab%e7%9c%8c%e3%83%97%e3%83%a9%e3%82%a4%e3%83%9e%e3%83%aa%e3%83%bb%e3%82%b1%e3%82%a2%e5%8d%94%e8%ad%b0%e4%bc%9a%e3%80%80%e4%bb%a4%e5%92%8c6%e5%b9%b4%e5%ba%a6%e7%a0%94%e7%a9%b6%e9%9b%86
LOCATION:兵庫県医師会館
CATEGORIES:その他主催の研修
END:VEVENT
BEGIN:VEVENT
DTSTART;TZID=Asia/Tokyo:20250112T093000
DTEND;TZID=Asia/Tokyo:20250112T163000
DTSTAMP:20260422T052513
CREATED:20241018T034241Z
LAST-MODIFIED:20241018T034241Z
UID:3276-1736674200-1736699400@ot-hyogo.or.jp
SUMMARY:【主催：からだリハビリ支援 Revival LAB】脳卒中上肢機能アプローチ研修会
DESCRIPTION:  \n申込はこちらから
URL:https://ot-hyogo.or.jp/file/event/%e3%80%90%e4%b8%bb%e5%82%ac%ef%bc%9a%e3%81%8b%e3%82%89%e3%81%a0%e3%83%aa%e3%83%8f%e3%83%93%e3%83%aa%e6%94%af%e6%8f%b4-revival-lab%e3%80%91%e8%84%b3%e5%8d%92%e4%b8%ad%e4%b8%8a%e8%82%a2%e6%a9%9f
LOCATION:兵庫県総合リハビリテーションセンター福祉のまちづくり研究所
CATEGORIES:その他主催の研修
END:VEVENT
BEGIN:VEVENT
DTSTART;TZID=Asia/Tokyo:20250112T133000
DTEND;TZID=Asia/Tokyo:20250112T163000
DTSTAMP:20260422T052513
CREATED:20241203T034021Z
LAST-MODIFIED:20241203T034021Z
UID:3414-1736688600-1736699400@ot-hyogo.or.jp
SUMMARY:【主催】 神奈川県作業療法士会 「作業機能障害とSTOD」を学び、新たな精神科作業療法の実践に役立てよう」
DESCRIPTION:【研修会】 \n「作業機能障害STOD」を学び 新たな精神科作業療法の実践に役立てよう!! \n【主催】 \n神奈川県作業療法士会 \n【開催地、会場】 \n遠隔会議アプリ「Zoom」 \n※受付完了後準備が出来次第、ZoomのURLをメールでご案内いたします。 \n【開催日時】 \n2025(令和7)年 1 月12日(日)zoom 開始 13:15 研修開始 13:30~16:30 \n【研修内容】 \n昨年、好評だった研修の第2弾です。今回は臨床での実践も多く加え、より理解を深める企画にしました。 \n初めての参加の方でも分かりやすい内容となっていますので、ぜひご参加ください。 \n  \n詳細URL：https://peatix.com/event/4212624 \n【参加費】 \n神奈川県以外の都道府県の作業療法士の方：1500円 \nその他（作業療法士以外の職種・お立場の方）：1000円 \n【申し込み方法】 \nPeatixのURL https://peatix.com/event/4212624から、チケットをご購入ください。 \n  \n【問い合わせ先】 \n神奈川県作業療法士会学術部 \n  \n担当西前英紀(藤沢病院デイケア)　Mail:gakuseisin@gmail.com \n  \n【その他】　　生涯教育ポイント：2ポイント
URL:https://ot-hyogo.or.jp/file/event/%e3%80%90%e4%b8%bb%e5%82%ac%e3%80%91-%e7%a5%9e%e5%a5%88%e5%b7%9d%e7%9c%8c%e4%bd%9c%e6%a5%ad%e7%99%82%e6%b3%95%e5%a3%ab%e4%bc%9a-%e3%80%8c%e4%bd%9c%e6%a5%ad%e6%a9%9f%e8%83%bd%e9%9a%9c%e5%ae%b3%e3%81%a8
LOCATION:WEB
CATEGORIES:その他主催の研修
END:VEVENT
BEGIN:VEVENT
DTSTART;VALUE=DATE:20250118
DTEND;VALUE=DATE:20250120
DTSTAMP:20260422T052513
CREATED:20241202T040503Z
LAST-MODIFIED:20241202T040503Z
UID:3412-1737158400-1737331199@ot-hyogo.or.jp
SUMMARY:訪問リハビリテーション管理者養成研修会STEP3
DESCRIPTION:【ご案内】 \nリハビリテーション専門職団体協議会（PT・OT・ST協会）主催の研修会です。 \nSTEP3では、経営労務管理の視点を持ち、現在から将来に向けての事業運営全体の管理方法を学びます。 \n役職を問わず、ご自身のスキルアップ等のためにもぜひご参加ください。 \n  \n※来年度より、研修形態を変更する予定です。 \nSTEP2まで受講済の方は、ぜひこの機会にSTEP3までご受講ください。 \n  \n※日本理学療法士協会、日本作業療法士協会、日本言語聴覚士協会の生涯学習ポイントが付与されます。 \n  \n【開催日】 \n2025年1月18日（土）～1月19日（日） \n  \n【対象】 \nSTEP2修了者\n【プログラム詳細】 \nプログラム \n  \n【詳細】 \n振興財団：http://www.hvrpf.jp/4783 \n株式会社gene：https://www.gene-llc.jp/secretariat/58/
URL:https://ot-hyogo.or.jp/file/event/%e8%a8%aa%e5%95%8f%e3%83%aa%e3%83%8f%e3%83%93%e3%83%aa%e3%83%86%e3%83%bc%e3%82%b7%e3%83%a7%e3%83%b3%e7%ae%a1%e7%90%86%e8%80%85%e9%a4%8a%e6%88%90%e7%a0%94%e4%bf%ae%e4%bc%9astep3
LOCATION:WEB
CATEGORIES:その他主催の研修
END:VEVENT
BEGIN:VEVENT
DTSTART;TZID=Asia/Tokyo:20250118T153000
DTEND;TZID=Asia/Tokyo:20250118T173000
DTSTAMP:20260422T052513
CREATED:20241211T013808Z
LAST-MODIFIED:20241211T013808Z
UID:3446-1737214200-1737221400@ot-hyogo.or.jp
SUMMARY:2024年度　自殺未遂者支援研修
DESCRIPTION:
URL:https://ot-hyogo.or.jp/file/event/2024%e5%b9%b4%e5%ba%a6%e3%80%80%e8%87%aa%e6%ae%ba%e6%9c%aa%e9%81%82%e8%80%85%e6%94%af%e6%8f%b4%e7%a0%94%e4%bf%ae
LOCATION:ハイブリッド開催
CATEGORIES:その他主催の研修
END:VEVENT
BEGIN:VEVENT
DTSTART;TZID=Asia/Tokyo:20250119T090000
DTEND;TZID=Asia/Tokyo:20250119T170000
DTSTAMP:20260422T052513
CREATED:20241010T022814Z
LAST-MODIFIED:20241010T023032Z
UID:3237-1737277200-1737306000@ot-hyogo.or.jp
SUMMARY:奈良県作業療法士会主催-精神科OT事例検討フェスティバル！
DESCRIPTION:＜研修会名＞精神科OT事例検討フェスティバル！ \n＜日時＞2025年1月19日（日）9:00～17:00 \n＜受講資格＞日本作業療法士協会会員であり、かつ各都道府県作業療法士会会員 \n＜受講料＞ \n・『事例報告』or『事例検討』を履修する場合は、1\,000円 \n・『事例報告』and『事例検討』どちらも履修したい場合は、各1\,000円 \n※両方を履修する場合、発表＋他２事例（90分）以上を聴講する必要あり \n・どちらも履修が済んでいるの場合は、無料 \n＜講義形式＞ZOOMオンライン \n＜内容＞作業療法の本質は、事例検討であると思います。事例検討フェスティバルでは、朝から夜まで、とことん事例についてディスカッションしていきます！ \n＜定員＞90名 \n＜詳細・申込＞naraot.jp/information/263/ \n＜申込み締め切り＞ \n「事例報告」エントリーは12/20、「事例検討」は1/11まで \n＜主催＞奈良県作業療法士会　教育部 \n＜お問い合わせ＞nara.ot.kyoikubu@gmail.com　木納（きのう）潤一
URL:https://ot-hyogo.or.jp/file/event/%e5%a5%88%e8%89%af%e7%9c%8c%e4%bd%9c%e6%a5%ad%e7%99%82%e6%b3%95%e5%a3%ab%e4%bc%9a%e4%b8%bb%e5%82%ac-%e7%b2%be%e7%a5%9e%e7%a7%91ot%e4%ba%8b%e4%be%8b%e6%a4%9c%e8%a8%8e%e3%83%95%e3%82%a7%e3%82%b9
LOCATION:WEB
CATEGORIES:その他主催の研修
END:VEVENT
BEGIN:VEVENT
DTSTART;TZID=Asia/Tokyo:20250125T093000
DTEND;TZID=Asia/Tokyo:20250125T130000
DTSTAMP:20260422T052513
CREATED:20241226T050025Z
LAST-MODIFIED:20241226T050528Z
UID:3504-1737797400-1737810000@ot-hyogo.or.jp
SUMMARY:「人材育成研修会 STEP Ⅲ（地域ケア会議）」締切1.18
DESCRIPTION:－\n　チラシのダウンロードはこちら\n－\n\n－\n　チラシのダウンロードはこちら\n－
URL:https://ot-hyogo.or.jp/file/event/3504
LOCATION:兵庫県学校厚生会館
CATEGORIES:その他主催の研修
END:VEVENT
BEGIN:VEVENT
DTSTART;TZID=Asia/Tokyo:20250125T130000
DTEND;TZID=Asia/Tokyo:20250125T150000
DTSTAMP:20260422T052513
CREATED:20241212T015221Z
LAST-MODIFIED:20241212T015221Z
UID:3456-1737810000-1737817200@ot-hyogo.or.jp
SUMMARY:愛知県作業療法士会主催　他府県の先進的な取り組みを知ろう～移動支援・組織づくりを深めるために～
DESCRIPTION:
URL:https://ot-hyogo.or.jp/file/event/%e6%84%9b%e7%9f%a5%e7%9c%8c%e4%bd%9c%e6%a5%ad%e7%99%82%e6%b3%95%e5%a3%ab%e4%bc%9a%e4%b8%bb%e5%82%ac%e3%80%80%e4%bb%96%e5%ba%9c%e7%9c%8c%e3%81%ae%e5%85%88%e9%80%b2%e7%9a%84%e3%81%aa%e5%8f%96%e3%82%8a
LOCATION:WEB
CATEGORIES:その他主催の研修
END:VEVENT
BEGIN:VEVENT
DTSTART;TZID=Asia/Tokyo:20250201T130000
DTEND;TZID=Asia/Tokyo:20250201T150000
DTSTAMP:20260422T052513
CREATED:20250110T013401Z
LAST-MODIFIED:20250110T013401Z
UID:3532-1738414800-1738422000@ot-hyogo.or.jp
SUMMARY:学校連携のできるセラピスト育成シンポジウム
DESCRIPTION:
URL:https://ot-hyogo.or.jp/file/event/%e5%ad%a6%e6%a0%a1%e9%80%a3%e6%90%ba%e3%81%ae%e3%81%a7%e3%81%8d%e3%82%8b%e3%82%bb%e3%83%a9%e3%83%94%e3%82%b9%e3%83%88%e8%82%b2%e6%88%90%e3%82%b7%e3%83%b3%e3%83%9d%e3%82%b8%e3%82%a6%e3%83%a0
LOCATION:ハイブリッド開催
CATEGORIES:その他主催の研修
END:VEVENT
BEGIN:VEVENT
DTSTART;TZID=Asia/Tokyo:20250208T100000
DTEND;TZID=Asia/Tokyo:20250208T150000
DTSTAMP:20260422T052513
CREATED:20241121T043644Z
LAST-MODIFIED:20250107T082745Z
UID:3390-1739008800-1739026800@ot-hyogo.or.jp
SUMMARY:「人材育成研修会 STEP Ⅲ」締切2.1
DESCRIPTION:－\n　チラシのダウンロードはこちら\n－\n\n－\n　チラシのダウンロードはこちら\n－
URL:https://ot-hyogo.or.jp/file/event/3390
LOCATION:アクリエひめじ
CATEGORIES:その他主催の研修
END:VEVENT
BEGIN:VEVENT
DTSTART;TZID=Asia/Tokyo:20250209T090000
DTEND;TZID=Asia/Tokyo:20250209T120000
DTSTAMP:20260422T052513
CREATED:20250114T053205Z
LAST-MODIFIED:20250114T053205Z
UID:3539-1739091600-1739102400@ot-hyogo.or.jp
SUMMARY:【主催：大阪府作業療法士会】脳卒中患者を対象にしてAI技術のリハビリへの応用
DESCRIPTION:
URL:https://ot-hyogo.or.jp/file/event/%e3%80%90%e4%b8%bb%e5%82%ac%ef%bc%9a%e5%a4%a7%e9%98%aa%e5%ba%9c%e4%bd%9c%e6%a5%ad%e7%99%82%e6%b3%95%e5%a3%ab%e4%bc%9a%e3%80%91%e8%84%b3%e5%8d%92%e4%b8%ad%e6%82%a3%e8%80%85%e3%82%92%e5%af%be%e8%b1%a1
LOCATION:WEB
CATEGORIES:その他主催の研修
END:VEVENT
BEGIN:VEVENT
DTSTART;TZID=Asia/Tokyo:20250209T093000
DTEND;TZID=Asia/Tokyo:20250209T163000
DTSTAMP:20260422T052513
CREATED:20250106T055314Z
LAST-MODIFIED:20250106T055314Z
UID:3514-1739093400-1739118600@ot-hyogo.or.jp
SUMMARY:【主催：群馬県作業療法士会】現職者選択研修（精神領域）
DESCRIPTION:【研修会概要】\n研修名：現職者選択研修（精神領域）\n開催日：令和7年2月9日（日）\n時間：9：30～16：40（受付開始は9：00～）\n形式：オンライン研修（zoom）\n内容：精神科作業療法の基礎知識　講師：群馬医療福祉大学　鈴木一広先生\n精神科作業療法の展開方法　講師：上之原病院　米原浩貴先生\n精神科作業療法の実践　講師：群馬大学医学部付属病院　滝沢伊吹先生\n精神科作業療法関連のトピックス　講師：就労継続支援Ｂ型ふくる　大嶋陽子先生\n対象：日本作業療法士協会会員かつ各都道府県作業療法士会員\n定員：40名\n参加費：4000円\n申込方法：URL：https://peatix.com/event/4185955\nPeatixへアカウント登録し、「群馬県作業療法士会」をフォローの上、当研修会への申し込みを行ってください。\n申込締切：令和7年1月26日（日）\nお問い合わせ先：群馬県作業療法士会 教育部 黒田（日高病院）\nE-mail：hidaka.ot.kyouiku@gmail.com
URL:https://ot-hyogo.or.jp/file/event/%e3%80%90%e4%b8%bb%e5%82%ac%ef%bc%9a%e7%be%a4%e9%a6%ac%e7%9c%8c%e4%bd%9c%e6%a5%ad%e7%99%82%e6%b3%95%e5%a3%ab%e4%bc%9a%e3%80%91%e7%8f%be%e8%81%b7%e8%80%85%e9%81%b8%e6%8a%9e%e7%a0%94%e4%bf%ae%ef%bc%88
LOCATION:WEB
CATEGORIES:その他主催の研修
END:VEVENT
BEGIN:VEVENT
DTSTART;TZID=Asia/Tokyo:20250209T123000
DTEND;TZID=Asia/Tokyo:20250209T153000
DTSTAMP:20260422T052513
CREATED:20241204T020401Z
LAST-MODIFIED:20241204T020401Z
UID:3421-1739104200-1739115000@ot-hyogo.or.jp
SUMMARY:【主催】千葉県作業療法士会 「精神科領域における発達障害の方への作業療法」
DESCRIPTION:【内容】精神科領域における発達障害の方への作業療法 \n  \n【日時】2025年2月9日（日）12:30～15:30 \n  \n【会場】オンラインでの開催 \n  \n【開催方法】オンライン開催（Zoom） \n  \n【参加費】会員 500円(千葉県作業療法士会会員・他県士会会員)非会員 1\,000円(会員以外の方) \n  \n【申込方法】下記 申し込みフォームからお申し込み \n  \n【関連URL】https://docs.google.com/forms/d/e/1FAIpQLSeKLGeXV-OYBkXn5BTIDfm7aJucWCLGdD9cUuu2sh4eqhgfTg/viewform \n  \n【主催】千葉県作業療法士会　学術部　精神障害委員会
URL:https://ot-hyogo.or.jp/file/event/%e3%80%90%e4%b8%bb%e5%82%ac%e3%80%91%e5%8d%83%e8%91%89%e7%9c%8c%e4%bd%9c%e6%a5%ad%e7%99%82%e6%b3%95%e5%a3%ab%e4%bc%9a-%e3%80%8c%e7%b2%be%e7%a5%9e%e7%a7%91%e9%a0%98%e5%9f%9f%e3%81%ab%e3%81%8a%e3%81%91
LOCATION:WEB
CATEGORIES:その他主催の研修
END:VEVENT
END:VCALENDAR