BEGIN:VCALENDAR
VERSION:2.0
PRODID:-//兵庫県作業療法士会　研修案内 - ECPv6.7.0//NONSGML v1.0//EN
CALSCALE:GREGORIAN
METHOD:PUBLISH
X-WR-CALNAME:兵庫県作業療法士会　研修案内
X-ORIGINAL-URL:https://ot-hyogo.or.jp/file
X-WR-CALDESC:兵庫県作業療法士会　研修案内 のイベント
REFRESH-INTERVAL;VALUE=DURATION:PT1H
X-Robots-Tag:noindex
X-PUBLISHED-TTL:PT1H
BEGIN:VTIMEZONE
TZID:Asia/Tokyo
BEGIN:STANDARD
TZOFFSETFROM:+0900
TZOFFSETTO:+0900
TZNAME:JST
DTSTART:20230101T000000
END:STANDARD
END:VTIMEZONE
BEGIN:VEVENT
DTSTART;TZID=Asia/Tokyo:20230614T183000
DTEND;TZID=Asia/Tokyo:20230614T200000
DTSTAMP:20260423T072947
CREATED:20230515T105900Z
LAST-MODIFIED:20230515T110047Z
UID:1293-1686767400-1686772800@ot-hyogo.or.jp
SUMMARY:「兵庫県リハ3士会（北播磨/丹波）北播磨圏域リハビリテーション支援センター共催研修」締切5.31
DESCRIPTION:タイトル\n兵庫県リハ3士会（北播磨/丹波）北播磨圏域リハビリテーション支援センター共催研修 \n内　容\n地域リハビリテーションの現状とこれから\n～介護予防事業の事例を通して～ \n日　時\n6月14日　18：30 ～ 20：00 \n会　場\nハイブリッド開催\n現地会場：小野市うるおい交流館エクラ・大会議室\nWEB参加：ZOOM \n講　師\n石田　崇継氏（西脇市立西脇病院　理学療法士）\n壷井　忠士氏（多可赤十字病院　理学療法士） \n定　員\n100名 \n生涯教育ポイント\n付与対象外です \n受講費\n無料 \n申込み条件\n☒ 北播磨・丹波地域で勤務されているリハビリ専門職 \n受講条件\nオンラインでの研修会に参加される方は、参加条件・準備事項・個人情報保護について以下の資料を必ずご確認ください。 \nオンライン研修会に参加される皆さまへ \nオンライン研修における研修情報および個人情報保護について \n締め切り\n5月31日（水） \n問い合わせ先\n北播磨圏域リハビリテーションセンター事務局　奥野・藤本\nTEL：070-4220-5114 \n– \n研修案内のダウンロードはこちら \n–
URL:https://ot-hyogo.or.jp/file/event/%e3%80%8c%e5%85%b5%e5%ba%ab%e7%9c%8c%e3%83%aa%e3%83%8f3%e5%a3%ab%e4%bc%9a%ef%bc%88%e5%8c%97%e6%92%ad%e7%a3%a8-%e4%b8%b9%e6%b3%a2%ef%bc%89%e5%8c%97%e6%92%ad%e7%a3%a8%e5%9c%8f%e5%9f%9f%e3%83%aa%e3%83%8f
LOCATION:ハイブリッド開催
CATEGORIES:その他主催の研修
END:VEVENT
END:VCALENDAR