BEGIN:VCALENDAR
VERSION:2.0
PRODID:-//兵庫県作業療法士会　研修案内 - ECPv6.7.0//NONSGML v1.0//EN
CALSCALE:GREGORIAN
METHOD:PUBLISH
X-WR-CALNAME:兵庫県作業療法士会　研修案内
X-ORIGINAL-URL:https://ot-hyogo.or.jp/file
X-WR-CALDESC:兵庫県作業療法士会　研修案内 のイベント
REFRESH-INTERVAL;VALUE=DURATION:PT1H
X-Robots-Tag:noindex
X-PUBLISHED-TTL:PT1H
BEGIN:VTIMEZONE
TZID:Asia/Tokyo
BEGIN:STANDARD
TZOFFSETFROM:+0900
TZOFFSETTO:+0900
TZNAME:JST
DTSTART:20230101T000000
END:STANDARD
END:VTIMEZONE
BEGIN:VEVENT
DTSTART;TZID=Asia/Tokyo:20230805T130000
DTEND;TZID=Asia/Tokyo:20230805T180000
DTSTAMP:20260423T004345
CREATED:20230501T031502Z
LAST-MODIFIED:20230501T031502Z
UID:1249-1691240400-1691258400@ot-hyogo.or.jp
SUMMARY:第6回アディクション関連問題作業療法研究会研修会
DESCRIPTION: 
URL:https://ot-hyogo.or.jp/file/event/%e7%ac%ac6%e5%9b%9e%e3%82%a2%e3%83%87%e3%82%a3%e3%82%af%e3%82%b7%e3%83%a7%e3%83%b3%e9%96%a2%e9%80%a3%e5%95%8f%e9%a1%8c%e4%bd%9c%e6%a5%ad%e7%99%82%e6%b3%95%e7%a0%94%e7%a9%b6%e4%bc%9a%e7%a0%94%e4%bf%ae
LOCATION:ハイブリッド開催
CATEGORIES:その他主催の研修
END:VEVENT
END:VCALENDAR