BEGIN:VCALENDAR
VERSION:2.0
PRODID:-//兵庫県作業療法士会　研修案内 - ECPv6.7.0//NONSGML v1.0//EN
CALSCALE:GREGORIAN
METHOD:PUBLISH
X-ORIGINAL-URL:https://ot-hyogo.or.jp/file
X-WR-CALDESC:兵庫県作業療法士会　研修案内 のイベント
REFRESH-INTERVAL;VALUE=DURATION:PT1H
X-Robots-Tag:noindex
X-PUBLISHED-TTL:PT1H
BEGIN:VTIMEZONE
TZID:Asia/Tokyo
BEGIN:STANDARD
TZOFFSETFROM:+0900
TZOFFSETTO:+0900
TZNAME:JST
DTSTART:20240101T000000
END:STANDARD
END:VTIMEZONE
BEGIN:VEVENT
DTSTART;TZID=Asia/Tokyo:20240107T093000
DTEND;TZID=Asia/Tokyo:20240107T170000
DTSTAMP:20260422T170042
CREATED:20231215T045334Z
LAST-MODIFIED:20231215T045334Z
UID:2168-1704619800-1704646800@ot-hyogo.or.jp
SUMMARY:兵庫県理学療法士会研修「神経リハビリテーションの未来を考える」
DESCRIPTION:
URL:https://ot-hyogo.or.jp/file/event/%e5%85%b5%e5%ba%ab%e7%9c%8c%e7%90%86%e5%ad%a6%e7%99%82%e6%b3%95%e5%a3%ab%e4%bc%9a%e7%a0%94%e4%bf%ae%e3%80%8c%e7%a5%9e%e7%b5%8c%e3%83%aa%e3%83%8f%e3%83%93%e3%83%aa%e3%83%86%e3%83%bc%e3%82%b7%e3%83%a7
LOCATION:垂水レバンテホール
CATEGORIES:その他主催の研修
END:VEVENT
END:VCALENDAR