BEGIN:VCALENDAR
VERSION:2.0
PRODID:-//兵庫県作業療法士会　研修案内 - ECPv6.7.0//NONSGML v1.0//EN
CALSCALE:GREGORIAN
METHOD:PUBLISH
X-ORIGINAL-URL:https://ot-hyogo.or.jp/file
X-WR-CALDESC:兵庫県作業療法士会　研修案内 のイベント
REFRESH-INTERVAL;VALUE=DURATION:PT1H
X-Robots-Tag:noindex
X-PUBLISHED-TTL:PT1H
BEGIN:VTIMEZONE
TZID:Asia/Tokyo
BEGIN:STANDARD
TZOFFSETFROM:+0900
TZOFFSETTO:+0900
TZNAME:JST
DTSTART:20240101T000000
END:STANDARD
END:VTIMEZONE
BEGIN:VEVENT
DTSTART;TZID=Asia/Tokyo:20240113T093000
DTEND;TZID=Asia/Tokyo:20240113T170000
DTSTAMP:20260422T170124
CREATED:20231117T032454Z
LAST-MODIFIED:20231117T032454Z
UID:2039-1705138200-1705165200@ot-hyogo.or.jp
SUMMARY:第９回京都府作業療法学会
DESCRIPTION:第9回京都府作業療法学会\n\n「学会テーマ」手間と覚悟 \n\n\n日時：2024年1月13日（土）　9時30分～16時40分\n場所：ハイブリッド開催 （ハートピア京都・オンライン参加） \n詳細はこちらから
URL:https://ot-hyogo.or.jp/file/event/%e7%ac%ac%ef%bc%99%e5%9b%9e%e4%ba%ac%e9%83%bd%e5%ba%9c%e4%bd%9c%e6%a5%ad%e7%99%82%e6%b3%95%e5%ad%a6%e4%bc%9a
LOCATION:会場参加 と Web 参加 による ハイブリッド開催
CATEGORIES:その他主催の研修
END:VEVENT
END:VCALENDAR