BEGIN:VCALENDAR
VERSION:2.0
PRODID:-//兵庫県作業療法士会　研修案内 - ECPv6.7.0//NONSGML v1.0//EN
CALSCALE:GREGORIAN
METHOD:PUBLISH
X-WR-CALNAME:兵庫県作業療法士会　研修案内
X-ORIGINAL-URL:https://ot-hyogo.or.jp/file
X-WR-CALDESC:兵庫県作業療法士会　研修案内 のイベント
REFRESH-INTERVAL;VALUE=DURATION:PT1H
X-Robots-Tag:noindex
X-PUBLISHED-TTL:PT1H
BEGIN:VTIMEZONE
TZID:Asia/Tokyo
BEGIN:STANDARD
TZOFFSETFROM:+0900
TZOFFSETTO:+0900
TZNAME:JST
DTSTART:20240101T000000
END:STANDARD
END:VTIMEZONE
BEGIN:VEVENT
DTSTART;TZID=Asia/Tokyo:20240304T140000
DTEND;TZID=Asia/Tokyo:20240304T180000
DTSTAMP:20260422T132318
CREATED:20240213T043444Z
LAST-MODIFIED:20240213T043444Z
UID:2451-1709560800-1709575200@ot-hyogo.or.jp
SUMMARY:神戸市　介護テクノロジー導入促進プロジェクト～未来の介護をクリエイト～報告会・交流会
DESCRIPTION:
URL:https://ot-hyogo.or.jp/file/event/%e7%a5%9e%e6%88%b8%e5%b8%82%e3%80%80%e4%bb%8b%e8%ad%b7%e3%83%86%e3%82%af%e3%83%8e%e3%83%ad%e3%82%b8%e3%83%bc%e5%b0%8e%e5%85%a5%e4%bf%83%e9%80%b2%e3%83%97%e3%83%ad%e3%82%b8%e3%82%a7%e3%82%af%e3%83%88
LOCATION:ハイブリッド開催
CATEGORIES:その他主催の研修
END:VEVENT
BEGIN:VEVENT
DTSTART;TZID=Asia/Tokyo:20240304T190000
DTEND;TZID=Asia/Tokyo:20240304T203000
DTSTAMP:20260422T132318
CREATED:20240205T060703Z
LAST-MODIFIED:20240205T061417Z
UID:2423-1709578800-1709584200@ot-hyogo.or.jp
SUMMARY:「姫路市リハ職ネットワーク研修会」締切2.26
DESCRIPTION:－\n　チラシのダウンロードはこちら\n－ \nタイトル\n姫路市リハ職ネットワーク研修会　令和５年度　第2回　リハ計画書作成に役立つ目標設定の練習会を記載して下さい \n内容\n日頃の業務で、利用者様の活動・参加に向けた具体的な目標設定を立てることができていますか？ICFを元にリハビリ目標の設定に至るまでの思考プロセスを解剖し、リハ職同士で共有しましょう！ \n日時\n3月4日　19：00 ～ 20：30（受付 18：30～） \n会場\n姫路市総合福祉会館 5階 第1会議室\n〒670-0955 姫路市安田三丁目1番 \n定員\nなし \n生涯教育ポイント\n☒　付与対象外です \n受講費\n無料 \n申込み条件\n☒　日本OT協会・他府県士会の一方のみ在籍している、またはいずれにも在籍していないOT \n締め切り\n2月26日（月） \nその他\n申し込みは、別途資料にあるQRコードよりお願い致します。 \n問い合わせ先\n姫路市リハ職ネットワーク検討委員会 事務局\nE-mail： \n－\n　チラシのダウンロードはこちら\n－
URL:https://ot-hyogo.or.jp/file/event/2423
LOCATION:姫路市総合福祉会館
CATEGORIES:その他主催の研修
END:VEVENT
END:VCALENDAR