BEGIN:VCALENDAR
VERSION:2.0
PRODID:-//兵庫県作業療法士会　研修案内 - ECPv6.7.0//NONSGML v1.0//EN
CALSCALE:GREGORIAN
METHOD:PUBLISH
X-ORIGINAL-URL:https://ot-hyogo.or.jp/file
X-WR-CALDESC:兵庫県作業療法士会　研修案内 のイベント
REFRESH-INTERVAL;VALUE=DURATION:PT1H
X-Robots-Tag:noindex
X-PUBLISHED-TTL:PT1H
BEGIN:VTIMEZONE
TZID:Asia/Tokyo
BEGIN:STANDARD
TZOFFSETFROM:+0900
TZOFFSETTO:+0900
TZNAME:JST
DTSTART:20240101T000000
END:STANDARD
END:VTIMEZONE
BEGIN:VEVENT
DTSTART;TZID=Asia/Tokyo:20240714T090000
DTEND;TZID=Asia/Tokyo:20240714T170000
DTSTAMP:20260422T065553
CREATED:20240520T043741Z
LAST-MODIFIED:20240520T043936Z
UID:2636-1720947600-1720976400@ot-hyogo.or.jp
SUMMARY:第20回東京都作業療法学会
DESCRIPTION:【テーマ】Occupation based \n【会期】2024年 7 月 14 日（日）時間9:00-17:00　受付開始8:30 \n（現地開催＋アーカイブ配信あり） \n【会場】帝京平成大学　池袋キャンパス \n　　　　住所:〒170-8445 東京都豊島区東池袋2-51-4 \n【主催】一般社団法人　東京都作業療法士会 \n【大会長】松澤良平　IMS（イムス）グループ イムス板橋リハビリテーション病院 \n【実行委員長】山下高介　日本リハビリテーション専門学校 \n【プログラム】 \n特別講演　　　森島 肇 氏　株式会社オキュラボ \nシンポジウム　清家 庸佑 氏 東京工科大学 \n　　　　　　　中本　久之 氏　帝京平成大学 \n　　　　　　　村島　久美子 氏　桜新町アーバンクリニック \n　　　　　　　山西　葉子 氏　東京都立大学 \n教育講演　　　石橋　裕 氏　東京都立大学 \n東京都作業療法士会長講演、公募企画、一般演題　等 \n  \n【参加費】 \n・東京都作業療法士会員（現地開催＋アーカイブ配信） \n　４０００円（事前登録　３０００円） \n・当会非会員、多職種及び他都道府県作業療法士会員の方（現地開催＋アーカイブ配信） \n　６０００円（事前登録　５０００円） \n・作業療法士1年目・学生・当事者の方・医療従事者以外の方 \n　無料 \n【事前登録期間】2024年年５月１日（水）～７月13日（土）23時59分 \n【お申し込み方法】下記URLよりイベントペイにてご応募ください（学会公式ホームページからも参加登録が可能です） \nURL:　https://eventpay.jp/event_info/?shop_code=5238587945919649&amp;EventCode=P576903613 \n【学会公式ホームページ】https://sites.google.com/view/tokyo-ot-congress20/ \n【問い合わせ先】tokyo.ot.congress@gmail.com
URL:https://ot-hyogo.or.jp/file/event/%e7%ac%ac20%e5%9b%9e%e6%9d%b1%e4%ba%ac%e9%83%bd%e4%bd%9c%e6%a5%ad%e7%99%82%e6%b3%95%e5%ad%a6%e4%bc%9a
LOCATION:帝京平成大学　池袋キャンパス
CATEGORIES:その他主催の研修
END:VEVENT
END:VCALENDAR