BEGIN:VCALENDAR
VERSION:2.0
PRODID:-//兵庫県作業療法士会　研修案内 - ECPv6.7.0//NONSGML v1.0//EN
CALSCALE:GREGORIAN
METHOD:PUBLISH
X-WR-CALNAME:兵庫県作業療法士会　研修案内
X-ORIGINAL-URL:https://ot-hyogo.or.jp/file
X-WR-CALDESC:兵庫県作業療法士会　研修案内 のイベント
REFRESH-INTERVAL;VALUE=DURATION:PT1H
X-Robots-Tag:noindex
X-PUBLISHED-TTL:PT1H
BEGIN:VTIMEZONE
TZID:Asia/Tokyo
BEGIN:STANDARD
TZOFFSETFROM:+0900
TZOFFSETTO:+0900
TZNAME:JST
DTSTART:20240101T000000
END:STANDARD
END:VTIMEZONE
BEGIN:VEVENT
DTSTART;TZID=Asia/Tokyo:20240719T190000
DTEND;TZID=Asia/Tokyo:20240719T203000
DTSTAMP:20260422T065451
CREATED:20240626T115240Z
LAST-MODIFIED:20240626T115720Z
UID:2753-1721415600-1721421000@ot-hyogo.or.jp
SUMMARY:「ケアマネとリハ職の情報共有の練習会（中播磨ブロック）」締切7.12
DESCRIPTION:タイトル\nケアマネとリハ職の情報共有の練習会（中播磨ブロック） \n内容\nケアマネジャーとリハ職がグループワークで、一緒にリハビリテーション計画書の情報を整理し、どのようにケアプラン作成に活用できるかを検討する \n日時\n７月１９日（金曜日）　１９：００ ～ ２０：３０（受付 １８：３０～） \n会場\n姫路市総合福祉会館5階　第１・２会議室 \n定員\n７５名 \n生涯教育ポイント\n☒　付与対象外です \n参加費\n無料 \n締め切り\n７月１２日（金） \n問い合わせ先\n姫路市在宅医療･介護連携支援センター（受託者：姫路市医師会）\nTEL：079-295-3330\nE-MAIL： \nチラシ\n　チラシのダウンロードはこちら \n申し込み\nhttps://forms.gle/FeLQs81tu6BrMczs9
URL:https://ot-hyogo.or.jp/file/event/2753
LOCATION:姫路市総合福祉会館
CATEGORIES:その他主催の研修
END:VEVENT
END:VCALENDAR