BEGIN:VCALENDAR
VERSION:2.0
PRODID:-//兵庫県作業療法士会　研修案内 - ECPv6.7.0//NONSGML v1.0//EN
CALSCALE:GREGORIAN
METHOD:PUBLISH
X-WR-CALNAME:兵庫県作業療法士会　研修案内
X-ORIGINAL-URL:https://ot-hyogo.or.jp/file
X-WR-CALDESC:兵庫県作業療法士会　研修案内 のイベント
REFRESH-INTERVAL;VALUE=DURATION:PT1H
X-Robots-Tag:noindex
X-PUBLISHED-TTL:PT1H
BEGIN:VTIMEZONE
TZID:Asia/Tokyo
BEGIN:STANDARD
TZOFFSETFROM:+0900
TZOFFSETTO:+0900
TZNAME:JST
DTSTART:20240101T000000
END:STANDARD
END:VTIMEZONE
BEGIN:VEVENT
DTSTART;VALUE=DATE:20240720
DTEND;VALUE=DATE:20240722
DTSTAMP:20260422T065430
CREATED:20240422T065434Z
LAST-MODIFIED:20240422T065434Z
UID:2575-1721433600-1721606399@ot-hyogo.or.jp
SUMMARY:訪問リハビリテーション管理者養成研修会
DESCRIPTION:【ご案内】 \nリハビリテーション専門職団体協議会（PT・OT・ST協会）主催の研修会です。 \nSTEP1からSTEP3まで順に受講することで、訪問リハビリテーションに従事する者としての \n質の向上、地域に望まれる事業所の遂行能力と高いコンプライアンスの実践能力や \n不測の事態にも的確に対応できるリスク管理能力を学べる研修会です。 \nまた、スキルアップ研修会では、ネットワークの構築や時代に合わせたテーマを取り入れ \n更なる高みを目指します。 \n役職に関わらず、ご自身の資質・能力向上等のためにも ぜひご参加ください。 \n  \n【開催年月日】 \nSTEP1：2024年7月20日（土）～21日（日） \nSTEP1：2024年9月14日（土）～15日（日） \n※7月、9月は同一内容です。いずれかにご参加ください \nSTEP2：2024年11月23日（土）～24日（日） \nSTEP3：2025年1月18日（土）～19日（日） \nスキルアップ：2025年2月15日（土）～16日（日） \n  \n【受付開始】 \nSTEP1：2024年5月1日 \nSTEP2：2024年9月1日 \nSTEP3：2024年11月1日 \nスキルアップ：2024年12月1日 \n  \n訪問リハビリテーション振興財団（http://www.hvrpf.jp/）または \n株式会社gene（https://www.gene-llc.jp/secretariat/）から申込可能 \n2024年開催予定スケジュール表
URL:https://ot-hyogo.or.jp/file/event/%e8%a8%aa%e5%95%8f%e3%83%aa%e3%83%8f%e3%83%93%e3%83%aa%e3%83%86%e3%83%bc%e3%82%b7%e3%83%a7%e3%83%b3%e7%ae%a1%e7%90%86%e8%80%85%e9%a4%8a%e6%88%90%e7%a0%94%e4%bf%ae%e4%bc%9a
LOCATION:オンライン(Zoom)
CATEGORIES:その他主催の研修
END:VEVENT
BEGIN:VEVENT
DTSTART;TZID=Asia/Tokyo:20240720T110000
DTEND;TZID=Asia/Tokyo:20240720T180000
DTSTAMP:20260422T065430
CREATED:20240321T045625Z
LAST-MODIFIED:20240321T045625Z
UID:2531-1721473200-1721498400@ot-hyogo.or.jp
SUMMARY:第7回アディクション関連問題作業療法研究会
DESCRIPTION: 
URL:https://ot-hyogo.or.jp/file/event/%e7%ac%ac7%e5%9b%9e%e3%82%a2%e3%83%87%e3%82%a3%e3%82%af%e3%82%b7%e3%83%a7%e3%83%b3%e9%96%a2%e9%80%a3%e5%95%8f%e9%a1%8c%e4%bd%9c%e6%a5%ad%e7%99%82%e6%b3%95%e7%a0%94%e7%a9%b6%e4%bc%9a
LOCATION:岡山県精神科医療センター
CATEGORIES:その他主催の研修
END:VEVENT
END:VCALENDAR