BEGIN:VCALENDAR
VERSION:2.0
PRODID:-//兵庫県作業療法士会　研修案内 - ECPv6.7.0//NONSGML v1.0//EN
CALSCALE:GREGORIAN
METHOD:PUBLISH
X-WR-CALNAME:兵庫県作業療法士会　研修案内
X-ORIGINAL-URL:https://ot-hyogo.or.jp/file
X-WR-CALDESC:兵庫県作業療法士会　研修案内 のイベント
REFRESH-INTERVAL;VALUE=DURATION:PT1H
X-Robots-Tag:noindex
X-PUBLISHED-TTL:PT1H
BEGIN:VTIMEZONE
TZID:Asia/Tokyo
BEGIN:STANDARD
TZOFFSETFROM:+0900
TZOFFSETTO:+0900
TZNAME:JST
DTSTART:20240101T000000
END:STANDARD
END:VTIMEZONE
BEGIN:VEVENT
DTSTART;TZID=Asia/Tokyo:20240724T103000
DTEND;TZID=Asia/Tokyo:20240725T173000
DTSTAMP:20260422T065450
CREATED:20240703T023342Z
LAST-MODIFIED:20240703T023342Z
UID:2791-1721817000-1721928600@ot-hyogo.or.jp
SUMMARY:ひょうご福祉用具・介護ロボットフェスティバル２０２４
DESCRIPTION: 
URL:https://ot-hyogo.or.jp/file/event/%e3%81%b2%e3%82%87%e3%81%86%e3%81%94%e7%a6%8f%e7%a5%89%e7%94%a8%e5%85%b7%e3%83%bb%e4%bb%8b%e8%ad%b7%e3%83%ad%e3%83%9c%e3%83%83%e3%83%88%e3%83%95%e3%82%a7%e3%82%b9%e3%83%86%e3%82%a3%e3%83%90%e3%83%ab
LOCATION:アクリエひめじ
CATEGORIES:その他主催の研修
END:VEVENT
END:VCALENDAR