BEGIN:VCALENDAR
VERSION:2.0
PRODID:-//兵庫県作業療法士会　研修案内 - ECPv6.7.0//NONSGML v1.0//EN
CALSCALE:GREGORIAN
METHOD:PUBLISH
X-WR-CALNAME:兵庫県作業療法士会　研修案内
X-ORIGINAL-URL:https://ot-hyogo.or.jp/file
X-WR-CALDESC:兵庫県作業療法士会　研修案内 のイベント
REFRESH-INTERVAL;VALUE=DURATION:PT1H
X-Robots-Tag:noindex
X-PUBLISHED-TTL:PT1H
BEGIN:VTIMEZONE
TZID:Asia/Tokyo
BEGIN:STANDARD
TZOFFSETFROM:+0900
TZOFFSETTO:+0900
TZNAME:JST
DTSTART:20240101T000000
END:STANDARD
END:VTIMEZONE
BEGIN:VEVENT
DTSTART;TZID=Asia/Tokyo:20240807T110000
DTEND;TZID=Asia/Tokyo:20240808T160000
DTSTAMP:20260422T051734
CREATED:20240610T042305Z
LAST-MODIFIED:20240610T043202Z
UID:2730-1723028400-1723132800@ot-hyogo.or.jp
SUMMARY:神戸市介護テクノロジー導入促進プロジェクト 体験・交流会
DESCRIPTION:神戸市内の介護事業所の協力のもと、どのような機器がどのような課題を解決することができるのか。実際の介護施設（ディアージュ神戸：神戸市垂水区）にて、より現場での活用イメージを持っていただける、体験/交流会を実施いたします。 \n  \n開催日：8月7日（水）、8日（木） \n時　間：11：00～12：00／13：00～16：00 \n※8月8日（木）9：30～11：00には、昨年度実施したニーズ調査結果を基にした意見交換会を実施いたします。併せてご参加をご検討下さい。 \n会場：ディアージュ神戸（神戸市垂水区学が丘5丁目1-4） \n参加費：無料 \n対象者：介護テクノロジー導入に関心のある介護事業者、企業、自治体関係者（神戸市内外問わず）、医療・介護に関わる学生 \nお申し込み締切：8月1日（木） \n企画：神戸市 \n事務局：一般社団法人日本ノーリフト協会 \n申込フォーム：https://forms.gle/zjKGpiFrtG4b39hN8 \nチラシはこちらから
URL:https://ot-hyogo.or.jp/file/event/%e7%a5%9e%e6%88%b8%e5%b8%82%e4%bb%8b%e8%ad%b7%e3%83%86%e3%82%af%e3%83%8e%e3%83%ad%e3%82%b8%e3%83%bc%e5%b0%8e%e5%85%a5%e4%bf%83%e9%80%b2%e3%83%97%e3%83%ad%e3%82%b8%e3%82%a7%e3%82%af%e3%83%88-%e4%bd%93
LOCATION:ディアージュ神戸
CATEGORIES:その他主催の研修
END:VEVENT
END:VCALENDAR