BEGIN:VCALENDAR
VERSION:2.0
PRODID:-//兵庫県作業療法士会　研修案内 - ECPv6.7.0//NONSGML v1.0//EN
CALSCALE:GREGORIAN
METHOD:PUBLISH
X-WR-CALNAME:兵庫県作業療法士会　研修案内
X-ORIGINAL-URL:https://ot-hyogo.or.jp/file
X-WR-CALDESC:兵庫県作業療法士会　研修案内 のイベント
REFRESH-INTERVAL;VALUE=DURATION:PT1H
X-Robots-Tag:noindex
X-PUBLISHED-TTL:PT1H
BEGIN:VTIMEZONE
TZID:Asia/Tokyo
BEGIN:STANDARD
TZOFFSETFROM:+0900
TZOFFSETTO:+0900
TZNAME:JST
DTSTART:20240101T000000
END:STANDARD
END:VTIMEZONE
BEGIN:VEVENT
DTSTART;TZID=Asia/Tokyo:20240818T090000
DTEND;TZID=Asia/Tokyo:20240818T120000
DTSTAMP:20260422T051746
CREATED:20240702T014235Z
LAST-MODIFIED:20240702T014235Z
UID:2784-1723971600-1723982400@ot-hyogo.or.jp
SUMMARY:滋賀県OT士会MTDLP推進教育部主催研修
DESCRIPTION:ー研修内容ー \n〇日時 \n2024年8月18日（日）9:00〜12:00 \n  \n◯研修名 \n滋賀県OT士会MTDLP推進教育部主催研修 \n「のぞいてみよう！OTに必要な マネジメントの基礎 作業に焦点を当てた介入を行うために」 \n◯内容 \n作業に焦点を当てた介入を行う上で、対象者のみならず、家族・多職種との連携が重要です。連携のためにはマネジメントの視点をもつことが必要ですが、私たちが作業療法の研鑽を進める中で、マネジメントについて学ぶ機会は少ないのではないでしょうか？今回「作業で結ぶマネジメント」や「覗いてみたい！？先輩OTの頭の中 」を執筆された澤田先生にマネジメントの基礎についてご講義をいただきます。様々な分野で活用できる内容かと思いますので、ご参加いただけると幸いです。 \n  \n*研修の後半はグループワークを予定しています。 \n◯講師 \n澤田辰徳　先生（東京工科大学医療保健学部リハビリテーション学科　作業療法学専攻 教授） \n◯開催方法 \nZOOMによるオンライン開催 \n◯参加費 \n他府県士会員：2500円 \nOT協会・都道府県OT士会のどちらか一つでも未加入のOT：8000円 \n◯申し込み・詳細・問い合わせ先について \n以下リンクをご参照ください（参加申し込みはpeatixへの登録が必要です） \nhttps://mtdlpkensyuu2024-1.peatix.com \n  \n滋賀県作業療法士会 \nMTDLP推進教育部　竹内
URL:https://ot-hyogo.or.jp/file/event/%e6%bb%8b%e8%b3%80%e7%9c%8cot%e5%a3%ab%e4%bc%9amtdlp%e6%8e%a8%e9%80%b2%e6%95%99%e8%82%b2%e9%83%a8%e4%b8%bb%e5%82%ac%e7%a0%94%e4%bf%ae-2
LOCATION:WEB
CATEGORIES:その他主催の研修
END:VEVENT
END:VCALENDAR