BEGIN:VCALENDAR
VERSION:2.0
PRODID:-//兵庫県作業療法士会　研修案内 - ECPv6.7.0//NONSGML v1.0//EN
CALSCALE:GREGORIAN
METHOD:PUBLISH
X-ORIGINAL-URL:https://ot-hyogo.or.jp/file
X-WR-CALDESC:兵庫県作業療法士会　研修案内 のイベント
REFRESH-INTERVAL;VALUE=DURATION:PT1H
X-Robots-Tag:noindex
X-PUBLISHED-TTL:PT1H
BEGIN:VTIMEZONE
TZID:Asia/Tokyo
BEGIN:STANDARD
TZOFFSETFROM:+0900
TZOFFSETTO:+0900
TZNAME:JST
DTSTART:20240101T000000
END:STANDARD
END:VTIMEZONE
BEGIN:VEVENT
DTSTART;TZID=Asia/Tokyo:20240908T133000
DTEND;TZID=Asia/Tokyo:20240908T160000
DTSTAMP:20260422T035251
CREATED:20240730T032259Z
LAST-MODIFIED:20240730T032259Z
UID:2881-1725802200-1725811200@ot-hyogo.or.jp
SUMMARY:第15回救急医療フォーラム
DESCRIPTION:
URL:https://ot-hyogo.or.jp/file/event/%e7%ac%ac15%e5%9b%9e%e6%95%91%e6%80%a5%e5%8c%bb%e7%99%82%e3%83%95%e3%82%a9%e3%83%bc%e3%83%a9%e3%83%a0
LOCATION:姫路市市民会館大ホール
CATEGORIES:その他主催の研修
END:VEVENT
END:VCALENDAR