BEGIN:VCALENDAR
VERSION:2.0
PRODID:-//兵庫県作業療法士会　研修案内 - ECPv6.7.0//NONSGML v1.0//EN
CALSCALE:GREGORIAN
METHOD:PUBLISH
X-ORIGINAL-URL:https://ot-hyogo.or.jp/file
X-WR-CALDESC:兵庫県作業療法士会　研修案内 のイベント
REFRESH-INTERVAL;VALUE=DURATION:PT1H
X-Robots-Tag:noindex
X-PUBLISHED-TTL:PT1H
BEGIN:VTIMEZONE
TZID:Asia/Tokyo
BEGIN:STANDARD
TZOFFSETFROM:+0900
TZOFFSETTO:+0900
TZNAME:JST
DTSTART:20240101T000000
END:STANDARD
END:VTIMEZONE
BEGIN:VEVENT
DTSTART;VALUE=DATE:20241006
DTEND;VALUE=DATE:20241007
DTSTAMP:20260422T020121
CREATED:20240827T022330Z
LAST-MODIFIED:20240827T022330Z
UID:2978-1728172800-1728259199@ot-hyogo.or.jp
SUMMARY:第5回 ロボットと作業療法研究会大会
DESCRIPTION:第5回 ロボットと作業療法研究会大会 \nテーマ：AI: ai \n2024年 10 月 6 日（日） 受付：9:30～ \n場所：群馬パース大学 PAZホール \n参加費：無料 \n1部10:00～12:30 大会長講演、 特別講演（現地/オンライン） \n2部13:30～14:45 特別セミナー 企画ブース（現地のみ） \n申込先：https://forms.gle/tco5PCmmmdfwKKXPA \n主催：ロボットと作業療法研究会 \n共催：群馬パース大学 \n  \n【1部】 \n大会長：青山朋樹 (京都大学大学院医学研究科 教授、医師) \n講演）多様な価値観を創出することで AIを疲れさせる \n特別講演：入江 啓輔 先生 (京都大学大学院医学研究科 講師、作業療法士) \n講演）発達支援の課題とDXへの挑戦 \n【2部】 \n特別セミナー：井澤 年宏 先生 (株式会社 システムクリエイターズ 代表取締役) \n講演）プログラミングからリハビリテーションへ \n企画ブース：群馬パース大学 学生　(eスポーツサークル有志、南研究室ゼミ生) \n内容）  AI（機械学習）と小型コンピュータの体験 \n  \n【世話人/事務局】 \n南征吾（Ph.D. OTR） \n群馬パース大学リハビリテーション学部作業療法学科 教授 \n住所：〒370-0006 群馬県高崎市問屋町1-7-1 群馬パース大学 南研究室(704) \nMail: minami@paz.ac.jp
URL:https://ot-hyogo.or.jp/file/event/%e7%ac%ac5%e5%9b%9e-%e3%83%ad%e3%83%9c%e3%83%83%e3%83%88%e3%81%a8%e4%bd%9c%e6%a5%ad%e7%99%82%e6%b3%95%e7%a0%94%e7%a9%b6%e4%bc%9a%e5%a4%a7%e4%bc%9a
LOCATION:群馬パース大学 PAZホール
CATEGORIES:その他主催の研修
END:VEVENT
BEGIN:VEVENT
DTSTART;TZID=Asia/Tokyo:20241006T100000
DTEND;TZID=Asia/Tokyo:20241006T160000
DTSTAMP:20260422T020121
CREATED:20240904T030813Z
LAST-MODIFIED:20240904T030813Z
UID:3018-1728208800-1728230400@ot-hyogo.or.jp
SUMMARY:日本臨床作業療法学会主催　OBP実践研修会
DESCRIPTION:【主催】日本臨床作業療法学会（SIG） \n【研修会名】OBP実践研修会 \n【開催日時】2024年10月6日（日）10:00～16:00 \n【開催形式】ハイブリッド \n【開催場所】北里大学白金キャンパス（〒108-8641 東京都港区白金5-9-1） \n【内容】講師：小渕浩平（長野松代総合病院）\n　　　　　　　庵本直矢（名古屋市総合リハビリテーションセンター）\n　　　　　　　清家庸佑（東京工科大学）　\n　　　　　　　高橋香代子（北里大学）\n　　　　　　　白木望（松田病院）\n　　　　　　　永島匡（株式会社ジョシュ） \n【参加費】\n　現地参加　会員3\,500円　非会員 5\,500円\n　Web参加　会員1\,500円　非会員 2\,500円\n　学生（現地，Web）　1\,000円 \n【学会HP】http://www.jsso.jp\n \n【申込方法】下記URLよりお願いいたします．\nhttps://peatix.com/event/4090631?utm_source=pocket_saves \n  \n【問合先・連絡先】日本臨床作業療法学会　企画部　宗像暁美\n　cotkikaku@gmail.com
URL:https://ot-hyogo.or.jp/file/event/%e6%97%a5%e6%9c%ac%e8%87%a8%e5%ba%8a%e4%bd%9c%e6%a5%ad%e7%99%82%e6%b3%95%e5%ad%a6%e4%bc%9a%e4%b8%bb%e5%82%ac%e3%80%80obp%e5%ae%9f%e8%b7%b5%e7%a0%94%e4%bf%ae%e4%bc%9a
LOCATION:ハイブリッド開催
CATEGORIES:その他主催の研修
END:VEVENT
END:VCALENDAR