BEGIN:VCALENDAR
VERSION:2.0
PRODID:-//兵庫県作業療法士会　研修案内 - ECPv6.7.0//NONSGML v1.0//EN
CALSCALE:GREGORIAN
METHOD:PUBLISH
X-WR-CALNAME:兵庫県作業療法士会　研修案内
X-ORIGINAL-URL:https://ot-hyogo.or.jp/file
X-WR-CALDESC:兵庫県作業療法士会　研修案内 のイベント
REFRESH-INTERVAL;VALUE=DURATION:PT1H
X-Robots-Tag:noindex
X-PUBLISHED-TTL:PT1H
BEGIN:VTIMEZONE
TZID:Asia/Tokyo
BEGIN:STANDARD
TZOFFSETFROM:+0900
TZOFFSETTO:+0900
TZNAME:JST
DTSTART:20240101T000000
END:STANDARD
END:VTIMEZONE
BEGIN:VEVENT
DTSTART;TZID=Asia/Tokyo:20241103T100000
DTEND;TZID=Asia/Tokyo:20241103T160000
DTSTAMP:20260422T000752
CREATED:20241008T033905Z
LAST-MODIFIED:20241008T033905Z
UID:3224-1730628000-1730649600@ot-hyogo.or.jp
SUMMARY:中級パラスポーツ指導員と一緒にパラスポーツを体験しよう！
DESCRIPTION:
URL:https://ot-hyogo.or.jp/file/event/%e4%b8%ad%e7%b4%9a%e3%83%91%e3%83%a9%e3%82%b9%e3%83%9d%e3%83%bc%e3%83%84%e6%8c%87%e5%b0%8e%e5%93%a1%e3%81%a8%e4%b8%80%e7%b7%92%e3%81%ab%e3%83%91%e3%83%a9%e3%82%b9%e3%83%9d%e3%83%bc%e3%83%84%e3%82%92
LOCATION:しあわせの村
CATEGORIES:その他主催の研修
END:VEVENT
END:VCALENDAR