BEGIN:VCALENDAR
VERSION:2.0
PRODID:-//兵庫県作業療法士会　研修案内 - ECPv6.7.0//NONSGML v1.0//EN
CALSCALE:GREGORIAN
METHOD:PUBLISH
X-ORIGINAL-URL:https://ot-hyogo.or.jp/file
X-WR-CALDESC:兵庫県作業療法士会　研修案内 のイベント
REFRESH-INTERVAL;VALUE=DURATION:PT1H
X-Robots-Tag:noindex
X-PUBLISHED-TTL:PT1H
BEGIN:VTIMEZONE
TZID:Asia/Tokyo
BEGIN:STANDARD
TZOFFSETFROM:+0900
TZOFFSETTO:+0900
TZNAME:JST
DTSTART:20250101T000000
END:STANDARD
END:VTIMEZONE
BEGIN:VEVENT
DTSTART;TZID=Asia/Tokyo:20250221T140000
DTEND;TZID=Asia/Tokyo:20250221T163000
DTSTAMP:20260421T194939
CREATED:20250130T030549Z
LAST-MODIFIED:20250130T030707Z
UID:3591-1740146400-1740155400@ot-hyogo.or.jp
SUMMARY:神戸市介護テクノロジー導入促進プロジェクト　報告会・交流会
DESCRIPTION:
URL:https://ot-hyogo.or.jp/file/event/3591
LOCATION:日本ノーリフト協会NOLIFTLABO
CATEGORIES:その他主催の研修
END:VEVENT
END:VCALENDAR