BEGIN:VCALENDAR
VERSION:2.0
PRODID:-//兵庫県作業療法士会　研修案内 - ECPv6.7.0//NONSGML v1.0//EN
CALSCALE:GREGORIAN
METHOD:PUBLISH
X-ORIGINAL-URL:https://ot-hyogo.or.jp/file
X-WR-CALDESC:兵庫県作業療法士会　研修案内 のイベント
REFRESH-INTERVAL;VALUE=DURATION:PT1H
X-Robots-Tag:noindex
X-PUBLISHED-TTL:PT1H
BEGIN:VTIMEZONE
TZID:Asia/Tokyo
BEGIN:STANDARD
TZOFFSETFROM:+0900
TZOFFSETTO:+0900
TZNAME:JST
DTSTART:20250101T000000
END:STANDARD
END:VTIMEZONE
BEGIN:VEVENT
DTSTART;TZID=Asia/Tokyo:20250228T190000
DTEND;TZID=Asia/Tokyo:20250228T210000
DTSTAMP:20260421T181530
CREATED:20250207T021706Z
LAST-MODIFIED:20250207T053841Z
UID:3621-1740769200-1740776400@ot-hyogo.or.jp
SUMMARY:中播磨圏域リハビリテーション支援センター主催研修会
DESCRIPTION:中播磨圏域リハビリテーション支援センター主催研修会 \n「診療報酬もつかない姿勢ケアになぜ取り組まないといけないのか？」 \n  \n日時 \n令和 7 年 2 月 28 日（金） 19：00～20：45 \n  \n会場 \nアクリエひめじ　小ホール \n  \n講師 \n大渕 哲也 先生 \n理学療法士 介護支援専門員 \nＧＨ愛の家柏崎松波（メディカルケアサービス新潟) \n合同会社trone 社外執行役員プロダクトアドバイザー \n重度化予防ケア推進協会 アンバサダー \nこうしゅくゼロ推進協議会 アドバイザー \nテクノエイド協会、リハビリテーション工学協会 \n日本車椅子シーティング協会 各講師担当 \n  \n定員　150 名 \n  \n参加費　無料 \n  \n申し込み方法 \n以下よりお申込みください \nhttps://forms.gle/LbEvHxhbEF3qmwKj6 \n  \nお問い合わせ \n中播磨圏域リハビリテーション支援センター（石川病院内） \n海部（カイフ）・松下・有吉 \ne-mail　：　nakaharima-keniki＠ishikawa-hp.or.jp \nTEL　：　079-252-5235 \n  \nチラシはこちらから
URL:https://ot-hyogo.or.jp/file/event/%e4%b8%ad%e6%92%ad%e7%a3%a8%e5%9c%8f%e5%9f%9f%e3%83%aa%e3%83%8f%e3%83%93%e3%83%aa%e3%83%86%e3%83%bc%e3%82%b7%e3%83%a7%e3%83%b3%e6%94%af%e6%8f%b4%e3%82%bb%e3%83%b3%e3%82%bf%e3%83%bc%e4%b8%bb%e5%82%ac
LOCATION:アクリエひめじ　小ホール
CATEGORIES:その他主催の研修
END:VEVENT
END:VCALENDAR