BEGIN:VCALENDAR
VERSION:2.0
PRODID:-//兵庫県作業療法士会　研修案内 - ECPv6.7.0//NONSGML v1.0//EN
CALSCALE:GREGORIAN
METHOD:PUBLISH
X-WR-CALNAME:兵庫県作業療法士会　研修案内
X-ORIGINAL-URL:https://ot-hyogo.or.jp/file
X-WR-CALDESC:兵庫県作業療法士会　研修案内 のイベント
REFRESH-INTERVAL;VALUE=DURATION:PT1H
X-Robots-Tag:noindex
X-PUBLISHED-TTL:PT1H
BEGIN:VTIMEZONE
TZID:Asia/Tokyo
BEGIN:STANDARD
TZOFFSETFROM:+0900
TZOFFSETTO:+0900
TZNAME:JST
DTSTART:20250101T000000
END:STANDARD
END:VTIMEZONE
BEGIN:VEVENT
DTSTART;VALUE=DATE:20250301
DTEND;VALUE=DATE:20250303
DTSTAMP:20260421T181449
CREATED:20250120T052503Z
LAST-MODIFIED:20250120T052503Z
UID:3545-1740787200-1740959999@ot-hyogo.or.jp
SUMMARY:日本音楽療法学会第23回近畿学術大会
DESCRIPTION:  \n詳細はこちらから
URL:https://ot-hyogo.or.jp/file/event/%e6%97%a5%e6%9c%ac%e9%9f%b3%e6%a5%bd%e7%99%82%e6%b3%95%e5%ad%a6%e4%bc%9a%e7%ac%ac23%e5%9b%9e%e8%bf%91%e7%95%bf%e5%ad%a6%e8%a1%93%e5%a4%a7%e4%bc%9a
LOCATION:大阪成蹊大学
CATEGORIES:その他主催の研修
END:VEVENT
BEGIN:VEVENT
DTSTART;TZID=Asia/Tokyo:20250302T133000
DTEND;TZID=Asia/Tokyo:20250302T163000
DTSTAMP:20260421T181449
CREATED:20250108T041411Z
LAST-MODIFIED:20250108T041411Z
UID:3526-1740922200-1740933000@ot-hyogo.or.jp
SUMMARY:【主催：神奈川県作業療法士会】IPSモデルから学ぶ本人中心の就労支援のポイント
DESCRIPTION:【研修会】 \nIPSモデルから学ぶ本人中心の就労支援のポイント \n～IPSモデルの概要から実践まで～ \n【主催】 \n神奈川県作業療法士会 \n【開催地、会場】 \n遠隔会議アプリ「Zoom」 \n※受付完了後準備が出来次第、ZoomのURLをメールでご案内いたします。 \n【開催日時】 \n2025年3月2日(日)zoom 開始 13:15 研修開始 13:30～16:30 \n【研修内容】 \n個別の就労⽀援と職場定着⽀援を中⼼とした就労⽀援の形であるIPS モデル。その理念は「本⼈の希望に基づく」「早期からの就職活動」など、リカバリー志向に基づいています。本研修では、IPSに基づく就労⽀援事業所を⽴ち上げ実践してこられた澤⽥ 先⽣，IPS 実践に取り組まれている佐々⽊先⽣をお呼びし，IPS モデルをもとに本⼈中⼼（リカバリー志向） の⽀援のポイントについて理解を深める研修となっています。\n【講師】就労支援センターFLaT・作業療法士 澤田恭一 先生、佐々木苑子 先生 \n詳細URL：https://peatix.com/event/4243084 \nIPS研修チラシ \n  \n【参加費】 \n神奈川県以外の都道府県の作業療法士の方：1500円 \n非会員（神奈川県作業療法士会員でも会費未納の方）：3000円 \nその他（作業療法士以外の職種・お立場の方）：1000円 \n【申し込み方法】 \nPeatixのURLかQRコードからチケットをご購入ください。 \nhttps://peatix.com/event/4243084 \n【申込期間】2024年12月21日（土）～2025年2月26日（水）18時まで \n【定員】100名 \n【問い合わせ先】 \n神奈川県作業療法士会学術部　担当:西前英紀（藤沢病院デイケア)　Mail:gakuseisin@gmail.com \n【その他】生涯教育ポイント：2ポイント \n＜ポイント付与について＞ \n・申込時にOT協会番号を入力した方は，学術部担当者から日本作業療法士協会に研修に参加した旨を連絡します．但し，協会会費納入が確認できなかった場合にはポイント付与はされません． \n・研修後，各自で日本作業療法士協会の会員ポータルサイトでご確認下さい．ポイント付与に1ヶ月以上時間を要する場合もありますのでご了承ください． \n  \n＜申込にあたっての諸注意＞ \n・申込時は協会会員として登録してあるお名前（姓・名）と協会の会員番号を入力して下さい． \n・過去に「申込氏名の文字表記が協会会員の登録情報と異なる」「会員番号入力間違い（作業療法士の免許証番号では \nなく会員番号になります）」「会費未納等にて会員資格を喪失している」ことがありました．参加者の中で一人でもこのような例の方がおりますと，システム上，参加者全員分のボイント付与に大きな時間がかかり，場合により該当者はポイント付与いたしかねる可能性がございます． \n・配布資料につきましては，最短で申込み締め切り3日前，もしくは締め切り後のメール送信となりますのでご了承ください．また，申込み時のメールアドレスは，資料の受信可能なアドレス設定をお願いいたします．
URL:https://ot-hyogo.or.jp/file/event/%e3%80%90%e4%b8%bb%e5%82%ac%ef%bc%9a%e7%a5%9e%e5%a5%88%e5%b7%9d%e7%9c%8c%e4%bd%9c%e6%a5%ad%e7%99%82%e6%b3%95%e5%a3%ab%e4%bc%9a%e3%80%91ips%e3%83%a2%e3%83%87%e3%83%ab%e3%81%8b%e3%82%89%e5%ad%a6
LOCATION:オンライン(Zoom)
CATEGORIES:その他主催の研修
END:VEVENT
END:VCALENDAR