BEGIN:VCALENDAR
VERSION:2.0
PRODID:-//兵庫県作業療法士会　研修案内 - ECPv6.7.0//NONSGML v1.0//EN
CALSCALE:GREGORIAN
METHOD:PUBLISH
X-WR-CALNAME:兵庫県作業療法士会　研修案内
X-ORIGINAL-URL:https://ot-hyogo.or.jp/file
X-WR-CALDESC:兵庫県作業療法士会　研修案内 のイベント
REFRESH-INTERVAL;VALUE=DURATION:PT1H
X-Robots-Tag:noindex
X-PUBLISHED-TTL:PT1H
BEGIN:VTIMEZONE
TZID:Asia/Tokyo
BEGIN:STANDARD
TZOFFSETFROM:+0900
TZOFFSETTO:+0900
TZNAME:JST
DTSTART:20250101T000000
END:STANDARD
END:VTIMEZONE
BEGIN:VEVENT
DTSTART;VALUE=DATE:20250411
DTEND;VALUE=DATE:20250413
DTSTAMP:20260421T165020
CREATED:20240909T041908Z
LAST-MODIFIED:20250220T044408Z
UID:3049-1744329600-1744502399@ot-hyogo.or.jp
SUMMARY:第37回　日本ハンドセラピィ学会学術集会
DESCRIPTION:第37回　日本ハンドセラピィ学会学術集会 \n会期：2025年4月11日（金）12日（土）（11日は日手会と同一会場にて開催） \n会場：パシフィコ横浜　ノース4F \n会長：井部 光滋 札幌徳洲会病院 整形外科外傷センター \n対象：理学療法士、作業療法士、医師、学生 \n参加費：未定 \nテーマ：新時代へ －試されるセラピスト- \n申込期間：事前登録（2025年1月頃を予定しております）・現地登録がございます。 \n申込方法：準備中 \n演題募集期間：2024年9月2日からを開始しております。 \n演題登録方法：学術集会ホームページ（https://www.jhts37hand.jp/endai.html）からご登録ください \n主催：日本ハンドセラピィ学会 \n問い合わせ先：jhts37hand@gmail.com
URL:https://ot-hyogo.or.jp/file/event/%e7%ac%ac37%e5%9b%9e%e3%80%80%e6%97%a5%e6%9c%ac%e3%83%8f%e3%83%b3%e3%83%89%e3%82%bb%e3%83%a9%e3%83%94%e3%82%a3%e5%ad%a6%e4%bc%9a%e5%ad%a6%e8%a1%93%e9%9b%86%e4%bc%9a
LOCATION:パシフィコ横浜　ノース4F
CATEGORIES:その他主催の研修
END:VEVENT
END:VCALENDAR