BEGIN:VCALENDAR
VERSION:2.0
PRODID:-//兵庫県作業療法士会　研修案内 - ECPv6.7.0//NONSGML v1.0//EN
CALSCALE:GREGORIAN
METHOD:PUBLISH
X-ORIGINAL-URL:https://ot-hyogo.or.jp/file
X-WR-CALDESC:兵庫県作業療法士会　研修案内 のイベント
REFRESH-INTERVAL;VALUE=DURATION:PT1H
X-Robots-Tag:noindex
X-PUBLISHED-TTL:PT1H
BEGIN:VTIMEZONE
TZID:Asia/Tokyo
BEGIN:STANDARD
TZOFFSETFROM:+0900
TZOFFSETTO:+0900
TZNAME:JST
DTSTART:20250101T000000
END:STANDARD
END:VTIMEZONE
BEGIN:VEVENT
DTSTART;TZID=Asia/Tokyo:20251018T130000
DTEND;TZID=Asia/Tokyo:20251018T163000
DTSTAMP:20260421T062213
CREATED:20250910T022145Z
LAST-MODIFIED:20250910T022145Z
UID:4241-1760792400-1760805000@ot-hyogo.or.jp
SUMMARY:【主催：兵庫県】認知症対応力向上研修
DESCRIPTION:
URL:https://ot-hyogo.or.jp/file/event/%e3%80%90%e4%b8%bb%e5%82%ac%ef%bc%9a%e5%85%b5%e5%ba%ab%e7%9c%8c%e3%80%91%e8%aa%8d%e7%9f%a5%e7%97%87%e5%af%be%e5%bf%9c%e5%8a%9b%e5%90%91%e4%b8%8a%e7%a0%94%e4%bf%ae
LOCATION:姫路労働会館 多目的ホール
CATEGORIES:その他主催の研修
END:VEVENT
END:VCALENDAR