BEGIN:VCALENDAR
VERSION:2.0
PRODID:-//兵庫県作業療法士会　研修案内 - ECPv6.7.0//NONSGML v1.0//EN
CALSCALE:GREGORIAN
METHOD:PUBLISH
X-WR-CALNAME:兵庫県作業療法士会　研修案内
X-ORIGINAL-URL:https://ot-hyogo.or.jp/file
X-WR-CALDESC:兵庫県作業療法士会　研修案内 のイベント
REFRESH-INTERVAL;VALUE=DURATION:PT1H
X-Robots-Tag:noindex
X-PUBLISHED-TTL:PT1H
BEGIN:VTIMEZONE
TZID:Asia/Tokyo
BEGIN:STANDARD
TZOFFSETFROM:+0900
TZOFFSETTO:+0900
TZNAME:JST
DTSTART:20250101T000000
END:STANDARD
END:VTIMEZONE
BEGIN:VEVENT
DTSTART;TZID=Asia/Tokyo:20251206T100000
DTEND;TZID=Asia/Tokyo:20251206T100000
DTSTAMP:20260421T030755
CREATED:20250924T024728Z
LAST-MODIFIED:20250924T024728Z
UID:4314-1765015200-1765015200@ot-hyogo.or.jp
SUMMARY:【主催：日本作業科学学会】作業科学にまつわる研究法オンライン研修会
DESCRIPTION:【内容】作業科学にまつわる研究法オンライン研修会 \n「研究論文の読み方・書き方～作業科学研究論文を効果的に読む・書く～」 \n【日時】2025年12月6日（土）10:00〜12:00（受付9:45‐） \n【開催方法】オンライン開催（Zoom） \n【講師】近藤知子氏 \n【参加費】会員2000円、非会員3000円（日本作業科学学会の会員です。日本作業療法士協会の会員ではありません） \n【申込方法】下記 申し込みフォームからお申し込み下さい。 \nhttps://forms.gle/o3Vfi4uDtZTzM5WD8 \n・申し込みの締め切り ：2025年11月22日(土) \n・参加費入金の締め切り：2025年11月26日(水) \n【主催】日本作業科学学会 \n【お問い合わせ先】日本作業科学学会研究推進班 研修会事務局：nra20749@gmail.com（中塚聡）まで \n案内チラシ「研究論文の読み方・書き方」オンライン研修会 \n20251206開催要項「研究論文の読み方・書き方」 \n 
URL:https://ot-hyogo.or.jp/file/event/%e3%80%90%e4%b8%bb%e5%82%ac%ef%bc%9a%e6%97%a5%e6%9c%ac%e4%bd%9c%e6%a5%ad%e7%a7%91%e5%ad%a6%e5%ad%a6%e4%bc%9a%e3%80%91%e4%bd%9c%e6%a5%ad%e7%a7%91%e5%ad%a6%e3%81%ab%e3%81%be%e3%81%a4%e3%82%8f%e3%82%8b
LOCATION:WEB
CATEGORIES:その他主催の研修
END:VEVENT
END:VCALENDAR