BEGIN:VCALENDAR
VERSION:2.0
PRODID:-//兵庫県作業療法士会　研修案内 - ECPv6.7.0//NONSGML v1.0//EN
CALSCALE:GREGORIAN
METHOD:PUBLISH
X-ORIGINAL-URL:https://ot-hyogo.or.jp/file
X-WR-CALDESC:兵庫県作業療法士会　研修案内 のイベント
REFRESH-INTERVAL;VALUE=DURATION:PT1H
X-Robots-Tag:noindex
X-PUBLISHED-TTL:PT1H
BEGIN:VTIMEZONE
TZID:Asia/Tokyo
BEGIN:STANDARD
TZOFFSETFROM:+0900
TZOFFSETTO:+0900
TZNAME:JST
DTSTART:20260101T000000
END:STANDARD
END:VTIMEZONE
BEGIN:VEVENT
DTSTART;TZID=Asia/Tokyo:20260111T090000
DTEND;TZID=Asia/Tokyo:20260111T123000
DTSTAMP:20260421T012748
CREATED:20251125T040437Z
LAST-MODIFIED:20251125T040522Z
UID:4556-1768122000-1768134600@ot-hyogo.or.jp
SUMMARY:【主催：和歌山県作業療法士会】現職者選択研修「発達障害領域の作業療法」
DESCRIPTION:【内容】令和７年度現職者選択研修「発達障害領域の作業療法」 \n【日時】令和8年1月11日（日）・1月18日（日）　両日ともに9：00～12：10 \n【開催方法】オンライン開催（Zoom） \n【参加費】4\,000円（参加資格：今年度の日本作業療法士協会、都道府県作業療法士会の年会費納入済みの方） \n【参加申込方法】 \n《Googleフォーム》〔申込み締め切り　令和8年1月3日（土）〕 \n下記のURLもしくはQRコードから必要事項をご記入いただきます。 \nhttps://forms.gle/TjfMhVopXpw7GkpH6 \n【参加チケットの購入方法】 \n《PASSMARKET》〔チケット購入期限　令和8年1月5日（月）〕 \n下記のサイトから参加チケットを１枚ご購入下さい。 \nhttps://passmarket.yahoo.co.jp/event/show/detail/02zn5ejj8ar41.html \n（キャンセルポリシー） \n無断キャンセルの場合はご返金いたしかねますので、ご了承ください。 \n【注意事項】 \n４講義すべての受講が必須です。分割しての受講は認められません。 \n2024年度までの会員が対象となります。2025年度入会の会員は受講できません。 \n氏名、協会番号を間違われますと、受講登録ができません。絶対にお間違いのないよう、くれぐれもご確認ください。（※協会の会員システムを確認することをお勧めします。） \n参加申込み期限とチケット購入期限が異なりますので、ご確認ください。 \n【主催】和歌山県作業療法士会 \n【お問い合わせ】和歌山県作業療法士会　事務
URL:https://ot-hyogo.or.jp/file/event/%e3%80%90%e4%b8%bb%e5%82%ac%ef%bc%9a%e5%92%8c%e6%ad%8c%e5%b1%b1%e7%9c%8c%e4%bd%9c%e6%a5%ad%e7%99%82%e6%b3%95%e5%a3%ab%e4%bc%9a%e3%80%91%e7%8f%be%e8%81%b7%e8%80%85%e9%81%b8%e6%8a%9e%e7%a0%94%e4%bf%ae
LOCATION:WEB
CATEGORIES:その他主催の研修
END:VEVENT
BEGIN:VEVENT
DTSTART;TZID=Asia/Tokyo:20260111T133000
DTEND;TZID=Asia/Tokyo:20260111T170000
DTSTAMP:20260421T012748
CREATED:20251209T031420Z
LAST-MODIFIED:20251209T031420Z
UID:4617-1768138200-1768150800@ot-hyogo.or.jp
SUMMARY:第11回クリニカル・クラークシップに基づく作業療法臨床教育研究会 研究大会
DESCRIPTION:
URL:https://ot-hyogo.or.jp/file/event/%e7%ac%ac11%e5%9b%9e%e3%82%af%e3%83%aa%e3%83%8b%e3%82%ab%e3%83%ab%e3%83%bb%e3%82%af%e3%83%a9%e3%83%bc%e3%82%af%e3%82%b7%e3%83%83%e3%83%97%e3%81%ab%e5%9f%ba%e3%81%a5%e3%81%8f%e4%bd%9c%e6%a5%ad%e7%99%82
LOCATION:WEB
CATEGORIES:その他主催の研修
END:VEVENT
END:VCALENDAR