BEGIN:VCALENDAR
VERSION:2.0
PRODID:-//兵庫県作業療法士会　研修案内 - ECPv6.7.0//NONSGML v1.0//EN
CALSCALE:GREGORIAN
METHOD:PUBLISH
X-WR-CALNAME:兵庫県作業療法士会　研修案内
X-ORIGINAL-URL:https://ot-hyogo.or.jp/file
X-WR-CALDESC:兵庫県作業療法士会　研修案内 のイベント
REFRESH-INTERVAL;VALUE=DURATION:PT1H
X-Robots-Tag:noindex
X-PUBLISHED-TTL:PT1H
BEGIN:VTIMEZONE
TZID:Asia/Tokyo
BEGIN:STANDARD
TZOFFSETFROM:+0900
TZOFFSETTO:+0900
TZNAME:JST
DTSTART:20260101T000000
END:STANDARD
END:VTIMEZONE
BEGIN:VEVENT
DTSTART;TZID=Asia/Tokyo:20260201T090000
DTEND;TZID=Asia/Tokyo:20260201T180000
DTSTAMP:20260421T012549
CREATED:20251114T045016Z
LAST-MODIFIED:20251114T045016Z
UID:4509-1769936400-1769968800@ot-hyogo.or.jp
SUMMARY:第17回山梨県作業療法学術大会
DESCRIPTION:
URL:https://ot-hyogo.or.jp/file/event/%e7%ac%ac17%e5%9b%9e%e5%b1%b1%e6%a2%a8%e7%9c%8c%e4%bd%9c%e6%a5%ad%e7%99%82%e6%b3%95%e5%ad%a6%e8%a1%93%e5%a4%a7%e4%bc%9a
LOCATION:ジットプラザ
CATEGORIES:その他主催の研修
END:VEVENT
BEGIN:VEVENT
DTSTART;TZID=Asia/Tokyo:20260201T093000
DTEND;TZID=Asia/Tokyo:20260201T160000
DTSTAMP:20260421T012549
CREATED:20260107T015154Z
LAST-MODIFIED:20260107T015154Z
UID:4686-1769938200-1769961600@ot-hyogo.or.jp
SUMMARY:【主催：兵庫県リハ3士会】人材育成研修STEPⅢ(介護予防)
DESCRIPTION:
URL:https://ot-hyogo.or.jp/file/event/%e3%80%90%e4%b8%bb%e5%82%ac%ef%bc%9a%e5%85%b5%e5%ba%ab%e7%9c%8c%e3%83%aa%e3%83%8f3%e5%a3%ab%e4%bc%9a%e3%80%91%e4%ba%ba%e6%9d%90%e8%82%b2%e6%88%90%e7%a0%94%e4%bf%aestep%e2%85%b2%e4%bb%8b%e8%ad%b7
LOCATION:三宮コンベンションセンター
CATEGORIES:その他主催の研修
END:VEVENT
END:VCALENDAR