BEGIN:VCALENDAR
VERSION:2.0
PRODID:-//兵庫県作業療法士会　研修案内 - ECPv6.7.0//NONSGML v1.0//EN
CALSCALE:GREGORIAN
METHOD:PUBLISH
X-ORIGINAL-URL:https://ot-hyogo.or.jp/file
X-WR-CALDESC:兵庫県作業療法士会　研修案内 のイベント
REFRESH-INTERVAL;VALUE=DURATION:PT1H
X-Robots-Tag:noindex
X-PUBLISHED-TTL:PT1H
BEGIN:VTIMEZONE
TZID:Asia/Tokyo
BEGIN:STANDARD
TZOFFSETFROM:+0900
TZOFFSETTO:+0900
TZNAME:JST
DTSTART:20230101T000000
END:STANDARD
END:VTIMEZONE
BEGIN:VEVENT
DTSTART;TZID=Asia/Tokyo:20230416T100000
DTEND;TZID=Asia/Tokyo:20230416T120000
DTSTAMP:20260423T090017
CREATED:20230228T022844Z
LAST-MODIFIED:20230228T022844Z
UID:1194-1681639200-1681646400@ot-hyogo.or.jp
SUMMARY:第14回 訪問リハビリテーションフォーラム
DESCRIPTION:【オンライン開催】第14回 訪問リハビリテーションフォーラム \n【主催】公益社団法人日本理学療法士協会　一般社団法人日本作業療法士協会 \n一般社団法人日本言語聴覚士協会　一般社団法人日本介護支援専門員協会 \n【要旨】 \n2024年医療・介護保険同時改定に向けて、現在の訪問によるリハビリテーションにおける制度上の課題を確認するとともに、 \n今後の国民が輝く地域共生社会を構築するための協働について探っていきたい。 \n  \n■日時：2023年4月16日（日）10：00～12：10 \n■会場：オンライン開催 \n■ホームページ：http://www.hvrpf.jp/4301 \n■お申込み：https://ws.formzu.net/fgen/S837640356/ \n申込締切： 2023年4月12日（水） \n定員1000名（先着順）定員に達し次第受付を終了いたします。
URL:https://ot-hyogo.or.jp/file/event/%e7%ac%ac14%e5%9b%9e-%e8%a8%aa%e5%95%8f%e3%83%aa%e3%83%8f%e3%83%93%e3%83%aa%e3%83%86%e3%83%bc%e3%82%b7%e3%83%a7%e3%83%b3%e3%83%95%e3%82%a9%e3%83%bc%e3%83%a9%e3%83%a0
LOCATION:オンライン(Zoom)
CATEGORIES:その他主催の研修
END:VEVENT
BEGIN:VEVENT
DTSTART;TZID=Asia/Tokyo:20230419T100000
DTEND;TZID=Asia/Tokyo:20230421T170000
DTSTAMP:20260423T090017
CREATED:20230323T051640Z
LAST-MODIFIED:20230323T051640Z
UID:1208-1681898400-1682096400@ot-hyogo.or.jp
SUMMARY:バリアフリー2023セミナー
DESCRIPTION:
URL:https://ot-hyogo.or.jp/file/event/%e3%83%90%e3%83%aa%e3%82%a2%e3%83%95%e3%83%aa%e3%83%bc2023%e3%82%bb%e3%83%9f%e3%83%8a%e3%83%bc
LOCATION:インテックス大阪
CATEGORIES:その他主催の研修
END:VEVENT
BEGIN:VEVENT
DTSTART;VALUE=DATE:20230422
DTEND;VALUE=DATE:20230424
DTSTAMP:20260423T090017
CREATED:20230111T051618Z
LAST-MODIFIED:20230111T051618Z
UID:1018-1682121600-1682294399@ot-hyogo.or.jp
SUMMARY:第35回日本ハンドセラピィ学会学術集会
DESCRIPTION:
URL:https://ot-hyogo.or.jp/file/event/%e7%ac%ac35%e5%9b%9e%e6%97%a5%e6%9c%ac%e3%83%8f%e3%83%b3%e3%83%89%e3%82%bb%e3%83%a9%e3%83%94%e3%82%a3%e5%ad%a6%e4%bc%9a%e5%ad%a6%e8%a1%93%e9%9b%86%e4%bc%9a
LOCATION:御茶ノ水ソラシティカンファレンスセンター
CATEGORIES:その他主催の研修
END:VEVENT
BEGIN:VEVENT
DTSTART;VALUE=DATE:20230422
DTEND;VALUE=DATE:20230424
DTSTAMP:20260423T090017
CREATED:20230224T023358Z
LAST-MODIFIED:20230224T023358Z
UID:1181-1682121600-1682294399@ot-hyogo.or.jp
SUMMARY:第6回日本DCD学会学術集会
DESCRIPTION:学会名：第6回日本DCD学会学術集会 \nテーマ：DCD（発達性協調運動障害）最前線 \n　　　　～有効な支援方法の確立へ～ \n日　時：2023年4月22日（土）・23日（日） \n開催形式：ハイブリッド開催（現地＋ライブ、オンデマンド） \n会　場：岡山コンベンションセンター \n大会長：狩長弘親（吉備国際大学保健医療福祉学部作業療法学科） \n実行委員長：河本聡志（倉敷成人病センターリハビリテーション科） \n顧　問：七木田敦（広島大学大学院人間社会科学研究科） \n参加費：会員7\,000円　非会員8\,000円　学生2\,000円 \n申込方法：学術集会のホームページよりお申し込みください。 \nhttps://med-gakkai.jp/6dcd/jizen/ \n申込期間：2023年2月8日（水）～2023年6月7日（水） \nその他：日本作業療法士協会生涯教育ポイントの対象です。 \nURL：https://med-gakkai.jp/6dcd/ \nチラシはこちらから \n\n研修会名：第6回日本DCD学会学術集会サテライトセミナー \n日　時：2023年4月23日（日）15：00～18：00 \n開催形式：ハイブリッド開催（現地＋ライブ）※オンデマンド配信はありません。 \n会　場：岡山コンベンションセンター \n参加費：7\,000円 \n内　容：セミナー1「適応行動のアセスメント～Vineland-Ⅱ　実施方法編～」 \n講師：辻井正次（中京大学現代社会学部現代社会学科　教授） \n　　　　セミナー2「感覚面のアセスメントと支援」 \n講師：岩永竜一郎（長崎大学生命医科学域　教授/長崎大学子どもの \n　　　心の医療・教育センター　副センター長） \n申込方法：学術集会のホームページよりお申し込みください。 \nhttps://med-gakkai.jp/6dcd/jizen/ \n申込期間：2023年2月8日（水）～2023年4月23日（日）17：00
URL:https://ot-hyogo.or.jp/file/event/%e7%ac%ac6%e5%9b%9e%e6%97%a5%e6%9c%acdcd%e5%ad%a6%e4%bc%9a%e5%ad%a6%e8%a1%93%e9%9b%86%e4%bc%9a
LOCATION:ハイブリッド開催
CATEGORIES:その他主催の研修
END:VEVENT
END:VCALENDAR