BEGIN:VCALENDAR
VERSION:2.0
PRODID:-//兵庫県作業療法士会　研修案内 - ECPv6.7.0//NONSGML v1.0//EN
CALSCALE:GREGORIAN
METHOD:PUBLISH
X-ORIGINAL-URL:https://ot-hyogo.or.jp/file
X-WR-CALDESC:兵庫県作業療法士会　研修案内 のイベント
REFRESH-INTERVAL;VALUE=DURATION:PT1H
X-Robots-Tag:noindex
X-PUBLISHED-TTL:PT1H
BEGIN:VTIMEZONE
TZID:Asia/Tokyo
BEGIN:STANDARD
TZOFFSETFROM:+0900
TZOFFSETTO:+0900
TZNAME:JST
DTSTART:20230101T000000
END:STANDARD
END:VTIMEZONE
BEGIN:VEVENT
DTSTART;TZID=Asia/Tokyo:20230525T190000
DTEND;TZID=Asia/Tokyo:20230525T213000
DTSTAMP:20260423T072912
CREATED:20230516T034332Z
LAST-MODIFIED:20230516T034345Z
UID:1304-1685041200-1685050200@ot-hyogo.or.jp
SUMMARY:CURE-KOBE研修会
DESCRIPTION:  \n \n  \n第5回 CURE-KOBE研修のご案内 | CURE-KOBE
URL:https://ot-hyogo.or.jp/file/event/cure-kobe%e7%a0%94%e4%bf%ae%e4%bc%9a
LOCATION:WEB
CATEGORIES:その他主催の研修
END:VEVENT
BEGIN:VEVENT
DTSTART;TZID=Asia/Tokyo:20230526T190000
DTEND;TZID=Asia/Tokyo:20230526T210000
DTSTAMP:20260423T072912
CREATED:20230411T050715Z
LAST-MODIFIED:20230411T050832Z
UID:1231-1685127600-1685134800@ot-hyogo.or.jp
SUMMARY:第４１回高次脳機能障害作業療法研究会例会
DESCRIPTION:
URL:https://ot-hyogo.or.jp/file/event/1231
LOCATION:オンライン(Zoom)
CATEGORIES:その他主催の研修
END:VEVENT
END:VCALENDAR