BEGIN:VCALENDAR
VERSION:2.0
PRODID:-//兵庫県作業療法士会　研修案内 - ECPv6.7.0//NONSGML v1.0//EN
CALSCALE:GREGORIAN
METHOD:PUBLISH
X-ORIGINAL-URL:https://ot-hyogo.or.jp/file
X-WR-CALDESC:兵庫県作業療法士会　研修案内 のイベント
REFRESH-INTERVAL;VALUE=DURATION:PT1H
X-Robots-Tag:noindex
X-PUBLISHED-TTL:PT1H
BEGIN:VTIMEZONE
TZID:Asia/Tokyo
BEGIN:STANDARD
TZOFFSETFROM:+0900
TZOFFSETTO:+0900
TZNAME:JST
DTSTART:20230101T000000
END:STANDARD
END:VTIMEZONE
BEGIN:VEVENT
DTSTART;TZID=Asia/Tokyo:20230902T190000
DTEND;TZID=Asia/Tokyo:20230902T203000
DTSTAMP:20260422T213314
CREATED:20230711T042309Z
LAST-MODIFIED:20230711T042309Z
UID:1485-1693681200-1693686600@ot-hyogo.or.jp
SUMMARY:精神科OT・DCで使える運動課題と認知課題の多重課題プログラム
DESCRIPTION:テーマ：精神科OT・DCで使える運動課題と認知課題の多重課題プログラム \nCognitive Activation Therapy（CAT）の実践方法 \n主催：奈良県作業療法士会　精神障害専門委員会 \n日時：2023年9月2日（土）19:00〜20:30 \n形式：オンライン開催（ZOOM） \n参加費：無料 > 講師：木納潤一先生（秋津鴻池病院リハビリテーション部） \n申込期限：2023年8月28日 \n対象：日本作業療法士協会会員かつ都道府県作業療法士会会員 \n申し込み・問い合わせ先: https://www.naraot.jp/nblog/?p=4807 \n上記URL（奈良県作業療法士会　県内研修会）よりお申込みください。
URL:https://ot-hyogo.or.jp/file/event/%e7%b2%be%e7%a5%9e%e7%a7%91ot%e3%83%bbdc%e3%81%a7%e4%bd%bf%e3%81%88%e3%82%8b%e9%81%8b%e5%8b%95%e8%aa%b2%e9%a1%8c%e3%81%a8%e8%aa%8d%e7%9f%a5%e8%aa%b2%e9%a1%8c%e3%81%ae%e5%a4%9a%e9%87%8d%e8%aa%b2
LOCATION:オンライン(Zoom)
CATEGORIES:その他主催の研修
END:VEVENT
BEGIN:VEVENT
DTSTART;TZID=Asia/Tokyo:20230903T093000
DTEND;TZID=Asia/Tokyo:20230903T123000
DTSTAMP:20260422T213314
CREATED:20230712T072126Z
LAST-MODIFIED:20230712T072322Z
UID:1488-1693733400-1693744200@ot-hyogo.or.jp
SUMMARY:「近畿で繋がろう~作業療法士による自動車運転支援(2023年度第1弾)〜」締切8.18
DESCRIPTION:チラシのダウンロードはコチラから\n–
URL:https://ot-hyogo.or.jp/file/event/%e8%bf%91%e7%95%bf%e3%81%a7%e7%b9%8b%e3%81%8c%e3%82%8d%e3%81%86%e4%bd%9c%e6%a5%ad%e7%99%82%e6%b3%95%e5%a3%ab%e3%81%ab%e3%82%88%e3%82%8b%e8%87%aa%e5%8b%95%e8%bb%8a%e9%81%8b%e8%bb%a2%e6%94%af%e6%8f%b4
LOCATION:平成リハビリテーション専門学校
CATEGORIES:その他主催の研修
END:VEVENT
BEGIN:VEVENT
DTSTART;TZID=Asia/Tokyo:20230903T133000
DTEND;TZID=Asia/Tokyo:20230903T160000
DTSTAMP:20260422T213314
CREATED:20230818T050121Z
LAST-MODIFIED:20230818T050121Z
UID:1597-1693747800-1693756800@ot-hyogo.or.jp
SUMMARY:第14回救急医療フォーラム
DESCRIPTION:
URL:https://ot-hyogo.or.jp/file/event/%e7%ac%ac14%e5%9b%9e%e6%95%91%e6%80%a5%e5%8c%bb%e7%99%82%e3%83%95%e3%82%a9%e3%83%bc%e3%83%a9%e3%83%a0
LOCATION:姫路市市民会館大ホール
CATEGORIES:その他主催の研修
END:VEVENT
BEGIN:VEVENT
DTSTART;VALUE=DATE:20230909
DTEND;VALUE=DATE:20230911
DTSTAMP:20260422T213314
CREATED:20230621T052842Z
LAST-MODIFIED:20230621T052923Z
UID:1421-1694217600-1694390399@ot-hyogo.or.jp
SUMMARY:重点 運転と作業療法委員会協力 運転と地域の移動手段
DESCRIPTION:OT協会教育部では重点課題研修「運転と地域移動支援研修会」をオンラインで9月9日～10日で実施いたします。 \nこの研修会は今年度より新設された「運転と地域移動支援実践者」認定申請に必要な受講証明書の発行対象研修会となります。 \n協会ホームページ（重点：運転と地域移動支援研修会） \nhttps://www.jaot.or.jp/kenshuukai/kensyuukaiitiran/detail/20230022000401010/ \n 
URL:https://ot-hyogo.or.jp/file/event/%e9%87%8d%e7%82%b9-%e9%81%8b%e8%bb%a2%e3%81%a8%e4%bd%9c%e6%a5%ad%e7%99%82%e6%b3%95%e5%a7%94%e5%93%a1%e4%bc%9a%e5%8d%94%e5%8a%9b-%e9%81%8b%e8%bb%a2%e3%81%a8%e5%9c%b0%e5%9f%9f%e3%81%ae%e7%a7%bb%e5%8b%95
LOCATION:WEB
CATEGORIES:その他主催の研修
END:VEVENT
BEGIN:VEVENT
DTSTART;VALUE=DATE:20230910
DTEND;VALUE=DATE:20230911
DTSTAMP:20260422T213314
CREATED:20230704T032322Z
LAST-MODIFIED:20230704T032322Z
UID:1444-1694304000-1694390399@ot-hyogo.or.jp
SUMMARY:第4回（2023年度）日本ハンドセラピィ学会　全国研修会
DESCRIPTION:研修会名：第4回（2023年度）日本ハンドセラピィ学会　全国研修会 \n主催：一般社団法人　日本ハンドセラピィ学会 \n開催方法：オンデマンド講義/オンデマンド視聴 \n日時：オンライン配信（2023年9月10日） \nオンデマンド配信（2023年9月19日～2023年10月15日予定） \n参加対象者：作業療法士，理学療法士 \n講義内容：ハンドセラピィの基礎から臨床まで学べる8講座 \n参加費：会員5\,000円　非会員10\,000円 \n申込：オンライン講義＋オンデマンド視聴：2023年6月19日～2023年8月18日（参加費振込期限：2023年8月25日） \nオンデマンド視聴のみ：2023年6月19日&amp;#12316;2023年9月15日（参加費振込期限；2023年9月20日） \n日本ハンドセラピィ学会ホームページよりお申し込みください。 \nホームページURL：https://jhts.or.jp/ \n問い合わせ：第4回（2023年度）日本ハンドセラピィ学会全国研修会 \n受付事務担当　遠近 太郎 \nE-mail：hand.zenkoku@gmail.com
URL:https://ot-hyogo.or.jp/file/event/%e7%ac%ac4%e5%9b%9e%ef%bc%882023%e5%b9%b4%e5%ba%a6%ef%bc%89%e6%97%a5%e6%9c%ac%e3%83%8f%e3%83%b3%e3%83%89%e3%82%bb%e3%83%a9%e3%83%94%e3%82%a3%e5%ad%a6%e4%bc%9a%e3%80%80%e5%85%a8%e5%9b%bd%e7%a0%94
LOCATION:オンデマンド配信
CATEGORIES:その他主催の研修
END:VEVENT
BEGIN:VEVENT
DTSTART;TZID=Asia/Tokyo:20230916T100000
DTEND;TZID=Asia/Tokyo:20230916T153000
DTSTAMP:20260422T213314
CREATED:20230807T062148Z
LAST-MODIFIED:20230807T062148Z
UID:1574-1694858400-1694878200@ot-hyogo.or.jp
SUMMARY:第25回兵庫県総合リハビリテーション・ケア研究大会
DESCRIPTION:テーマ：こどものリハビリテーション～おとなlifeをイメージして～ \n大会長：柴田　徹（兵庫県立障害児者リハビリテーションセンター長） \n開催日時：9月16日(土)　10時～15時30分(予定) \n会場：兵庫県民会館　パルテホール　(オンライン参加は未対応) \n〒650-0011　 兵庫県神戸市中央区下山手通4丁目16-3 \n参加費：兵庫リハ協 会員：1\,000円 \n一般（非会員） ：3\,000円 \n支援学校関係者 ：無　料 \n主催：兵庫県リハビリテーション協議会 \n企画：兵庫県障害福祉課 \n（公社）兵庫県看護協会・訪問看護ステーション連絡協議会 \n（一社）兵庫県理学療法士会 \n（一社）兵庫県作業療法士会 \n（一社）兵庫県言語聴覚士会 \n（一社）兵庫県社会福祉士会 \n詳細チラシはこちらから \n 
URL:https://ot-hyogo.or.jp/file/event/%e7%ac%ac25%e5%9b%9e%e5%85%b5%e5%ba%ab%e7%9c%8c%e7%b7%8f%e5%90%88%e3%83%aa%e3%83%8f%e3%83%93%e3%83%aa%e3%83%86%e3%83%bc%e3%82%b7%e3%83%a7%e3%83%b3%e3%83%bb%e3%82%b1%e3%82%a2%e7%a0%94%e7%a9%b6%e5%a4%a7
LOCATION:兵庫県民会館　パルテホール
CATEGORIES:その他主催の研修
END:VEVENT
BEGIN:VEVENT
DTSTART;TZID=Asia/Tokyo:20230917T090000
DTEND;TZID=Asia/Tokyo:20230917T130000
DTSTAMP:20260422T213314
CREATED:20230817T042417Z
LAST-MODIFIED:20230817T042424Z
UID:1590-1694941200-1694955600@ot-hyogo.or.jp
SUMMARY:第19回 障害保健福祉領域OTカンファレンス in 北九州 & online
DESCRIPTION:  \n \n  \n詳細はこちらから
URL:https://ot-hyogo.or.jp/file/event/%e7%ac%ac19%e5%9b%9e-%e9%9a%9c%e5%ae%b3%e4%bf%9d%e5%81%a5%e7%a6%8f%e7%a5%89%e9%a0%98%e5%9f%9fot%e3%82%ab%e3%83%b3%e3%83%95%e3%82%a1%e3%83%ac%e3%83%b3%e3%82%b9-in-%e5%8c%97%e4%b9%9d%e5%b7%9e-online
LOCATION:ハイブリッド開催
CATEGORIES:その他主催の研修
END:VEVENT
BEGIN:VEVENT
DTSTART;TZID=Asia/Tokyo:20230918T093000
DTEND;TZID=Asia/Tokyo:20230918T123000
DTSTAMP:20260422T213314
CREATED:20230724T031950Z
LAST-MODIFIED:20230724T031950Z
UID:1528-1695029400-1695040200@ot-hyogo.or.jp
SUMMARY:作業療法プロセスの臨床思考を学ぶ  ～明日から使いたくなるOTのリーズニング～
DESCRIPTION:【内容】作業療法プロセスの臨床思考を学ぶ 　～明日から使いたくなるOTのリーズニング～ \n【講師】藤本一博先生（茅ヶ崎新北陵病院、湘南OT交流会） \n【日時】2023年9月18日（祝・月）9:30～12:30 \n【開催方法】オンライン開催（Zoom） \n【参加費】他都道府県士会員：3000円　日本作業療法士協会か都道府県士会のいずれか未加入：8000円 \n【申込方法】下記申し込みフォームからお申し込み下さい。 \nhttps://forms.gle/6B5kAfoxjiK76qev9 \n【研修詳細】https://shiga-ot.jp/info/wp-content/uploads/2023/07/c4225ad64203e93870b295ca00c9204d.pdf \n【主催】滋賀県作業療法士会MTDLP推進教育部
URL:https://ot-hyogo.or.jp/file/event/%e4%bd%9c%e6%a5%ad%e7%99%82%e6%b3%95%e3%83%97%e3%83%ad%e3%82%bb%e3%82%b9%e3%81%ae%e8%87%a8%e5%ba%8a%e6%80%9d%e8%80%83%e3%82%92%e5%ad%a6%e3%81%b6-%ef%bd%9e%e6%98%8e%e6%97%a5%e3%81%8b%e3%82%89%e4%bd%bf
LOCATION:オンライン(Zoom)
CATEGORIES:その他主催の研修
END:VEVENT
BEGIN:VEVENT
DTSTART;VALUE=DATE:20230923
DTEND;VALUE=DATE:20230925
DTSTAMP:20260422T213314
CREATED:20230706T022919Z
LAST-MODIFIED:20230706T022919Z
UID:1460-1695427200-1695599999@ot-hyogo.or.jp
SUMMARY:第18回箱づくり法セミナーin長野のご案内
DESCRIPTION:第18回箱づくり法全国研修会案内
URL:https://ot-hyogo.or.jp/file/event/%e7%ac%ac18%e5%9b%9e%e7%ae%b1%e3%81%a5%e3%81%8f%e3%82%8a%e6%b3%95%e3%82%bb%e3%83%9f%e3%83%8a%e3%83%bcin%e9%95%b7%e9%87%8e%e3%81%ae%e3%81%94%e6%a1%88%e5%86%85
LOCATION:長野保健医療大学
CATEGORIES:その他主催の研修
END:VEVENT
BEGIN:VEVENT
DTSTART;TZID=Asia/Tokyo:20230930T093000
DTEND;TZID=Asia/Tokyo:20230930T120000
DTSTAMP:20260422T213314
CREATED:20230703T012655Z
LAST-MODIFIED:20230703T012655Z
UID:1441-1696066200-1696075200@ot-hyogo.or.jp
SUMMARY:日本集中治療作業療法研究会主催　第1回日本集中治療作業療法研究会セミナー
DESCRIPTION:日時：２０２３年９月３０日（土）９：３０～１２：００予定 \n場所：ZOOM開催（後日　URLをお送りします） \n参加費：無料 \n対象：OT・PT・ST、興味のある療法士 \nOT協会生涯教育ポイント：１ポイント　セミナー終了後に領収証を発行いたします \n申し込み締め切り：２０２３年９月２３日 \n詳細・申込はコチラから
URL:https://ot-hyogo.or.jp/file/event/%e6%97%a5%e6%9c%ac%e9%9b%86%e4%b8%ad%e6%b2%bb%e7%99%82%e4%bd%9c%e6%a5%ad%e7%99%82%e6%b3%95%e7%a0%94%e7%a9%b6%e4%bc%9a%e4%b8%bb%e5%82%ac%e3%80%80%e7%ac%ac1%e5%9b%9e%e6%97%a5%e6%9c%ac%e9%9b%86%e4%b8%ad
CATEGORIES:その他主催の研修
END:VEVENT
END:VCALENDAR