BEGIN:VCALENDAR
VERSION:2.0
PRODID:-//兵庫県作業療法士会　研修案内 - ECPv6.7.0//NONSGML v1.0//EN
CALSCALE:GREGORIAN
METHOD:PUBLISH
X-WR-CALNAME:兵庫県作業療法士会　研修案内
X-ORIGINAL-URL:https://ot-hyogo.or.jp/file
X-WR-CALDESC:兵庫県作業療法士会　研修案内 のイベント
REFRESH-INTERVAL;VALUE=DURATION:PT1H
X-Robots-Tag:noindex
X-PUBLISHED-TTL:PT1H
BEGIN:VTIMEZONE
TZID:Asia/Tokyo
BEGIN:STANDARD
TZOFFSETFROM:+0900
TZOFFSETTO:+0900
TZNAME:JST
DTSTART:20250101T000000
END:STANDARD
END:VTIMEZONE
BEGIN:VEVENT
DTSTART;TZID=Asia/Tokyo:20250615T090000
DTEND;TZID=Asia/Tokyo:20250615T163000
DTSTAMP:20260421T112238
CREATED:20250422T005505Z
LAST-MODIFIED:20250430T015834Z
UID:3749-1749978000-1750005000@ot-hyogo.or.jp
SUMMARY:東京都作業療法士会 「現職者選択研修（発達障害領域の作業療法）」
DESCRIPTION:名称：2025年度　現職者選択研修（発達障害領域の作業療法） \n主催：東京都作業療法士会教育部 \n日時：2025年6月15日　9：00～16：10 \n場所：ＺＯＯＭによるオンライン研修 \n内容：本研修会は（社）日本作業療法士協会生涯教育制度の基礎コースに位置づけられている研修会で、臨床実践 \nに必要な基礎能力の向上を目的としています。また、他領域の現状や介入手法を学ぶ点において、発達障害領 \n域以外の分野に従事している方の受講も推奨されています。過去に受講した方も受講が可能です。 \n  \n「発達障害領域の基礎知識と作業療法の課題と展望」 \n酒井康年 先生（うめだ・あけぼの学園） \n10:40～12:10 「作業療法の実際①（0歳～就学前）」 \n佐々木清子 先生（東京保健医療専門職大学） \n13:00～14:30 「作業療法の実際②）（就学・学童期・青年期以降：6歳～18歳以降」 \n山西葉子 先生（東京都立大学） \n14:40～16:10 「自閉症スペクトラム障害児に対する作業療法の実際（主に18歳未満）」 \n飛田孝行 先生（東京小児療育病院） \n詳細URL：https://tokyo-ot.com/lecture/29441.html \n対象： \n学生の参加可否：参加可　条件： \n参加費：会員（日本作業療法士会員、県士会員）4000円　非会員（県士会のみに所属、いずれも所属していない方）8000円 \n定員：約50名 \n申込み方法：QRコードより申し込みフォームにアクセスし、必要事項をご記入、受験料の支払い方法を選択してください。 \n申込み締切：2025年6月8日 \n生涯教育ポイント：2ポイント \n託児サービスの有無：なし \n問い合わせ：tokyo.ot.children@gmail.com　東京都作業療法士会教育部　秋元まで \nチラシはこちらから↓ \n■2025.06.15.度現職者選択研修チラシ
URL:https://ot-hyogo.or.jp/file/event/%e6%9d%b1%e4%ba%ac%e9%83%bd%e4%bd%9c%e6%a5%ad%e7%99%82%e6%b3%95%e5%a3%ab%e4%bc%9a-%e3%80%8c%e7%8f%be%e8%81%b7%e8%80%85%e9%81%b8%e6%8a%9e%e7%a0%94%e4%bf%ae%ef%bc%88%e7%99%ba%e9%81%94%e9%9a%9c%e5%ae%b3
LOCATION:WEB
CATEGORIES:その他主催の研修
END:VEVENT
BEGIN:VEVENT
DTSTART;TZID=Asia/Tokyo:20250618T190000
DTEND;TZID=Asia/Tokyo:20250618T200000
DTSTAMP:20260421T112238
CREATED:20250527T050015Z
LAST-MODIFIED:20250527T050015Z
UID:3847-1750273200-1750276800@ot-hyogo.or.jp
SUMMARY:【主催：箱づくり法研究会】箱づくり法　研修会
DESCRIPTION:
URL:https://ot-hyogo.or.jp/file/event/%e3%80%90%e4%b8%bb%e5%82%ac%ef%bc%9a%e7%ae%b1%e3%81%a5%e3%81%8f%e3%82%8a%e6%b3%95%e7%a0%94%e7%a9%b6%e4%bc%9a%e3%80%91%e7%ae%b1%e3%81%a5%e3%81%8f%e3%82%8a%e6%b3%95%e3%80%80%e7%a0%94%e4%bf%ae%e4%bc%9a
LOCATION:WEB
CATEGORIES:その他主催の研修
END:VEVENT
BEGIN:VEVENT
DTSTART;TZID=Asia/Tokyo:20250621T190000
DTEND;TZID=Asia/Tokyo:20250621T210000
DTSTAMP:20260421T112238
CREATED:20250424T051937Z
LAST-MODIFIED:20250424T052030Z
UID:3768-1750532400-1750539600@ot-hyogo.or.jp
SUMMARY:【主催】一歩一歩・事例を大事にする会（SIG）　研修会
DESCRIPTION:<研修会名>事例報告ビギナー応援企画！事例のまとめ方講座～はじめてでも大丈夫！“伝わる”事例報告のコツ、教えます～ \n<内容>事例報告をまとめるために、どのように情報を整理し、どのような順番で書き、どのように言葉を選んでまとめていくのか、わかりやすく解説します。講師は、一歩一歩・事例を大事にする会代表の木納潤一が務めます。 \n<開催日>2025年6月21日（土）19:15～20:45 \n<形式>ZOOMオンライン形式 \n<対象>日本作業療法士協会会員かつ各都道府県作業療法士会会員 \n<参加費>2\,000円 \n<詳細>一歩一歩・事例を大事にする会HPからお申込みください。 \nhttps://sites.google.com/view/stepbystepseminar/%E3%83%9B%E3%83%BC%E3%83%A0 \n<申込締切>6/19（木） \n<お問い合わせ>jirei.step.by.step@gmail.com　木納（きのう）潤一 \n 
URL:https://ot-hyogo.or.jp/file/event/%e3%80%90%e4%b8%bb%e5%82%ac%e3%80%91%e4%b8%80%e6%ad%a9%e4%b8%80%e6%ad%a9%e3%83%bb%e4%ba%8b%e4%be%8b%e3%82%92%e5%a4%a7%e4%ba%8b%e3%81%ab%e3%81%99%e3%82%8b%e4%bc%9a%ef%bc%88sig%ef%bc%89-2
LOCATION:WEB
CATEGORIES:その他主催の研修
END:VEVENT
BEGIN:VEVENT
DTSTART;TZID=Asia/Tokyo:20250629T140000
DTEND;TZID=Asia/Tokyo:20250629T153000
DTSTAMP:20260421T112238
CREATED:20250423T043524Z
LAST-MODIFIED:20250423T043524Z
UID:3753-1751205600-1751211000@ot-hyogo.or.jp
SUMMARY:【兵庫県歯科衛生士会】 令和7年度健康公開講座
DESCRIPTION:下記WEB サイトからもご覧いただけます。 \n兵庫県歯科衛生士会 :: 県民の健口支援 (hyogo-dh.or.jp) \n 
URL:https://ot-hyogo.or.jp/file/event/%e3%80%90%e5%85%b5%e5%ba%ab%e7%9c%8c%e6%ad%af%e7%a7%91%e8%a1%9b%e7%94%9f%e5%a3%ab%e4%bc%9a%e3%80%91-%e4%bb%a4%e5%92%8c7%e5%b9%b4%e5%ba%a6%e5%81%a5%e5%ba%b7%e5%85%ac%e9%96%8b%e8%ac%9b%e5%ba%a7
LOCATION:WEB
CATEGORIES:その他主催の研修
END:VEVENT
END:VCALENDAR