BEGIN:VCALENDAR
VERSION:2.0
PRODID:-//兵庫県作業療法士会　研修案内 - ECPv6.7.0//NONSGML v1.0//EN
CALSCALE:GREGORIAN
METHOD:PUBLISH
X-ORIGINAL-URL:https://ot-hyogo.or.jp/file
X-WR-CALDESC:兵庫県作業療法士会　研修案内 のイベント
REFRESH-INTERVAL;VALUE=DURATION:PT1H
X-Robots-Tag:noindex
X-PUBLISHED-TTL:PT1H
BEGIN:VTIMEZONE
TZID:Asia/Tokyo
BEGIN:STANDARD
TZOFFSETFROM:+0900
TZOFFSETTO:+0900
TZNAME:JST
DTSTART:20250101T000000
END:STANDARD
END:VTIMEZONE
BEGIN:VEVENT
DTSTART;TZID=Asia/Tokyo:20250702T190000
DTEND;TZID=Asia/Tokyo:20250702T210000
DTSTAMP:20260421T093957
CREATED:20250519T024312Z
LAST-MODIFIED:20250519T024312Z
UID:3842-1751482800-1751490000@ot-hyogo.or.jp
SUMMARY:主催：一歩一歩・事例を大事にする会（SIG）「作業療法　事例検討会（2025年７～９月）」
DESCRIPTION:＜研修会名＞作業療法　事例検討会（2025年７～９月） \n＜日時＞ \n①7/02（火）19:15～20:45　老年期・認知症領域 \n②7/16（水）19:15～20:45　身体障害 \n③8/07（木）19:15～20:45　発達障害 \n④8/12（火）19:15～20:45　身体障害 \n⑤9/02（火）19:15～20:45　精神障害 \n⑥9/17（水）19:15～20:45　身体障害 \n⑦9/22（月）19:15～20:45　教育現場 \n＜受講資格＞日本作業療法士協会会員かつ各都道府県作業療法士会会員 \n＜受講料＞ \n・参加＋「事例報告」履修　2\,000円 \n・参加＋「事例検討」履修　2\,000円 \n・参加（聴講）のみ　1\,000円 \n＜形式＞ZOOMオンライン \n＜内容＞「事例報告」「事例検討」（現職者共通研修）の履修を可能にします。事例をまとめ、検討することで、作業療法の見識を深め、次の一歩を踏み出す機会とします。 \n＜定員＞「事例報告」2名、「事例検討」10名 \n＜詳細・申込＞ \nhttps://sites.google.com/view/otjireikentoukai/%E3%83%9B%E3%83%BC%E3%83%A0 \n＜申込締切＞「事例報告」は開催日の10日前まで。「事例検討」は開催日の前日まで。 \n※定員に達ししだい、受付を終了します。 \n※開催日の7日前までに発表者ゼロの場合は中止とし、返金いたします。 \n＜主催＞一歩一歩・事例を大事にする会（SIG） \n＜共催＞奈良県作業療法士会 \n＜お問い合わせ＞jirei.step.by.step@gmail.com　木納（きのう）潤一
URL:https://ot-hyogo.or.jp/file/event/%e4%b8%bb%e5%82%ac%ef%bc%9a%e4%b8%80%e6%ad%a9%e4%b8%80%e6%ad%a9%e3%83%bb%e4%ba%8b%e4%be%8b%e3%82%92%e5%a4%a7%e4%ba%8b%e3%81%ab%e3%81%99%e3%82%8b%e4%bc%9a%ef%bc%88sig%ef%bc%89%e3%80%8c%e4%bd%9c
LOCATION:WEB
CATEGORIES:その他主催の研修
END:VEVENT
BEGIN:VEVENT
DTSTART;TZID=Asia/Tokyo:20250705T103000
DTEND;TZID=Asia/Tokyo:20250705T200000
DTSTAMP:20260421T093957
CREATED:20250325T024900Z
LAST-MODIFIED:20250325T024900Z
UID:3702-1751711400-1751745600@ot-hyogo.or.jp
SUMMARY:第８回アディクション関連問題作業療法研究会研修会
DESCRIPTION:■研修会について \n来年度で第8回を迎える研修会は、東京にて開催いたします。会場である品川区大井町の「きゅりあん」は、全国からのアクセスを考慮しまして選ばせていただきました。 \nテーマは「領域を超えたアディクション支援の可能性」としまして、について、成増厚生病院の川田隆裕先生の講演をはじめ、多職種・多領域で行われるアディクション支援から作業療法との連携のヒントを得たいと考えています。また新たな取り組みとして、午後の時間には「マーケティング理論を活用しアディクション支援を考える」をテーマに、ワールドカフェ方式にて意見交換を重ねる時間を予定しております。 \n添付させていただきましたポスターならびに、下記のpeatixイベントページをご確認ください。皆さまご参加を心より待ちしております。 \nhttps://peatix.com/event/4309341
URL:https://ot-hyogo.or.jp/file/event/%e7%ac%ac%ef%bc%98%e5%9b%9e%e3%82%a2%e3%83%87%e3%82%a3%e3%82%af%e3%82%b7%e3%83%a7%e3%83%b3%e9%96%a2%e9%80%a3%e5%95%8f%e9%a1%8c%e4%bd%9c%e6%a5%ad%e7%99%82%e6%b3%95%e7%a0%94%e7%a9%b6%e4%bc%9a%e7%a0%94
LOCATION:きゅりあん
CATEGORIES:その他主催の研修
END:VEVENT
BEGIN:VEVENT
DTSTART;TZID=Asia/Tokyo:20250717T190000
DTEND;TZID=Asia/Tokyo:20250717T210000
DTSTAMP:20260421T093957
CREATED:20250624T015604Z
LAST-MODIFIED:20250624T015604Z
UID:3981-1752778800-1752786000@ot-hyogo.or.jp
SUMMARY:中播磨圏域リハビリテーション支援センター主催研修会 「地域包括ケアシステムに求められるリハ専門職の役割」
DESCRIPTION:日時 \n令和 7 年 7 月 17 日（木） 19：00～20：40　（受付 18：40） \n  \n会場 \nBIZ SPACE HIMEJI 中ホール501 \n  \n講師 \n小森 昌彦 先生 \n但馬長寿の郷　地域ケア課 \n  \n対象者 \n医療専門職（中播磨圏域以外も可） \n  \n定員 50 名 \n  \n参加費 無料 \n  \n申し込み方法 \n以下よりお申込みください \nhttps://forms.gle/zpDzoWSikemB4reC9 \n  \nチラシはこちらから
URL:https://ot-hyogo.or.jp/file/event/%e4%b8%ad%e6%92%ad%e7%a3%a8%e5%9c%8f%e5%9f%9f%e3%83%aa%e3%83%8f%e3%83%93%e3%83%aa%e3%83%86%e3%83%bc%e3%82%b7%e3%83%a7%e3%83%b3%e6%94%af%e6%8f%b4%e3%82%bb%e3%83%b3%e3%82%bf%e3%83%bc%e4%b8%bb%e5%82%ac-2
LOCATION:BIZ SPACE HIMEJI 中ホール501
CATEGORIES:その他主催の研修
END:VEVENT
BEGIN:VEVENT
DTSTART;TZID=Asia/Tokyo:20250723T103000
DTEND;TZID=Asia/Tokyo:20250724T153000
DTSTAMP:20260421T093957
CREATED:20250619T024442Z
LAST-MODIFIED:20250619T024442Z
UID:3975-1753266600-1753371000@ot-hyogo.or.jp
SUMMARY:ひょうご福祉用具・介護ロボットフェスティバル2025
DESCRIPTION:
URL:https://ot-hyogo.or.jp/file/event/%e3%81%b2%e3%82%87%e3%81%86%e3%81%94%e7%a6%8f%e7%a5%89%e7%94%a8%e5%85%b7%e3%83%bb%e4%bb%8b%e8%ad%b7%e3%83%ad%e3%83%9c%e3%83%83%e3%83%88%e3%83%95%e3%82%a7%e3%82%b9%e3%83%86%e3%82%a3%e3%83%90%e3%83%ab20
LOCATION:アクリエひめじ
CATEGORIES:その他主催の研修
END:VEVENT
BEGIN:VEVENT
DTSTART;TZID=Asia/Tokyo:20250726T190000
DTEND;TZID=Asia/Tokyo:20250726T210000
DTSTAMP:20260421T093957
CREATED:20250624T015041Z
LAST-MODIFIED:20250624T015804Z
UID:3979-1753556400-1753563600@ot-hyogo.or.jp
SUMMARY:【主催：一歩一歩・事例を大事にする会（SIG）】作業療法士のキャリアをひらく大学院という選択(7月～9月）
DESCRIPTION:１）研修会：作業療法士のキャリアをひらく大学院という選択　３回シリーズ \n  \n２）主催：一歩一歩・事例を大事にする会（SIG） \n３）日時： \n①2025年7月26日（土）19:15～20:45 \n「臨床×家庭×進学、どう乗り越えた？社会人男性OTのリアル」 \n②2025年8月28日（木）19:15～20:45 \n「臨床経験が浅くてもでも大丈夫？若手OTが語る大学院での学びと成長」 \n③2025年9月30日（火）19:15～20:45 \n「キャリアも生活も、自分らしく？社会人女性OTの大学院ライフ」 \n４）形式：ZOOMオンライン形式 \n５）内容：作業療法士として一歩先へ進むには、大学院への進学が選択肢の１つになります。しかし、進学するには不安やわからないことがたくさんあるかと思います。このセミナーでは、大学院へ進学した先輩OT３人に、進学の決め手や苦労・工夫を語っていただき、参加者が将来を考えるためのヒントにしていただくことを目的としています。 \n６）参加費：各2\,000円 \n７）申込先： 一歩一歩・事例を大事にする会HPからお申込みください。 \nhttps://sites.google.com/view/stepbystepseminar/%E3%83%9B%E3%83%BC%E3%83%A0 \n８）お問い合わせ　jirei.step.by.step@gmail.com　木納（きのう）潤一 \n９）参加対象：日本作業療法士協会会員かつ各都道府県作業療法士会会員
URL:https://ot-hyogo.or.jp/file/event/%e3%80%90%e4%b8%bb%e5%82%ac%ef%bc%9a%e4%b8%80%e6%ad%a9%e4%b8%80%e6%ad%a9%e3%83%bb%e4%ba%8b%e4%be%8b%e3%82%92%e5%a4%a7%e4%ba%8b%e3%81%ab%e3%81%99%e3%82%8b%e4%bc%9a%ef%bc%88sig%ef%bc%89%e3%80%91
LOCATION:WEB
CATEGORIES:その他主催の研修
END:VEVENT
BEGIN:VEVENT
DTSTART;VALUE=DATE:20250727
DTEND;VALUE=DATE:20250728
DTSTAMP:20260421T093957
CREATED:20250425T043921Z
LAST-MODIFIED:20250425T043921Z
UID:3771-1753574400-1753660799@ot-hyogo.or.jp
SUMMARY:一般社団法人　日本ハンドセラピィ学会主催　第5回全国研修会
DESCRIPTION:研修会名：一般社団法人　日本ハンドセラピィ学会主催　第5回全国研修会 \n会場：オンライン講義、オンデマンド配信（後日配信） \n期間：オンライン講義　2025年7月27日（日） \nオンデマンド配信　 2025年 8月3日（日）〜9月3日（水） \n募集期間：2025年5月9日〜7月11日（オンデマンド配信は8月15日（金）まで） \n参加費：ハンドセラピィ学会会員5\,000円　非会員10\,000円 \n申し込み方法：下記ホームページよりお申し込みください \n詳細：日本ハンドセラピィ学会ホームページ \nhttps://jhts.or.jp/ \nお問合せ： \n一般社団法人　日本ハンドセラピィ学会主催　第5回全国研修会 \n事務局 遠近太郎 北摂総合病院　リハビリテーション科\nE-mail: hand.zenkoku@gmail.com
URL:https://ot-hyogo.or.jp/file/event/%e4%b8%80%e8%88%ac%e7%a4%be%e5%9b%a3%e6%b3%95%e4%ba%ba%e3%80%80%e6%97%a5%e6%9c%ac%e3%83%8f%e3%83%b3%e3%83%89%e3%82%bb%e3%83%a9%e3%83%94%e3%82%a3%e5%ad%a6%e4%bc%9a%e4%b8%bb%e5%82%ac%e3%80%80%e7%ac%ac5
LOCATION:WEB
CATEGORIES:その他主催の研修
END:VEVENT
BEGIN:VEVENT
DTSTART;TZID=Asia/Tokyo:20250727T090000
DTEND;TZID=Asia/Tokyo:20250727T163000
DTSTAMP:20260421T093957
CREATED:20250616T050404Z
LAST-MODIFIED:20250616T050404Z
UID:3922-1753606800-1753633800@ot-hyogo.or.jp
SUMMARY:【主催：東京都作業療法士会】 現職者選択研修（老年期領域）
DESCRIPTION:１）主　　催： 東京都作業療法士会\n２）研修会名： 現職者選択研修：老年期領域\n内　　容：講義 1：老年期の基礎知識 首都医校：髙橋章郎先生 \n講義 2 ：老年期作業療法の治療的枠組み 社会医学技術学院：木下輝先生 \n講義 3 ：地域生活の支援 帝京平成大学：宇佐美好洋先生 \n講義 4 ：作業療法のトピックス 首都医校：大塚萌先生 \n＊上記の内容は 2025年5⽉現在のものです。講義の順番、内容等、変更になる場合があります。 \n３）日　　時：2025 年7 ⽉27 ⽇（⽇）9:00〜16:30(若⼲延⻑する場合あり) ZOOM 接続開始 8:45〜 \n４）会　　場：ZOOM による遠隔研修となります。各⾃、機材及び通信環境の確認をお願いします。 \n５）参加対象： 2024年度以前に日本作業療法士協会に入会された会員が対象です。（2025年度から入会される方は、対象外となります）\n６）参加費　： 会員4\,000円　非会員8\,000円（※会員は東京都作業療法士会会員もしくは日本作業療法士協会会員の方となります）\n７）その他：（HPリンク先など）https://tokyo-ot.com/lecture/29611.html \n  \n詳細チラシはこちらから
URL:https://ot-hyogo.or.jp/file/event/%e3%80%90%e4%b8%bb%e5%82%ac%ef%bc%9a%e6%9d%b1%e4%ba%ac%e9%83%bd%e4%bd%9c%e6%a5%ad%e7%99%82%e6%b3%95%e5%a3%ab%e4%bc%9a%e3%80%91-%e7%8f%be%e8%81%b7%e8%80%85%e9%81%b8%e6%8a%9e%e7%a0%94%e4%bf%ae%ef%bc%88
LOCATION:WEB
CATEGORIES:その他主催の研修
END:VEVENT
BEGIN:VEVENT
DTSTART;VALUE=DATE:20250731
DTEND;VALUE=DATE:20250802
DTSTAMP:20260421T093957
CREATED:20250528T064839Z
LAST-MODIFIED:20250528T064849Z
UID:3870-1753920000-1754092799@ot-hyogo.or.jp
SUMMARY:日本精神科病院協会　学術教育研修会　作業療法部門について
DESCRIPTION:－\n　チラシのダウンロードはこちら\n－ \nタイトル\n日本精神科病院協会　学術教育研修会　作業療法部門について \n内容\n日本精神科病院協会　学術教育研修会が令和7年7月31日～8月1日まで兵庫県神戸市で開催されます。 \n受講対象\n精神科の臨床に関与している作業療法士、およびこれに準ずる者\n現在、WEBもしくはFAXで募集をしております。 \n※日本作業療法士協会「生涯教育基礎コースポイント」を取得することができます。研修1日間につき1ポイントが認められています。 \n募集方法\n詳細は以下のホームページに載っています。\nhttps://www.nisseikyo.or.jp/education/kenshuukai/gakujutsukenshu/sagyouryouhoushibumon.php
URL:https://ot-hyogo.or.jp/file/event/3870
LOCATION:ホテル北野プラザ六甲荘
CATEGORIES:その他主催の研修
END:VEVENT
END:VCALENDAR