BEGIN:VCALENDAR
VERSION:2.0
PRODID:-//兵庫県作業療法士会　研修案内 - ECPv6.7.0//NONSGML v1.0//EN
CALSCALE:GREGORIAN
METHOD:PUBLISH
X-ORIGINAL-URL:https://ot-hyogo.or.jp/file
X-WR-CALDESC:兵庫県作業療法士会　研修案内 のイベント
REFRESH-INTERVAL;VALUE=DURATION:PT1H
X-Robots-Tag:noindex
X-PUBLISHED-TTL:PT1H
BEGIN:VTIMEZONE
TZID:Asia/Tokyo
BEGIN:STANDARD
TZOFFSETFROM:+0900
TZOFFSETTO:+0900
TZNAME:JST
DTSTART:20250101T000000
END:STANDARD
END:VTIMEZONE
BEGIN:VEVENT
DTSTART;TZID=Asia/Tokyo:20250907T100000
DTEND;TZID=Asia/Tokyo:20250907T160000
DTSTAMP:20260421T062030
CREATED:20250822T020833Z
LAST-MODIFIED:20250822T020931Z
UID:4186-1757239200-1757260800@ot-hyogo.or.jp
SUMMARY:【兵庫JRAT×中播磨リハビリテーション支援センター共催】 災害リハビリテーション研修
DESCRIPTION:日時 \n2025年9月7日（日）　10時～16時（受付9時30分） \n  \n会場 \nアクリエひめじ、webのハイブリッド開催 \n  \n講師 \n勝谷 将史氏 \n高本 浩路氏 \n佐野 一成氏 \n  \n対象者 \n兵庫県内のリハビリ関連職や行政職、災害リハビリテーションの関心のある方 \n  \n参加費　無料 \n  \n定員　現地会場30名、web100名 \n  \n申し込み方法：以下のURLよりお申し込みください \nhttps://forms.gle/VKZCHkmohZdptN846 \n  \n災害リハビリテーション研修　詳細チラシはこちらから \n  \n 
URL:https://ot-hyogo.or.jp/file/event/%e3%80%90%e5%85%b5%e5%ba%abjratx%e4%b8%ad%e6%92%ad%e7%a3%a8%e3%83%aa%e3%83%8f%e3%83%93%e3%83%aa%e3%83%86%e3%83%bc%e3%82%b7%e3%83%a7%e3%83%b3%e6%94%af%e6%8f%b4%e3%82%bb%e3%83%b3%e3%82%bf%e3%83%bc
LOCATION:ハイブリッド開催
CATEGORIES:その他主催の研修
END:VEVENT
BEGIN:VEVENT
DTSTART;TZID=Asia/Tokyo:20250912T190000
DTEND;TZID=Asia/Tokyo:20250912T203000
DTSTAMP:20260421T062030
CREATED:20250827T011552Z
LAST-MODIFIED:20250827T011552Z
UID:4207-1757703600-1757709000@ot-hyogo.or.jp
SUMMARY:【滋賀県作業療法士会・びわこリハビリテーション専門職大学共催】小児領域シリーズ研修会2025
DESCRIPTION:【主催】滋賀県作業療法士会・びわこリハビリテーション専門職大学共催 \n【後援】滋賀県 \n【研修会名】 \n滋賀県作業療法士会　小児領域シリーズ研修会2025 \n―　子どもたちのwell-beingを目指す作業療法の理論と技術を学ぼう！　― \n【講師】 \n辛島 千恵子 先生 \nびわこリハビリテーション専門職大学　学科長・教授 \n名古屋大学名誉教授 \n【内容】 \n2026年6月に滋賀県で開催される第46回近畿作業療法学会を控え、子どもたちの「できる」「わかる」「つながる」を支えるために必要な、作業療法の理論と技術を基礎から学べる全5回のシリーズ研修会 \n第1回：7月25日（金）　終了 \n第2回：9月12日（金） \n保育園、学校の場で「お友達と楽しく生活する!」を支える理論と技術 \n第3回：10月31日（金） \n重い障害がある子どもたちの「楽しく生活する・つながる」を支える理論と技術 \n第4回：12月12日（金） \n養育者の「前へ進めるかもしれない！」を支える共生のための理論と技術 \n第5回：3月13日（金） \n「ひと」の発達と支援技術 \n  \n【開催方法】 \nオンライン開催（Zoom）300名 \n【参加費】 \n無料 \n【参加対象】 \n作業療法士・理学療法士・言語聴覚士、 \n保育・教育・医療・福祉関係者など、発達支援に携わる専門職 \n【関連URL】 \nhttps://shiga-ot.jp/info/wp-content/uploads/2025/06/cb8f03d19b13f0ab17054a216c55b2ff.pdf \n25滋賀OT士会　小児期領域シリーズ研修会　チラシ
URL:https://ot-hyogo.or.jp/file/event/%e3%80%90%e6%bb%8b%e8%b3%80%e7%9c%8c%e4%bd%9c%e6%a5%ad%e7%99%82%e6%b3%95%e5%a3%ab%e4%bc%9a%e3%83%bb%e3%81%b3%e3%82%8f%e3%81%93%e3%83%aa%e3%83%8f%e3%83%93%e3%83%aa%e3%83%86%e3%83%bc%e3%82%b7%e3%83%a7
LOCATION:WEB
CATEGORIES:その他主催の研修
END:VEVENT
BEGIN:VEVENT
DTSTART;TZID=Asia/Tokyo:20250923T090000
DTEND;TZID=Asia/Tokyo:20250923T120000
DTSTAMP:20260421T062030
CREATED:20250824T060006Z
LAST-MODIFIED:20250824T060937Z
UID:4192-1758618000-1758628800@ot-hyogo.or.jp
SUMMARY:「人材育成研修会 STEP Ⅰ」締切9.21
DESCRIPTION:－\n　チラシのダウンロードはこちら\n－\n\n－\n　チラシのダウンロードはこちら\n－
URL:https://ot-hyogo.or.jp/file/event/%e3%80%8c%e4%ba%ba%e6%9d%90%e8%82%b2%e6%88%90%e7%a0%94%e4%bf%ae%e4%bc%9a-step-%e2%85%b0%e3%80%8d%e7%b7%a0%e5%88%872-1
LOCATION:オンライン(Zoom)
CATEGORIES:その他主催の研修
END:VEVENT
BEGIN:VEVENT
DTSTART;TZID=Asia/Tokyo:20250928T133000
DTEND;TZID=Asia/Tokyo:20250928T163000
DTSTAMP:20260421T062030
CREATED:20250804T053752Z
LAST-MODIFIED:20250804T053752Z
UID:4122-1759066200-1759077000@ot-hyogo.or.jp
SUMMARY:【主催：神奈川県作業療法士会】OTも知っておきたい！精神科薬のはなし
DESCRIPTION:◆研修会名 \nOTも知っておきたい！精神科薬のはなし \n◆主催 \n神奈川県作業療法士会学術部 \n◆開催地，会場 \n講義は遠隔会議アプリ「Zoom（ズーム）」で行います。 \n◆開催日時 \n2025年9月28日（日）13:30～16:30（Zoom開始13:15&amp;#12316;) \n◆内容 \n講師：成井繁先生 \n（湘南あおぞら薬局藤沢店／日本病院薬剤師会認定 精神科薬物療法認定薬剤師） \n  \n本研修では、精神科薬物療法認定薬剤師の資格を持ち、他機関連携なども積極的にされている成井先生をお呼びし、精神科薬の基礎知識から作業活動等において注意が必要な副作用や変薬時のポイント・連携事例などをお聞きし、OTが支援を行う上で知っておきたい精神科薬についての理解を深める研修となっています。 \n  \n◆参加費 \n神奈川県作業療法士会員: 1000円 \n非会員（神奈川県作業療法士会員でも会費未納の方）：3000円 \n他都道府県の作業療法士の方：1500円 \nその他（作業療法士以外の職種・お立場の方）：1000円 \n  \n◆参加申し込み方法 \n1．次のPeatixのURLから、チケットをご購入ください。 \nhttps://peatix.com/event/4482250 \n2．申し込み期限（チケット販売期限）は2025年9月24日（水）18時までです。 \nそれ以降のお申し込みはできませんので、お早めにお申し込みください。 \n3．会員でお申し込みの方は申込2週間前までに今年度県士会費を納入してください。 \n納入状況をお忘れの場合は、県士会事務局（Tel：045-663-5997）にお問い合わせください。 \n  \n◆申し込み期間 \n2025年7月1日（土）～2025年9月24日（水）18時まで \n◆連絡先 \n研修に関する問い合わせ \nMail：gakuseisin@gmail.com \n◆その他 \n生涯教育ポイント：2ポイント \n申込時にOT協会番号を入力した方は、学術部担当者からOT協会に研修に参加した旨を連絡します。 \n但し、会員でお申し込みの方で、会費納入が確認されなかった場合にはポイント付与はされません。 \n研修後、各自でOT協会の会員ポータルサイト（https://www.jaot.net/mm/#/login）でポイントをご確認ください。
URL:https://ot-hyogo.or.jp/file/event/%e3%80%90%e4%b8%bb%e5%82%ac%ef%bc%9a%e7%a5%9e%e5%a5%88%e5%b7%9d%e7%9c%8c%e4%bd%9c%e6%a5%ad%e7%99%82%e6%b3%95%e5%a3%ab%e4%bc%9a%e3%80%91ot%e3%82%82%e7%9f%a5%e3%81%a3%e3%81%a6%e3%81%8a%e3%81%8d%e3%81%9f
LOCATION:WEB
CATEGORIES:その他主催の研修
END:VEVENT
END:VCALENDAR