BEGIN:VCALENDAR
VERSION:2.0
PRODID:-//兵庫県作業療法士会　研修案内 - ECPv6.7.0//NONSGML v1.0//EN
CALSCALE:GREGORIAN
METHOD:PUBLISH
X-ORIGINAL-URL:https://ot-hyogo.or.jp/file
X-WR-CALDESC:兵庫県作業療法士会　研修案内 のイベント
REFRESH-INTERVAL;VALUE=DURATION:PT1H
X-Robots-Tag:noindex
X-PUBLISHED-TTL:PT1H
BEGIN:VTIMEZONE
TZID:Asia/Tokyo
BEGIN:STANDARD
TZOFFSETFROM:+0900
TZOFFSETTO:+0900
TZNAME:JST
DTSTART:20250101T000000
END:STANDARD
END:VTIMEZONE
BEGIN:VEVENT
DTSTART;TZID=Asia/Tokyo:20251001T190000
DTEND;TZID=Asia/Tokyo:20251001T210000
DTSTAMP:20260421T044101
CREATED:20250818T035421Z
LAST-MODIFIED:20250818T035421Z
UID:4148-1759345200-1759352400@ot-hyogo.or.jp
SUMMARY:【主催：一歩一歩・事例を大事にする会】作業療法　事例検討会（2025年10月～12月）
DESCRIPTION:＜研修会名＞作業療法　事例検討会（2025年10月～12月） \n＜日時＞ \n①10/01（水）19:15～20:45　老年期・認知症領域 \n②10/22（水）19:15～20:45　身体障害 \n③11/06（木）19:15～20:45　発達障害 \n④11/19（水）19:15～20:45　身体障害 \n⑤12/02（火）19:15～20:45　精神障害 \n⑥12/08（月）19:15～20:45　教育現場 \n⑦12/18（木）19:15～20:45　身体障害 \n＜受講資格＞日本作業療法士協会会員かつ各都道府県作業療法士会会員 \n＜受講料＞ \n・参加＋「事例報告」履修　2\,000円 \n・参加＋「事例検討」履修　2\,000円 \n・参加（聴講）のみ　1\,000円 \n＜形式＞ZOOMオンライン \n＜内容＞「事例報告」「事例検討」（現職者共通研修）の履修を可能にします。事例をまとめ、検討することで、作業療法の見識を深め、次の一歩を踏み出す機会とします。 \n＜定員＞「事例報告」2名、「事例検討」10名 \n＜詳細・申込＞ \nhttps://sites.google.com/view/otjireikentoukai/%E3%83%9B%E3%83%BC%E3%83%A0 \n＜申込締切＞「事例報告」は開催日の10日前まで。「事例検討」は開催日の前日まで。 \n※定員に達ししだい、受付を終了します。 \n※開催日の7日前までに発表者ゼロの場合は中止とし、返金いたします。 \n＜主催＞一歩一歩・事例を大事にする会（SIG） \n＜お問い合わせ＞jirei.step.by.step@gmail.com　木納（きのう）潤一
URL:https://ot-hyogo.or.jp/file/event/%e3%80%90%e4%b8%bb%e5%82%ac%ef%bc%9a%e4%b8%80%e6%ad%a9%e4%b8%80%e6%ad%a9%e3%83%bb%e4%ba%8b%e4%be%8b%e3%82%92%e5%a4%a7%e4%ba%8b%e3%81%ab%e3%81%99%e3%82%8b%e4%bc%9a%e3%80%91%e4%bd%9c%e6%a5%ad%e7%99%82
LOCATION:WEB
CATEGORIES:その他主催の研修
END:VEVENT
BEGIN:VEVENT
DTSTART;VALUE=DATE:20251003
DTEND;VALUE=DATE:20251005
DTSTAMP:20260421T044101
CREATED:20250617T021820Z
LAST-MODIFIED:20250617T023607Z
UID:3925-1759449600-1759622399@ot-hyogo.or.jp
SUMMARY:ノーリフトケア2025国際シンポジウム
DESCRIPTION:▶日時／会場\n10月3日（金）13：30～17：00　国際シンポジウム＠神戸国際会議場\n　　　　　　　18：00～20：00　15周年記念式典＠神戸ポートピアホテル\n10月4日（土）国際シンポジウム＠神戸国際会議場 \n▶大会長\n溝田　弘美　氏\n一般社団法人日本ノーリフト協会　理事／兵庫支部　支部長\n社会福祉法人弘陵福祉会　特別養護老人ホーム六甲の館　理事長／施設長 \n▶基調講演\n武藤 将胤［一社)WITH ALS 代表理事］\n2013年に難病ALSを発症、2014年に宣告を受ける。ALSになったことをキッカケに一般社団法人WITH ALSを2016年に立ち上げ。エンターテインメント、テクノロジー、介護の３領域で課題解決に取り組んでいる。 \n▶シンポジウム「医療・介護におけるテクノロジーの活用と腰痛予防対策」\n厚生労働省、経済産業省、溝田弘美［大会長］、武藤将胤［一社）WITH ALS 代表理事］\n司会進行　一社）日本ノーリフト協会　垰田和史［特別顧問］／保田淳子［代表］ \n▶特別講演\n『医療・介護に関わるすべての人をケアする社会の実現に向けて』\n～社長直轄プロジェクト立ち上げ、現在、そして未来へ～\n橋本康彦 [川崎重工業株式会社 代表取締役社長執行役員] 、保田淳子［代表］ \n特設ページはこちら：https://nla2025.jp/ \n  \nノーリフトケア2025国際シンポジウムチラシ
URL:https://ot-hyogo.or.jp/file/event/%e3%83%8e%e3%83%bc%e3%83%aa%e3%83%95%e3%83%88%e3%82%b1%e3%82%a22025%e5%9b%bd%e9%9a%9b%e3%82%b7%e3%83%b3%e3%83%9d%e3%82%b8%e3%82%a6%e3%83%a0
LOCATION:神戸国際会議場
CATEGORIES:その他主催の研修
END:VEVENT
BEGIN:VEVENT
DTSTART;VALUE=DATE:20251004
DTEND;VALUE=DATE:20251006
DTSTAMP:20260421T044101
CREATED:20250602T044359Z
LAST-MODIFIED:20250602T045434Z
UID:3880-1759536000-1759708799@ot-hyogo.or.jp
SUMMARY:第24回兵庫医科大学呼吸リハビリテーションセミナー
DESCRIPTION:<目的>\n「臨床に生きるセミナー」をテーマに、急性期呼吸リハビリテーションに関する講義、実技の研修により、その知識や手技を身につけ臨床活動に活かし患者及び社会に貢献する。 \n<対象>\n呼吸リハビリテーションに関わるすべての医療従事者 \n<開催日時>\n①2025年10月4日(土)　講義コース\n②2025年10月4日(土)、 10月5日(日)　講義+実技コース \n<開催場所>\n兵庫医科大学西宮キャンパス \n<定員>\n①150名、②80名 \n<値段>\n①15\,000円、②24\,000円 \n<3学会合同呼吸療法認定士>\n①25点、②50点 \n<内容>\n① 「臨床データ・画像から読み解く呼吸の診かた」\n「侵襲からの回復期における早期離床の実際」 などの講義 \n② 「呼吸介助手技」 などの実技 \n※詳細は以下HPをご参照ください。 \n<HP>\nNPO法人リハビリテーション医療推進機CRASEED\nhttps://craseed.sakura.ne.jp/seminar/2025/2025100405.html
URL:https://ot-hyogo.or.jp/file/event/3880
LOCATION:兵庫医科大学西宮キャンパス
CATEGORIES:その他主催の研修
END:VEVENT
BEGIN:VEVENT
DTSTART;VALUE=DATE:20251004
DTEND;VALUE=DATE:20251005
DTSTAMP:20260421T044101
CREATED:20250805T030932Z
LAST-MODIFIED:20250805T030932Z
UID:4125-1759536000-1759622399@ot-hyogo.or.jp
SUMMARY:【主催：ロボットと作業療法研究会】第6回 ロボットと作業療法研究会大会
DESCRIPTION:第6回 ロボットと作業療法研究会大会\nテーマ：Connect \n2025年 10 月 4 日（土） 受付：9:30～\n場所：兵庫医科大学 神戸キャンパス（オクタホール）\n参加費：無料\n1部 10:00～12:30 大会長講演、 特別講演（現地/オンライン）\n2部 13:45～14:45 ハンズオンセミナー（現地のみ）\n申込先：https://forms.gle/a5sagxNFDgRheiV1A\n主催：ロボットと作業療法研究会（OT協会のSIG取得）\nホーム | ロボットと作業療法研究会 \n【1部】\n大会長：佐野伸之 (福岡国際医療福祉大学、講師、作業療法士、PhD)\n講演）社会に求められるための作業療法の真価\n特別シンポジウム：小林大作氏 (株式会社アシテック・オコ、代表、作業療法士) \n島田真太郎氏（テクノツール株式会社、代表取締役）\n講演）OTの価値を社会へ～求められる専門性と創造性～ \n【2部】\nハンズオンセミナー： 株式会社アシテック・オコ、テクノツール株式会社\n講演）やりたい・できるを広げる支援技術 \n詳細チラシはこちらから
URL:https://ot-hyogo.or.jp/file/event/%e3%80%90%e4%b8%bb%e5%82%ac%ef%bc%9a%e3%83%ad%e3%83%9c%e3%83%83%e3%83%88%e3%81%a8%e4%bd%9c%e6%a5%ad%e7%99%82%e6%b3%95%e7%a0%94%e7%a9%b6%e4%bc%9a%e3%80%91%e7%ac%ac6%e5%9b%9e-%e3%83%ad%e3%83%9c%e3%83%83
LOCATION:兵庫医科大学 神戸キャンパス
CATEGORIES:その他主催の研修
END:VEVENT
BEGIN:VEVENT
DTSTART;TZID=Asia/Tokyo:20251005T100000
DTEND;TZID=Asia/Tokyo:20251005T160000
DTSTAMP:20260421T044101
CREATED:20250820T041108Z
LAST-MODIFIED:20250820T041108Z
UID:4177-1759658400-1759680000@ot-hyogo.or.jp
SUMMARY:【主催：社会作業療法士協会】作業療法士・働き方フォーラム2025
DESCRIPTION:＜開催概要＞ \n作業療法士・働き方フォーラム2025 \n【テーマ】「境界」を超える作業療法 ～それぞれのキャリアビジョン～ \n【内容】本フォーラムは，身体・精神・発達という領域の境界，医療・福祉・教育という活動分野の境界を越えて協働することで拓かれる新たな未来を探求いたします。日本作業療法士協会の現会長・前会長と社会作業療法士協会理事長が一堂に会するシンポジウムをはじめ，創造的な働き方や多面的な働き方について語り合うキャリアセッションを通じて，これからのVUCA（Volatility：変動性，Uncertainty：不確実性，Complexity：複雑性，Ambiguity：曖昧性）社会を生き抜くために必要な新しい働き方とキャリアビジョンを共に考える機会といたします。 \n【日時】2025年10月5日（日）　10:00-16:00（受付9:30開始） \n【場所】：兵庫医科大学 神戸キャンパス　オクタホール \n神戸市中央区港島1丁目-3-6 （ポートライナー「みなとじま（キャンパス前）」駅下車　徒歩約10分） \n【参加費】会員5\,000円、非会員6\,000円、作業療法学生無料 \n※参加費にはランチビュッフェ代が含まれます \n※作業療法学生の方は参加費＆ランチ無料です（当日学生証をお持ちください） \n【講師】シンポジウム \n<発言者>  山本伸一氏（日本作業療法士協会 会長）、 \n中村春基氏（千里リハビリテーション病院 副院長、前・日本作業療法士協会 会長） \n大嶋伸雄氏（東京都立大学 名誉教授、JASOT 理事長） \n<モデレーター>  高橋章郞氏（NPO法人ルーツ・ユアセルフ 副理事長、JASOT 理事） \nキャリアセッション \n<ゲスト> 杉村卓哉氏（ショッピングリハビリカンパニー株式会社 取締役FOUNDER） \n松本明人氏（株式会社THE FIVE 取締役、JASOT 幹事) \n<キャリアモデレーター> 大郷和成氏（NPO法人laule’a 副理事長、JASOT 理事) \n【申し込み先】https://gkb.jp/visitor/seminar/417 \n【申し込み締切】2025年9月28日（日） \n【参加対象】作業療法士、その他 \n【関連URL】https://www.jasot.org/ \n【主催】社会作業療法士協会 \n【備考】フォーラム開催までの間、どなたでも参加できるfacebookグループにてフォーラムの情報を発信していきます。Facebookグループへの参加費は無料ですのでぜひご参加ください。 \nfacebookグループ：https://www.facebook.com/groups/690391517230799/ \n  \n作業療法士働き方フォーラム2025開催概要 \n作業療法士・働き方フォーラムリーフレット
URL:https://ot-hyogo.or.jp/file/event/%e3%80%90%e4%b8%bb%e5%82%ac%ef%bc%9a%e7%a4%be%e4%bc%9a%e4%bd%9c%e6%a5%ad%e7%99%82%e6%b3%95%e5%a3%ab%e5%8d%94%e4%bc%9a%e3%80%91%e4%bd%9c%e6%a5%ad%e7%99%82%e6%b3%95%e5%a3%ab%e3%83%bb%e5%83%8d%e3%81%8d
LOCATION:兵庫医科大学 神戸キャンパス　オクタホール
CATEGORIES:その他主催の研修
END:VEVENT
BEGIN:VEVENT
DTSTART;TZID=Asia/Tokyo:20251011T093000
DTEND;TZID=Asia/Tokyo:20251011T163000
DTSTAMP:20260421T044101
CREATED:20250929T051153Z
LAST-MODIFIED:20250929T051153Z
UID:4338-1760175000-1760200200@ot-hyogo.or.jp
SUMMARY:【主催：運転と作業療法学会】応用研修会「高齢者の自動車運転と地域移動支援」
DESCRIPTION:運転と作業療法学会 \n応用研修会「高齢者の自動車運転と地域移動支援」 \n・開催日 ：2025 年 10 月 11 日(土) \n・オンライン開催（zoom） \n・定員 ：90 名 \n・参加費 ：会員 2000 円 非会員 4000 円 \n・締切 ：2025 年 10 月 8 日（水） 12 時 \n・内 容 ： \n近年、作業療法士は医療機関以外の領域でも、自動車運転と地域移動支援に関わる機会が増えています。本研修では、認知症をはじめとした高齢者の自動車運転について、医師の立場から先進的トピックを講義します。続いて、地域で暮らす高齢者のモビリティライフについて概説します。また、安全な運転継続と運転中止後の健康維持のための予防事業、地域での住民参加型の外出移動支援、地域高齢者並びに家族支援について作業療法士としての実践を紹介します。これらの講義を通じて、作業療法士の新たな活動の場を知ることを目指します。 \n【プログラム】 \n① 9:30～10:50 \n「高齢者の自動車運転支援」 \n上村 直人（高知リハビリテーション専門職大学） \n② 11:00～12:20 \n「高齢者とその家族に対する運転と移動支援」 \n松浦 篤子（荒尾こころの郷病院） \n③ 13:15～14:35 \n「高齢者のモビリティライフと教育的予防事業」 \n佐々木 努（北海道千歳リハビリテーション大学） \n④ 14:55～16:15 \n「高齢者地域住民が共に創る、地域に根ざした移動支援の実践」 \n小渕 浩平（長野松代総合病院） \n⑤ 16:15～16:30 \n「質疑応答」 \n★ ご参加登録について \n詳細および参加申し込みはこちらをご参照ください。 \n 
URL:https://ot-hyogo.or.jp/file/event/%e3%80%90%e4%b8%bb%e5%82%ac%ef%bc%9a%e9%81%8b%e8%bb%a2%e3%81%a8%e4%bd%9c%e6%a5%ad%e7%99%82%e6%b3%95%e5%ad%a6%e4%bc%9a%e3%80%91%e5%bf%9c%e7%94%a8%e7%a0%94%e4%bf%ae%e4%bc%9a%e3%80%8c%e9%ab%98%e9%bd%a2
LOCATION:WEB
CATEGORIES:その他主催の研修
END:VEVENT
BEGIN:VEVENT
DTSTART;TZID=Asia/Tokyo:20251018T130000
DTEND;TZID=Asia/Tokyo:20251018T163000
DTSTAMP:20260421T044101
CREATED:20250910T022145Z
LAST-MODIFIED:20250910T022145Z
UID:4241-1760792400-1760805000@ot-hyogo.or.jp
SUMMARY:【主催：兵庫県】認知症対応力向上研修
DESCRIPTION:
URL:https://ot-hyogo.or.jp/file/event/%e3%80%90%e4%b8%bb%e5%82%ac%ef%bc%9a%e5%85%b5%e5%ba%ab%e7%9c%8c%e3%80%91%e8%aa%8d%e7%9f%a5%e7%97%87%e5%af%be%e5%bf%9c%e5%8a%9b%e5%90%91%e4%b8%8a%e7%a0%94%e4%bf%ae
LOCATION:姫路労働会館 多目的ホール
CATEGORIES:その他主催の研修
END:VEVENT
BEGIN:VEVENT
DTSTART;TZID=Asia/Tokyo:20251025T100000
DTEND;TZID=Asia/Tokyo:20251025T100000
DTSTAMP:20260421T044101
CREATED:20250818T040335Z
LAST-MODIFIED:20250818T040335Z
UID:4150-1761386400-1761386400@ot-hyogo.or.jp
SUMMARY:【主催：日本作業科学研究会】質的研究法オンライン研修会
DESCRIPTION:【内容】質的研究法オンライン研修会 \n【日時】2025年10月25日（土）10:00〜12:00（受付開始 9:45） \n【開催方法】オンライン（Zoom） \n【講師】小田原悦子 氏 \n【参加費】会員 2\,000円、非会員 3\,000円 \n（※日本作業科学学会の会員であり、日本作業療法士協会の会員ではありません。） \n【申込方法】下記フォームよりお申し込みください \nhttps://forms.gle/T9VSBsTm1zBCZTZM6 \n・申込締切：2025年10月11日（土） \n・参加費入金締切：2025年10月15日（水） \n【主催】日本作業科学学会・研究推進班 \n（※2025年度より日本作業科学研究会から名称が変更されました） \n【お問い合わせ先】日本作業科学学会 研究推進班 研修会事務局 \nE-mail：nra20749@gmail.com（中塚 聡） \n10_25(土)「質的研究法」オンライン研修会開催要項 \n10_25(土)「質的研究法」オンライン研修会　チラシ \n 
URL:https://ot-hyogo.or.jp/file/event/%e3%80%90%e4%b8%bb%e5%82%ac%ef%bc%9a%e6%97%a5%e6%9c%ac%e4%bd%9c%e6%a5%ad%e7%a7%91%e5%ad%a6%e7%a0%94%e7%a9%b6%e4%bc%9a%e3%80%91%e8%b3%aa%e7%9a%84%e7%a0%94%e7%a9%b6%e6%b3%95%e3%82%aa%e3%83%b3%e3%83%a9
LOCATION:WEB
CATEGORIES:その他主催の研修
END:VEVENT
END:VCALENDAR