BEGIN:VCALENDAR
VERSION:2.0
PRODID:-//兵庫県作業療法士会　研修案内 - ECPv6.7.0//NONSGML v1.0//EN
CALSCALE:GREGORIAN
METHOD:PUBLISH
X-ORIGINAL-URL:https://ot-hyogo.or.jp/file
X-WR-CALDESC:兵庫県作業療法士会　研修案内 のイベント
REFRESH-INTERVAL;VALUE=DURATION:PT1H
X-Robots-Tag:noindex
X-PUBLISHED-TTL:PT1H
BEGIN:VTIMEZONE
TZID:Asia/Tokyo
BEGIN:STANDARD
TZOFFSETFROM:+0900
TZOFFSETTO:+0900
TZNAME:JST
DTSTART:20260101T000000
END:STANDARD
END:VTIMEZONE
BEGIN:VEVENT
DTSTART;TZID=Asia/Tokyo:20260219T190000
DTEND;TZID=Asia/Tokyo:20260219T210000
DTSTAMP:20260422T002722
CREATED:20251119T025019Z
LAST-MODIFIED:20260216T033902Z
UID:4536-1771527600-1771534800@ot-hyogo.or.jp
SUMMARY:600「東播磨ブロック MTDLP事例報告会」締切(発表/聴講)2.12
DESCRIPTION:2月16日（月）12時30分頃に研修に関する情報をPeatixから送信しました（以下参照）\n600 東播磨ブロックMTDLP事例発表会（2/19）受付完了者へメールを送信しました  \nタイトル\n東播磨ブロック ＭＴＤＬＰ事例発表会 \n内容\nMTDLP基礎研修修了した皆様には、次のステップである実践者研修修了を目指し、自施設で実践を行い、事例発表会にて発表頂きたいと思います。多数の発表よろしくお願いします。また以後発表を予定されている方は聴講者として参加することをおすすめします。 \n2018年度より、発表者は事例発表後に協会の事例報告を行いＭＴＤＬＰ指導者を目指す方（Aコース）と事例発表を行いＭＴＤＬＰ研修修了を目指す方（Bコース）で発表シートを選択できるようになっております。 \n発表者は、「MTDLP事例発表会発表資料変更のおしらせ」「MTDLP事例発表における発表者の皆様へ」をよく読み、資料の作成および事前準備をお願いします。発表に関しては「MTDLP事例発表会に向けたチェックリスト」を必ず参考にして準備をお願いします。 \nMTDLP事例発表会発表資料変更のおしらせ \nMTDLP事例発表における発表者の皆様へ \nMTDLP事例発表会に向けたチェックリスト \n日時\n2月19日（木曜日）　19：00 ～ 21：00（受付 18：50～） \n会　場\nオンライン（Zoom）\n※受付完了者には研修日の３日前（平日のみ）までPeatixメッセージからミーティング情報を配信致します。 \n講　師\n末吉　謙斗　先生（ 明石仁十病院 ）\n松本　宏昭　先生（ 江井島病院 ） \n定　員\n発表者　3名（生涯ポイント２ポイント）\n聴講者　20名（生涯ポイント２ポイント） \n受講費\n1\,000円（※別途Peatix利用料が加算されます） \n申込条件\n1）発表者・聴講者ともにOT協会員・都道府県士会の両方に入会していること\n2）発表者は、MTDLP基礎研修（平成28年度～現職者選択研修MTDLP）修了者であること\n※申込条件がある場合、申込の時点でその会員資格を有する必要があります\n※条件を満たしていない方からの申し込みは事務局にてキャンセル手続きを自動的に行いますので予めご了承ください。\n（兵庫県士会員か否かの確認はマイページへのログインの可否で判断できます。不明な人はまずはマイページログインができるか試してください。） \n受講条件\nオンラインでの研修会に参加される方は、参加条件・準備事項・個人情報保護について以下の資料を必ずご確認ください。 \nオンライン研修会に参加される皆さまへ \nオンライン研修における研修情報および個人情報保護について \n締め切り\n発表申し込み：2月12日（木）　13時\n聴講申し込み：2月12日（木）　13時\n事例発表資料締切：2月14日（日） \nその他\n・聴講者は、MTDLP研修の要件を満たしません。\n・オンラインでの開催となりますので、発表者の方は当日の資料印刷は必要ありません。\n・締め切り後、研修会担当者から、発表者への連絡が必要な場合は「マイページ 個人用メールアドレス」を使用させていただきます。ご了承下さい。 \n問い合わせ先\n障がい者支援センターてらだ　井上　皓太\nTell：079-424-3211　mail： \nその他\n事務局での自動キャンセル扱いとなった方には「受講に関するお知らせ」が届きません。また自動キャンセル時に返金手続きも完了しています \n申し込み受付は終了しました\n 
URL:https://ot-hyogo.or.jp/file/event/4536
LOCATION:オンライン(Zoom)
CATEGORIES:兵庫県作業療法士会主催の研修
END:VEVENT
BEGIN:VEVENT
DTSTART;TZID=Asia/Tokyo:20260220T190000
DTEND;TZID=Asia/Tokyo:20260220T210000
DTSTAMP:20260422T002722
CREATED:20251126T051706Z
LAST-MODIFIED:20260217T031306Z
UID:4560-1771614000-1771621200@ot-hyogo.or.jp
SUMMARY:601「西播磨ブロック MTDLP実践者研修について」締切(発表/聴講)2.12
DESCRIPTION:2月17日（火）11時40分頃に研修に関する情報をPeatixから送信しました（以下参照）\n601 西播磨ブロック MTDLP実践者研修（2/20）受付完了者へメールを送信しました  \n\nタイトル\n西播磨ブロックＭＴＤＬＰ事例発表会 \n内容\nMTDLP基礎研修修了した皆様には、次のステップである実践者研修修了を目指し、自施設で実践を行い、事例発表会にて発表頂きたいと思います。多数の発表よろしくお願いします。また以後発表を予定されている方は聴講者として参加することをおすすめします。 \n2018年度より、発表者は事例発表後に協会の事例報告を行いＭＴＤＬＰ指導者を目指す方（Aコース）と事例発表を行いＭＴＤＬＰ研修修了を目指す方（Bコース）で発表シートを選択できるようになっております。 \n発表者は、「MTDLP事例発表会発表資料変更のおしらせ」「MTDLP事例発表における発表者の皆様へ」をよく読み、資料の作成および事前準備をお願いします。発表に関しては「MTDLP事例発表会に向けたチェックリスト」を必ず参考にして準備をお願いします。 \nMTDLP事例発表会発表資料変更のおしらせ \nMTDLP事例発表における発表者の皆様へ \nMTDLP事例発表会に向けたチェックリスト \n日時\n2月20日（金曜日）　19：00～ 21：00　21：30予定（受付 18：45～） \n会　場\nオンライン（Zoom）\n※受付完了者には研修日の３日前（平日のみ）までPeatixメッセージからミーティング情報を配信致します。 \n定　員\n発表者 　4⇒6名（生涯ポイント２ポイント）※２名追加（兵庫県作業療法士会会員のみ）\n聴講者　10名（生涯ポイント２ポイント） \n受講費\n1\,000円（※別途Peatix利用料が加算されます） \n申込条件\n1）発表者・聴講者ともにOT協会員・都道府県士会の両方に入会していること\n2）発表者は、MTDLP基礎研修（平成28年度～現職者選択研修MTDLP）修了者であること\n※申込条件がある場合、申込の時点でその会員資格を有する必要があります\n※条件を満たしていない方からの申し込みは事務局にてキャンセル手続きを自動的に行いますので予めご了承ください。\n（兵庫県士会員か否かの確認はマイページへのログインの可否で判断できます。不明な人はまずはマイページログインができるか試してください。） \n受講条件\nオンラインでの研修会に参加される方は、参加条件・準備事項・個人情報保護について以下の資料を必ずご確認ください。 \nオンライン研修会に参加される皆さまへ \nオンライン研修における研修情報および個人情報保護について \n締め切り\n発表申し込み：2月12日（木）　13時\n聴講申し込み：2月12日（木）　13時\n事例発表資料締切：2月12日（木） \nその他\n・聴講者は、MTDLP研修の要件を満たしません。\n・オンラインでの開催となりますので、発表者の方は当日の資料印刷は必要ありません。\n・締め切り後、研修会担当者から、発表者への連絡が必要な場合は「マイページ 個人用メールアドレス」を使用させていただきます。ご了承下さい。 \n問い合わせ先\n宍粟総合病院　竹内萌花　mail: \nその他\n事務局での自動キャンセル扱いとなった方には「受講に関するお知らせ」が届きません。また自動キャンセル時に返金手続きも完了しています \n申し込み受付は終了しました\n 
URL:https://ot-hyogo.or.jp/file/event/4560
LOCATION:オンライン(Zoom)
CATEGORIES:兵庫県作業療法士会主催の研修
END:VEVENT
BEGIN:VEVENT
DTSTART;TZID=Asia/Tokyo:20260222T100000
DTEND;TZID=Asia/Tokyo:20260222T153000
DTSTAMP:20260422T002722
CREATED:20251014T073947Z
LAST-MODIFIED:20260219T033808Z
UID:4392-1771754400-1771774200@ot-hyogo.or.jp
SUMMARY:589「阪神北南ブロック第2回現職者共通研修 事例検討・事例報告」締切(発表)11.30 (検討/聴講)2.2
DESCRIPTION:2月19日（木）12時30分頃に研修に関する情報をPeatixから送信しました（以下参照） \n589 阪神北南ブロック第２回現職共通研修事例検討・事例報告（2/22）受付完了者へメールを送信しました \nタイトル\n阪神北南ブロック第2回現職者共通研修 事例検討・事例報告 \n日　時\n２月２２日（日曜日）　１０：００ ～ １５：３０（受付 ９：３０～） \n会　場\nオンライン（Zoom）\n※受付完了者には研修日の３日前（平日のみ）までPeatixメッセージからミーティング情報を配信致します。 \n定　員\n発表者　２０名　（生涯教育ポイント２P）\n検討者　制限なし　（生涯教育ポイント２P）\n聴講者　制限なし　（生涯教育ポイント非該当） \n受講費\n発表者及び検討者　1\,000円\n同時履修者　　　　2\,000円\n※別途Peatix利用料が加算されます\n※聴講者は受講費不要です \n申込条件\n発表者；兵庫県作業療法士会会員であること\n検討者；OT協会員であること\n※発表者・検討者は２０２４年度までにOT協会入会済の会員であること\n聴講者；特になし \n※申込条件がある場合、申込の時点でその会員資格を有する必要があります\n※条件を満たしていない方からの申し込みは事務局にてキャンセル手続きを自動的に行いますので予めご了承ください。\n（兵庫県士会員か否かの確認はマイページへのログインの可否で判断できます。不明な人はまずはマイページログインができるか試してください。） \n受講条件\nオンラインでの研修会に参加される方は、参加条件・準備事項・個人情報保護について以下の資料を必ずご確認ください。 \nオンライン研修会に参加される皆さまへ\nオンライン研修における研修情報および個人情報保護について \n締め切り\n発表者　締め切り　11月30日（日）13時\n検討者　締め切り　2月2日（月）13時\n聴講者　締め切り　2月2日（月）13時 \n事例報告指導者について\n 発表者には受付時に「事例報告指導者の情報」を入力していただきます。氏名、OT協会会員番号、所属先を確認の上、申し込みをお願いします。\n 事例報告指導者は日本作業療法士協会会員かつ都道府県作業療法士会会員であり、生涯教育制度基礎研修修了者が条件となります\n 事例報告指導者が不在の場合、下記の問い合わせ先e-mailへその旨をご連絡ください。ブロックより事例報告指導者の紹介を致します。\n 事例報告指導者の報告会当日の出席につきましては、可能な限りご出席頂きますようお願いします。ご参加いただく場合は検討者または聴講者の申し込みをお願いします。 \n問い合わせ先\n仁明会病院　作業療法室　大川夏稀，\n \nその他\n・本研修会は2024年度までの協会入会者を対象としております。2025年度以降の協会入会者につきましては受講できません。2025年度以降の協会入会者からの申込があった場合、事務局で自動キャンセルを行いますので予めご了承ください。\n・事務局での自動キャンセル扱いとなった方には「ミーティング情報配信メッセージ」が届きません。また自動キャンセル時に返金手続きも完了しています。 \n申し込み受付は終了しました\n 
URL:https://ot-hyogo.or.jp/file/event/4392
LOCATION:オンライン(Zoom)
CATEGORIES:兵庫県作業療法士会主催の研修
END:VEVENT
BEGIN:VEVENT
DTSTART;TZID=Asia/Tokyo:20260222T130000
DTEND;TZID=Asia/Tokyo:20260222T170000
DTSTAMP:20260422T002722
CREATED:20251020T031013Z
LAST-MODIFIED:20251020T031013Z
UID:4407-1771765200-1771779600@ot-hyogo.or.jp
SUMMARY:第5 2 回兵庫県医療職団体研修会
DESCRIPTION:
URL:https://ot-hyogo.or.jp/file/event/%e7%ac%ac5-2-%e5%9b%9e%e5%85%b5%e5%ba%ab%e7%9c%8c%e5%8c%bb%e7%99%82%e8%81%b7%e5%9b%a3%e4%bd%93%e7%a0%94%e4%bf%ae%e4%bc%9a
LOCATION:兵庫県看護協会
CATEGORIES:その他主催の研修
END:VEVENT
BEGIN:VEVENT
DTSTART;TZID=Asia/Tokyo:20260225T190000
DTEND;TZID=Asia/Tokyo:20260225T210000
DTSTAMP:20260422T002722
CREATED:20260120T053816Z
LAST-MODIFIED:20260220T030523Z
UID:4733-1772046000-1772053200@ot-hyogo.or.jp
SUMMARY:611「住宅改修について聞きたい事を聞いてみよう！」締切2.17
DESCRIPTION:2月20日（金）12時00分頃に研修に関する情報をPeatixから送信しました（以下参照） \n611 第３回丹波北播磨ブロック研修会「住宅改修について聞きたいことを聞いてみよう」（2/25）受付完了者へメールを送信しました  \nタイトル\n2025年度第3回丹波北播磨ブロック研修会 \n内　容\n住宅改修について聞きたい事を聞いてみよう！ \n日　時\n2026年2月25日　19：00 ～ 21：00（受付 18：45～） \n会　場\nオンライン（Zoom）\n※受付完了者には研修日の３日前（平日のみ）までPeatixメッセージからミーティング情報を配信致します。 \n講　師\n正木　健一先生（介護ショップ蓮：理学療法士） \n定　員\n40名 \n生涯教育ポイント\n☒　２P付与されます \n申込み条件と受講費\n  \n\n\n\n兵庫県士会員\n１，０００円\n\n\nOT協会及び他府県士会の両方に入会しているOT\n兵庫県士会員と同額\n\n\nOT協会のみ入会しているOT\n兵庫県士会員の倍額\n\n\nOT協会休会中のOT\n0円（生涯教育ポイント付与無）\n\n\n他職種（OT以外の医療職・介護職など）\n兵庫県士会員の半額\n\n\n\nー \n※上記以外のOTは受講できません\n※有料の場合、すべての受講費に別途Peatix利用料が加算されます\n※申込条件がある場合、申込の時点でその会員資格を有する必要あります\n※条件を満たしていない方からの申し込みは事務局にてキャンセル手続きを自動的に行いますので予めご了承ください。\n（兵庫県士会員か否かの確認はマイページへのログインの可否で判断できます。不明な人はまずはマイページログインができるか試してください。） \n受講条件\nオンラインでの研修会に参加される方は、参加条件・準備事項・個人情報保護について以下の資料を必ずご確認ください。 \nオンライン研修会に参加される皆さまへ\nオンライン研修における研修情報および個人情報保護について \n締め切り\n2月17日（金）火　13時 \nその他\n事務局での自動キャンセル扱いとなった方には「ミーティング情報配信メッセージ」が届きません。\nまた自動キャンセル時に返金手続きも完了しています。 \n問い合わせ先\n介護老人保健施設サンビラ三木　永尾　℡：0794-70-8202 \n申し込み受付は終了しました\n 
URL:https://ot-hyogo.or.jp/file/event/4733
LOCATION:オンライン(Zoom)
CATEGORIES:兵庫県作業療法士会主催の研修
END:VEVENT
BEGIN:VEVENT
DTSTART;TZID=Asia/Tokyo:20260228T100000
DTEND;TZID=Asia/Tokyo:20260228T163000
DTSTAMP:20260422T002722
CREATED:20251118T013055Z
LAST-MODIFIED:20251118T013055Z
UID:4518-1772272800-1772296200@ot-hyogo.or.jp
SUMMARY:【主催：運転と作業療法研究会（SIG）】疾患別・自動車運転支援
DESCRIPTION:運転と作業療法研究会　応用研修 \n「疾患別・自動車運転支援」（オンライン） \n  \n【開催日】 \n2026年2月28日(土) 10:00～16:30（受付開始：9:30 ～）オンライン開催 \n  \n【研究会概要】 \n自動車運転は地域での移動手段の１つであり，重要な作業です．運転には，視覚，判断力，反応速度，注意力，運動能力など，さまざまな認知的および身体的な能力が必要です．医療機関では脳血管疾患の方々を対象とすることが多いですが，運転に影響を与える疾患はそれだけではありません．また，疾患より運転能力に異なる影響を与えるため，それぞれの特性を踏まえて個別に評価，支援を行う必要があります． \n本研修会は疾患別での自動車運転支援について学ぶための研修です．脊髄損傷，運動器疾患，精神科疾患，神経難病に対する評価や支援，さらに薬物が運転に与える影響に興味，関心をお持ちの先生方，ぜひご参加ください． \n  \n【プログラム】 \n9：30～受付開始 \n①10：00～11：00　脊髄損傷 \n對間泰雄先生（神奈川リハビリテーション病院） \n②11：05～12：05　運動器疾患 \n大場秀樹先生（東京都リハビリテーション病院） \n③13：00～14：00　精神科疾患 \n岡田宏基先生（北海道大学大学院 保健科学研究院） \n④14：05～15：05　神経難病 \n飯田真也先生（産業医科大学病院） \n⑤15：10～16：10　服用薬等と自動車運転 \n岡村知子先生（科学警察研究所） \n⑥16：10～16：30 \n質疑応答 \n  \n方   法： Zoomによるオンライン講義 \n定   員： 90名 \n参加費： 会員 2000円・非会員 4000円 \n締  切 ： 2026年2月26日(木) 12時 \n申し込み：https://peatix.com/event/4641997/ \n申込締切：2026年2月26日（木）0:00 \n  \nご入会はこちらから \nhttps://otdriving-support.jimdoweb.com/会員募集/ \n  \n【問合せ先】 \n運転と作業療法学会事務局　松原麻子（広島市立リハビリテーション病院） \nE-mail：driverrehabjapan@yahoo.co.jp
URL:https://ot-hyogo.or.jp/file/event/%e3%80%90%e4%b8%bb%e5%82%ac%ef%bc%9a%e9%81%8b%e8%bb%a2%e3%81%a8%e4%bd%9c%e6%a5%ad%e7%99%82%e6%b3%95%e7%a0%94%e7%a9%b6%e4%bc%9a%ef%bc%88sig%ef%bc%89%e3%80%91%e7%96%be%e6%82%a3%e5%88%a5%e3%83%bb
LOCATION:WEB
CATEGORIES:その他主催の研修
END:VEVENT
BEGIN:VEVENT
DTSTART;TZID=Asia/Tokyo:20260228T133000
DTEND;TZID=Asia/Tokyo:20260228T163000
DTSTAMP:20260422T002722
CREATED:20260107T015403Z
LAST-MODIFIED:20260107T015403Z
UID:4688-1772285400-1772296200@ot-hyogo.or.jp
SUMMARY:【主催：兵庫県リハ3士会】人材育成研修STEPⅣ(実務者)
DESCRIPTION:
URL:https://ot-hyogo.or.jp/file/event/%e3%80%90%e4%b8%bb%e5%82%ac%ef%bc%9a%e5%85%b5%e5%ba%ab%e7%9c%8c%e3%83%aa%e3%83%8f3%e5%a3%ab%e4%bc%9a%e3%80%91%e4%ba%ba%e6%9d%90%e8%82%b2%e6%88%90%e7%a0%94%e4%bf%aestep%e2%85%b3%e5%ae%9f%e5%8b%99
LOCATION:アクリエひめじ
CATEGORIES:その他主催の研修
END:VEVENT
BEGIN:VEVENT
DTSTART;VALUE=DATE:20260307
DTEND;VALUE=DATE:20260309
DTSTAMP:20260422T002722
CREATED:20250714T042636Z
LAST-MODIFIED:20250714T042636Z
UID:4053-1772841600-1773014399@ot-hyogo.or.jp
SUMMARY:第14回発達系作業療法学会学術大会
DESCRIPTION:名称：第14回発達系作業療法学会学術大会\nテーマ：「NOW＆NEXT ―次世代が拓く発達系作業療法の最前線―」\n開催日：2026年3月7日（土）～8日（日）\n会場：京都府立京都学・歴彩館（現地開催）\n大会HP：https://h-ot14.secand.net/ \n公式SNS\nInstagram：https://www.instagram.com/hattatsuot14_2026/\nX（旧Twitter）：https://x.com/hattatsuot14?s=21\n \n 
URL:https://ot-hyogo.or.jp/file/event/%e7%ac%ac14%e5%9b%9e%e7%99%ba%e9%81%94%e7%b3%bb%e4%bd%9c%e6%a5%ad%e7%99%82%e6%b3%95%e5%ad%a6%e4%bc%9a%e5%ad%a6%e8%a1%93%e5%a4%a7%e4%bc%9a
LOCATION:京都府立京都学・歴彩館
CATEGORIES:その他主催の研修
END:VEVENT
BEGIN:VEVENT
DTSTART;TZID=Asia/Tokyo:20260308T100000
DTEND;TZID=Asia/Tokyo:20260308T100000
DTSTAMP:20260422T002722
CREATED:20251223T013141Z
LAST-MODIFIED:20251223T013141Z
UID:4663-1772964000-1772964000@ot-hyogo.or.jp
SUMMARY:【主催：日本作業科学学会（SIG）】作業科学にまつわる研究法オンライン研修会
DESCRIPTION:【内容】作業科学にまつわる研究法オンライン研修会 \n「質的研究法を使って学ぶ ～ 作業の経験と意味 ～」 \n【日時】2026年3月8日（日）10:00-12:00（受付9:45‐） \n【開催方法】オンライン開催（Zoom）（※本研修会は、オンライン参加に加えオンデマンド視聴も可能です（配信期間２週間）） \n【講師】和田峰子氏（広島大学） \n【参加費】会員2000円、非会員3000円（日本作業科学学会の会員です。日本作業療法士協会の会員ではありません） \n【申込方法】下記 申し込みフォームからお申し込み下さい。 \nhttps://forms.gle/1CWkY3eHzwtkZRzn7 \n・申し込みの締め切り ：2026年2月28日（土） \n・参加費入金の締め切り：2026年3月4日（水） \n【主催】日本作業科学学会 \n【お問い合わせ先】日本作業科学学会研究推進班 研修会事務局：nra20749@gmail.com（中塚聡）まで \n  \n20260308開催要項「質的研究法を使って学ぶ～作業の経験と意味～」 \n案内チラシ 3月8日オンライン研修会
URL:https://ot-hyogo.or.jp/file/event/%e3%80%90%e4%b8%bb%e5%82%ac%ef%bc%9a%e6%97%a5%e6%9c%ac%e4%bd%9c%e6%a5%ad%e7%a7%91%e5%ad%a6%e5%ad%a6%e4%bc%9a%ef%bc%88sig%ef%bc%89%e3%80%91%e4%bd%9c%e6%a5%ad%e7%a7%91%e5%ad%a6%e3%81%ab%e3%81%be
LOCATION:WEB
CATEGORIES:その他主催の研修
END:VEVENT
BEGIN:VEVENT
DTSTART;TZID=Asia/Tokyo:20260311T200000
DTEND;TZID=Asia/Tokyo:20260311T213000
DTSTAMP:20260422T002722
CREATED:20251209T031649Z
LAST-MODIFIED:20251209T031649Z
UID:4620-1773259200-1773264600@ot-hyogo.or.jp
SUMMARY:【主催：一歩一歩・事例を大事にする会（SIG）】“数字の世界”がわかると、論文がぐっと身近に！―作業療法士のためのやさしい統計入門―
DESCRIPTION:＜研修会名＞“数字の世界”がわかると、論文がぐっと身近に！―作業療法士のためのやさしい統計入門― \n＜日時＞2026年3月11日（水）20:00～21:30 \n＜受講資格＞日本作業療法士協会会員かつ各都道府県作業療法士会会員 \n＜受講料＞2\,000円（非会員4\,000円） \n＜形式＞ZOOMオンライン \n＜内容＞萬屋京典先生（星城大学）をお迎えし、統計の基礎を「わかる・使える」視点でやさしく学ぶ入門セミナーです。研究初心者から日々の臨床に生かしたい方まで、どなたでもご参加いただけます。 \n＜詳細・申込＞ \nhttps://sites.google.com/view/stepbystepseminar/%E3%83%9B%E3%83%BC%E3%83%A0 \n＜申込締切＞開催の5日前まで \n＜主催＞一歩一歩・事例を大事にする会（SIG） \n＜お問い合わせ＞jirei.step.by.step@gmail.com　木納（きのう）潤一
URL:https://ot-hyogo.or.jp/file/event/%e3%80%90%e4%b8%bb%e5%82%ac%ef%bc%9a%e4%b8%80%e6%ad%a9%e4%b8%80%e6%ad%a9%e3%83%bb%e4%ba%8b%e4%be%8b%e3%82%92%e5%a4%a7%e4%ba%8b%e3%81%ab%e3%81%99%e3%82%8b%e4%bc%9a%ef%bc%88sig%ef%bc%89%e3%80%91-4
LOCATION:WEB
CATEGORIES:その他主催の研修
END:VEVENT
BEGIN:VEVENT
DTSTART;TZID=Asia/Tokyo:20260315T090000
DTEND;TZID=Asia/Tokyo:20260315T150000
DTSTAMP:20260422T002722
CREATED:20251119T022305Z
LAST-MODIFIED:20260312T032445Z
UID:4528-1773565200-1773586800@ot-hyogo.or.jp
SUMMARY:599「教育部主催 事例発表会」締切(発表)2.27 (聴講)3.10
DESCRIPTION:3月12日（木）12時20分頃に研修に関する情報をPeatixから送信しました\n599「教育部主催 事例発表会」（3/15）受付完了者へメールを送信しました\nタイトル\n教育部主催　事例発表会 \n日　時\n2026年3月15日（日曜日）9：00～15：00（受付8：45～） \n会　場\nオンライン（Zoom）\n※受付完了者には研修日の３日前（平日のみ）までPeatixメッセージからミーティング情報を配信致します。 \n定　員\n発表者　48名　（生涯教育ポイント２P）\n聴講者　無し　（生涯教育ポイント非該当） \n受講費\n発表者　1\,000円\n※別途Peatix利用料が加算されます\n※聴講者は受講費不要です \n申込条件\n発表者；2025年度日本作業療法士協会入会者（生涯学修制度対象者）かつ兵庫県作業療法士会会員であること\n聴講者；特になし\n※申込条件がある場合、申込の時点でその会員資格を有する必要があります\n※条件を満たしていない方からの申し込みは事務局にてキャンセル手続きを自動的に行いますので予めご了承ください。\n（兵庫県士会員か否かの確認はマイページへのログインの可否で判断できます。不明な人はまずはマイページログインができるか試してください。） \n受講条件\nオンラインでの研修会に参加される方は、参加条件・準備事項・個人情報保護について以下の資料を必ずご確認ください。 \nオンライン研修会に参加される皆さまへ\nオンライン研修における研修情報および個人情報保護について \n締め切り\n発表者　締め切り　2026年2月27日（金）13時\n聴講者　締め切り　2026年3月10日（火）13時 \n補足事項・注意点\n 本事業は、現職者共通研修「9.事例検討」「10.事例報告」とは異なる研修会です。\n※これらのポイントは付与されず、読み替え対象事業にも該当しません。 \n 事例報告指導者の配置はありません。 \n 発表は、16名×3ルーム体制で行い、各ルームに司会を配置予定です。 \n 発表・質疑時間は1人12分（発表7分、質疑4分、入れ替え1分）です。 \n 発表用スライドはPowerPointで作成し、当日はご自身で操作をお願いします。 \n レジュメ（Word形式）は、発表申し込み時に「」へメールで提出してください。 \n レジュメの作成書式は以下のPDFを参考にしてください。\n– \n　レジュメ作成について \n問い合わせ先\n教育部 部長　末吉謙斗（明石仁十病院）　E-mail:  \nその他\n・本研修会は2025年度の協会入会者で兵庫県作業量士会会員を対象としております。2024年度までの協会入会者につきましては受講できません。条件に沿わない申込があった場合、事務局で自動キャンセルを行いますので予めご了承ください。 \n・事務局での自動キャンセル扱いとなった方には「ミーティング情報配信メッセージ」が届きません。また自動キャンセル時に返金手続きも完了しています。 \n申し込み受付は終了しました\n 
URL:https://ot-hyogo.or.jp/file/event/4528
LOCATION:オンライン(Zoom)
CATEGORIES:兵庫県作業療法士会主催の研修
END:VEVENT
END:VCALENDAR