BEGIN:VCALENDAR
VERSION:2.0
PRODID:-//兵庫県作業療法士会　研修案内 - ECPv6.7.0//NONSGML v1.0//EN
CALSCALE:GREGORIAN
METHOD:PUBLISH
X-ORIGINAL-URL:https://ot-hyogo.or.jp/file
X-WR-CALDESC:兵庫県作業療法士会　研修案内 のイベント
REFRESH-INTERVAL;VALUE=DURATION:PT1H
X-Robots-Tag:noindex
X-PUBLISHED-TTL:PT1H
BEGIN:VTIMEZONE
TZID:Asia/Tokyo
BEGIN:STANDARD
TZOFFSETFROM:+0900
TZOFFSETTO:+0900
TZNAME:JST
DTSTART:20230101T000000
END:STANDARD
END:VTIMEZONE
BEGIN:VEVENT
DTSTART;VALUE=DATE:20230304
DTEND;VALUE=DATE:20230306
DTSTAMP:20260424T041649
CREATED:20221214T023758Z
LAST-MODIFIED:20221214T024243Z
UID:827-1677888000-1678060799@ot-hyogo.or.jp
SUMMARY:「脳性まひ等肢体不自由児者に係る療法士等研修事業」研修会
DESCRIPTION:＿この度、脳性まひ等肢体不自由児者に係る療法士や看護師の方々に、専門的な知識や技術を学び、より適切な支援を行えるよう養成することを目的に『脳性まひ等肢体不自由児者に係る療法士等研修事業』研修会を開催します。本研修会は新型コロナウイルス感染状況を見ながら、実技も含めた対面研修を開催する予定です。感染者数の増加など対面での研修会が難しいと判断した場合には、開催中止とさせていただく場合がございますのでご了承ください。 \nテーマ\n「脳性まひ等肢体不自由児者に係る療法士等研修事業」研修会（2日間開催） \n日時\n令和5年3月４日（土）・５日（日）\n1日目：10時00分～17時10分（受付9時30分～）\n2日目：10時00分～17時10分（受付9時30分～） \n場所\n神戸臨床研究情報センター（TRI）\n（住所）〒650-0047　神戸市中央区港島南町1丁目5番地4号\n（交通）神戸新交通ポートライナー「三宮駅」から乗車12分、\nー　　　「医療センター（市民病院前）駅」下車すぐ \n募集人数\n20名程度\n※定員に達した場合は、選考させていただく場合がございます。\nー選考の結果は2月上旬にお知らせいたします。 \n受講対象者\n理学療法士・作業療法士・言語聴覚士・看護師・保健師 \n参加費\n2\,000円 \n応募方法\nメールまたは、 FAX 別紙 申込 用紙 にて お申し込みください。 \nメールでの申し込みの際は、 宛てに\n件名に「脳性まひ等肢体不自由児者に係る療法士等研修事業」研修会(ZOOM)申込\n本文に \n①所属 施設名\n②氏名\n③職種\n④経験年数\n⑤小児経験年数\n⑥性別\n⑦電話番号\n⑧住所\n⑨メールアドレス\n上記9項目を本文に記載の上、メールにて応募をお願いします。 \n※お申し込み後、1週間以内に「受付完了のお知らせ」が届かない場合は、\nー研修会事務局（06-6481-5565）までご連絡をお願いいたします。 \n申込締切\n令和 5 年 １ 月 ３１ 日 （火） 正午 \n問い合わせ先\n兵庫県立障害児者リハビリテーションセンター　事務局\nTEL　06-6481-5565\nFAX　06-6481-5560\n \n講義内容 \n研修会申込書（FAX送付状）
URL:https://ot-hyogo.or.jp/file/event/827
LOCATION:神戸臨床研究情報センター（TRI）
CATEGORIES:その他主催の研修
END:VEVENT
BEGIN:VEVENT
DTSTART;VALUE=DATE:20230304
DTEND;VALUE=DATE:20230306
DTSTAMP:20260424T041649
CREATED:20230127T034409Z
LAST-MODIFIED:20230127T034409Z
UID:1107-1677888000-1678060799@ot-hyogo.or.jp
SUMMARY:主催：日本作業科学研究会「第２回 作業科学基礎入門研修会」
DESCRIPTION:【主催】日本作業科学研究会 \n  \n【研修会名】第２回 作業科学基礎入門研修会 \n  \n【研修内容】本研修会では，作業的存在を理解することを目的とします．内容は，作業療法と作業科学について，作業科学のいくつかのコンセプトについて触れた後，ワークショップで他者や自分自身を作業の視点で理解を深めたいと思います． \n  \n【開催日時】2023年3月4-5日 \n  \n【開催場所】大阪医療福祉専門学校 \n  \n【参加費】日本作業科学研究会　会員5000円　非会員8000円 \n  \n【募集要項】 \nhttps://drive.google.com/file/d/1XD424f8-oEuNN8FO1JgssGajgk5HJvk8/view?usp=sharing \n  \n【申込方法】 \n募集要項もしくは研究会HPよりお申し込みください． \nhttp://www.jsso.jp/courses_seminars.html#2023-01-24 \n  \n【チラシ】 \nhttps://drive.google.com/file/d/1PK__pytdh6PfjYNYOc2iNEWqMRwjDZeI/view?usp=sharing
URL:https://ot-hyogo.or.jp/file/event/%e4%b8%bb%e5%82%ac%ef%bc%9a%e6%97%a5%e6%9c%ac%e4%bd%9c%e6%a5%ad%e7%a7%91%e5%ad%a6%e7%a0%94%e7%a9%b6%e4%bc%9a%e3%80%8c%e7%ac%ac%ef%bc%92%e5%9b%9e-%e4%bd%9c%e6%a5%ad%e7%a7%91%e5%ad%a6%e5%9f%ba%e7%a4%8e
LOCATION:大阪医療福祉専門学校
CATEGORIES:その他主催の研修
END:VEVENT
BEGIN:VEVENT
DTSTART;TZID=Asia/Tokyo:20230304T093000
DTEND;TZID=Asia/Tokyo:20230304T153000
DTSTAMP:20260424T041649
CREATED:20230126T031018Z
LAST-MODIFIED:20230301T034411Z
UID:1096-1677922200-1677943800@ot-hyogo.or.jp
SUMMARY:448「認知症臨床作業療法士育成研修会 ステップⅢ」締切2.27
DESCRIPTION:テーマ\n認知症臨床作業療法士育成研修会　　ステップⅢ　社会全体で認知症を支える \n内容\n\n\n\n9:30~9:50\n受付\n\n\n9:50~10:00\nオリエンテーション\n\n\n10:00~10:40\n認知症の人の生活を支援する職能団体としての役割\n\n\n10:40~10:50\n休憩\n\n\n10:50~11:50\n認知症対策委員会の取り組みと地域支援の事例\n\n\n11:50~13:00\n昼休憩\n\n\n13:00~15:20\nグループワーク\n\n\n15:20~15:30\nまとめ・アンケート記入\n\n\n\n日時\n令和5年3月4日㈯　9:30～15:30 \n会場\nWEB開催\n※受付完了者に研修日の３日前（平日のみ）までにメールにてミーティングを配信します \n→3月1日（水）12時40分頃に研修に関するミーティング情報を送信しました（以下参照） \n【事務局より】448　認知症臨床作業療法士育成研修会　ステップⅢ（3/4）受講確定者へメールを送信しました \n講師\n認知症対策委員 \n定員\n30名 \n生涯教育ポイント\n☒　２P付与されます \n受講費\n1000円（銀行振り込みのみ対応）\n【振込みの際のご注意】\n「振込人名」の後に「ニン448　OT協会番号」を追加してください。\n（例：ヒョウゴタロウ　ニン448　12345）\n※振込人名後の「ニン448」で本研修の受講費として処理します。忘れずにご入力をお願いいたします。振込人名のみ場合は確認連絡が届く可能性があります。\n※振込時にお手元に残る振込明細書（記録）は研修会開始まで保管ください。\n※受講料の入金と下記申込ボタンからの申し込みが揃った時点で受付完了となります。\nーいずれか一方でも確認できない場合、申し込みは自動キャンセルとなります。 \n【振込先口座】→受付終了のため削除しました。 \n申込み条件\n☒　兵庫県士会員 \n受講条件\nオンラインでの研修会に参加される方は、参加条件・準備事項・個人情報保護について以下の資料を必ずご確認ください。 \nオンライン研修会に参加される皆さまへ \nオンライン研修における研修情報および個人情報保護について \n締め切り\n2月27日㈪　13時 \nその他\n過去にステップⅡを受講された方が対象です。\n当日に画面共有や提出をして頂きますので、ステップⅡで提示した課題のご準備をお願いします。 \n問い合わせ先\n関西総合リハビリテーション専門学校　前谷一旗\n \n申し込み受付は終了しました
URL:https://ot-hyogo.or.jp/file/event/448
LOCATION:WEB
CATEGORIES:兵庫県作業療法士会主催の研修
END:VEVENT
BEGIN:VEVENT
DTSTART;TZID=Asia/Tokyo:20230304T130000
DTEND;TZID=Asia/Tokyo:20230304T150000
DTSTAMP:20260424T041649
CREATED:20230221T043454Z
LAST-MODIFIED:20230221T043454Z
UID:1174-1677934800-1677942000@ot-hyogo.or.jp
SUMMARY:地域移行・地域生活支援のための精神科作業療法の実践に関する意見交換会
DESCRIPTION:地域移行・地域生活支援のための精神科作業療法の実践に関する意見交換会　概要 \n日時    2023年3月4日（土）13:00-16:00\n方法    web開催（zoomミーティング）\n対象    日本作業療法士協会正会員（参加費無料）\n定員    300名程度 \nプログラム\n１．特別講演「今回の精神保健福祉法の改正の経緯と今後について」（40分）\n　　講師：厚生労働省　社会・援護局　障害保健福祉部　精神・障害保健課\n　　　　　林　修一郎　課長\n２．2022年度精神科における作業療法実態調査の結果について （30分）\n　　制度対策部医療保険対策委員会認知症班\n３．グループディスカッション（70分） \n申込方法\n下の申込フォームよりお申し込みください。\nhttps://forms.gle/B3a9CN3jY4dHeY9G8\n申込を受け付けましたら、自動返信メールが送信されます。\nお申込の方には記載いただいたメールアドレスへ当日のzoomのご案内を差し上げます。 \n申込締切　2023年2月27日（月）18:00
URL:https://ot-hyogo.or.jp/file/event/%e5%9c%b0%e5%9f%9f%e7%a7%bb%e8%a1%8c%e3%83%bb%e5%9c%b0%e5%9f%9f%e7%94%9f%e6%b4%bb%e6%94%af%e6%8f%b4%e3%81%ae%e3%81%9f%e3%82%81%e3%81%ae%e7%b2%be%e7%a5%9e%e7%a7%91%e4%bd%9c%e6%a5%ad%e7%99%82%e6%b3%95
LOCATION:オンライン(Zoom)
CATEGORIES:その他主催の研修
END:VEVENT
BEGIN:VEVENT
DTSTART;TZID=Asia/Tokyo:20230304T140000
DTEND;TZID=Asia/Tokyo:20230304T163000
DTSTAMP:20260424T041649
CREATED:20230117T032001Z
LAST-MODIFIED:20230117T032107Z
UID:1041-1677938400-1677947400@ot-hyogo.or.jp
SUMMARY:兵庫県立リハビリテーション中央病院　県民公開講座
DESCRIPTION:  \n \n \n 
URL:https://ot-hyogo.or.jp/file/event/%e5%85%b5%e5%ba%ab%e7%9c%8c%e7%ab%8b%e3%83%aa%e3%83%8f%e3%83%93%e3%83%aa%e3%83%86%e3%83%bc%e3%82%b7%e3%83%a7%e3%83%b3%e4%b8%ad%e5%a4%ae%e7%97%85%e9%99%a2%e3%80%80%e7%9c%8c%e6%b0%91%e5%85%ac%e9%96%8b
LOCATION:子午線ホール
CATEGORIES:その他主催の研修
END:VEVENT
BEGIN:VEVENT
DTSTART;TZID=Asia/Tokyo:20230305T080000
DTEND;TZID=Asia/Tokyo:20230305T170000
DTSTAMP:20260424T041649
CREATED:20221122T013216Z
LAST-MODIFIED:20221122T013216Z
UID:757-1678003200-1678035600@ot-hyogo.or.jp
SUMMARY:近畿作業療法士連絡協議会主催　生活行為向上マネジメント事例検討会（オンライン）
DESCRIPTION:
URL:https://ot-hyogo.or.jp/file/event/%e8%bf%91%e7%95%bf%e4%bd%9c%e6%a5%ad%e7%99%82%e6%b3%95%e5%a3%ab%e9%80%a3%e7%b5%a1%e5%8d%94%e8%ad%b0%e4%bc%9a%e4%b8%bb%e5%82%ac%e3%80%80%e7%94%9f%e6%b4%bb%e8%a1%8c%e7%82%ba%e5%90%91%e4%b8%8a%e3%83%9e
CATEGORIES:その他主催の研修
END:VEVENT
BEGIN:VEVENT
DTSTART;TZID=Asia/Tokyo:20230305T093000
DTEND;TZID=Asia/Tokyo:20230305T113000
DTSTAMP:20260424T041649
CREATED:20230123T043943Z
LAST-MODIFIED:20230123T043943Z
UID:1082-1678008600-1678015800@ot-hyogo.or.jp
SUMMARY:学校と作業療法－子どものQOLから学校教諭との連携まで－
DESCRIPTION:主催：一般社団法人神奈川県作業療法士会　学術部 \n研修会タイトル、内容：学校と作業療法 　- 子どものQOLから学校教諭との連携まで – \n日時：2023（令和5）年3月5日（日）　zoom開始9:45 研修10:00～11:30 \n会場：zoom \n参加対象および参加費：神奈川県以外の都道府県の作業療法士の方　1500円 \n　　　　　　　　　　　作業療法士以外の職種の方　              3000円 \n　　　　　　　　　　　作業療法士養成校の学生の方　　　　　　　無料 \n※Peatixからチケットをご購入ください． \nその他（HPリンク先など）：https://peatix.com/event/3474406/view
URL:https://ot-hyogo.or.jp/file/event/%e5%ad%a6%e6%a0%a1%e3%81%a8%e4%bd%9c%e6%a5%ad%e7%99%82%e6%b3%95%ef%bc%8d%e5%ad%90%e3%81%a9%e3%82%82%e3%81%aeqol%e3%81%8b%e3%82%89%e5%ad%a6%e6%a0%a1%e6%95%99%e8%ab%ad%e3%81%a8%e3%81%ae%e9%80%a3
LOCATION:オンライン(Zoom)
CATEGORIES:その他主催の研修
END:VEVENT
BEGIN:VEVENT
DTSTART;TZID=Asia/Tokyo:20230305T130000
DTEND;TZID=Asia/Tokyo:20230305T150000
DTSTAMP:20260424T041649
CREATED:20230110T053251Z
LAST-MODIFIED:20230302T031730Z
UID:990-1678021200-1678028400@ot-hyogo.or.jp
SUMMARY:444「感覚統合療法について学ぼう」締切2.28
DESCRIPTION:テーマ\n神戸ブロック研修会（小児分野）\n感覚統合療法について学ぼう　～ここだけはおさえておきたい感覚統合療法のポイント～ \n内容\n講義　感覚統合療法についてわかりやすく解説！ここだけはおさえておきたい感覚統合療法のポイントについて、感覚統合療法の第一人者の一人、小西紀一氏からお話いただきます。 \n日時\n2023年3月5日（日）13：00～15：00 \n会場\nオンライン（ZOOM）\n※受付完了者に研修日の３日前（平日のみ）までにメールにてミーティングを配信します \n→3月2日（木）12時10分頃に研修に関するミーティング情報を送信しました（以下参照） \n【事務局より】444　神戸ブロック研修会（小児分野）「感覚統合療法について学ぼう」（3/5）受講確定者へメールを送信しました \n講師\n小西紀一　（令和健康科学大学教授、姫路獨協大学教授） \n定員\n80名 \n生涯教育ポイント\n２P付与されます \n受講費\n兵庫県士会員・OT協会に在籍する他府県士会員1\,000円、\nその他（他職種、一般、日本OT協会・他府県士会に在籍していないOT）は2\,000円\n（銀行振り込みのみ対応） \n【振込みの際のご注意】\n「振込人名」の後に「コ444　OT協会番号」を追加してください。\n（例：ヒョウゴタロウ　コ444　12345　協会番号のない方は　コ444　のみを追加）\n※振込人名後の「コ444」で本研修の受講費として処理します。忘れずにご入力をお願いいたします。振込人名のみ場合は確認連絡が届く可能性があります。\n※振込時にお手元に残る振込明細書（記録）は研修会開始まで保管ください。\n※受講料の入金と下記申込ボタンからの申し込みが揃った時点で受付完了となります。\nーいずれか一方でも確認できない場合、申し込みは自動キャンセルとなります。 \n【振込先口座】→受付終了のため削除しました \n申込み条件\n☒　兵庫県士会員\n☒　兵庫県士会員以外（OT協会に在籍する他府県士会員）\n☒　その他（他職種、一般、日本OT協会・他府県士会に在籍していないOT） \n受講条件\nオンラインでの研修会に参加される方は、参加条件・準備事項・個人情報保護について以下の資料を必ずご確認ください。 \nオンライン研修会に参加される皆さまへ \nオンライン研修における研修情報および個人情報保護について \n締め切り\n2023年2月28日火曜日　13時 \n問い合わせ先\n（神戸ブロック小児分野世話役：井上） \n申し込み受付は終了しました\n 
URL:https://ot-hyogo.or.jp/file/event/444%e3%80%8c%e6%84%9f%e8%a6%9a%e7%b5%b1%e5%90%88%e7%99%82%e6%b3%95%e3%81%ab%e3%81%a4%e3%81%84%e3%81%a6%e5%ad%a6%e3%81%bc%e3%81%86%e3%80%8d%e7%b7%a0%e5%88%872-28
LOCATION:オンライン(Zoom)
CATEGORIES:兵庫県作業療法士会主催の研修
END:VEVENT
BEGIN:VEVENT
DTSTART;TZID=Asia/Tokyo:20230310T194000
DTEND;TZID=Asia/Tokyo:20230310T210000
DTSTAMP:20260424T041649
CREATED:20230227T043854Z
LAST-MODIFIED:20230227T045242Z
UID:1188-1678477200-1678482000@ot-hyogo.or.jp
SUMMARY:「神戸ブロック勉強会（小児分野）」締切3.9
DESCRIPTION:テーマ\n「発達障害のある子どもの 思春期の問題にどう対応するか ~男女の特性をふまえて~」 \n内容\n講義 \n日時\n2023年3月10日（金）\n19:40～21:00　 （19:30受付開始） \n場所（ツール）\nオンライン（zoomで開催） \n発表者\n公益財団法人ひょうご子どもと家庭福祉財団　井上　舞 \n会場整理費\n無料 \n申し込み方法\nメールにて、以下の内容をお送りください。\n①氏名\n②所属\n③職種\n④経験年数 \n申し込み先\n （代表：井上） \n〆切\n2023年3月9日（木）17:00\n〆切後、申し込みいただいたメールアドレスへzoomの案内を送らせていただきます。
URL:https://ot-hyogo.or.jp/file/event/%e3%80%8c%e7%a5%9e%e6%88%b8%e3%83%96%e3%83%ad%e3%83%83%e3%82%af%e5%8b%89%e5%bc%b7%e4%bc%9a%ef%bc%88%e5%b0%8f%e5%85%90%e5%88%86%e9%87%8e%ef%bc%89%e3%80%8d%e7%b7%a0%e5%88%873-9
LOCATION:オンライン(Zoom)
CATEGORIES:兵庫県作業療法士会主催の研修
END:VEVENT
BEGIN:VEVENT
DTSTART;TZID=Asia/Tokyo:20230312T100000
DTEND;TZID=Asia/Tokyo:20230312T120000
DTSTAMP:20260424T041649
CREATED:20230202T102539Z
LAST-MODIFIED:20230309T044358Z
UID:1124-1678615200-1678622400@ot-hyogo.or.jp
SUMMARY:449「パラスポーツの世界から紐解くＡＤＬ動作の指導方法」締切3.7
DESCRIPTION:テーマ\n中播磨ブロック　『パラスポーツの世界から紐解くＡＤＬ動作の指導方法』 \n内容\nパラ卓球の選手もされる傍ら選手のご指導もされておられる小黒先生をお呼びし、日々の臨床で行うＡＤＬ指導のポイントについてご講義いただきます。普段の臨床とは少し違う、新しい視点からＡＤＬ動作の指導方法を学べる機会となっております。。 \n日時\n2022年3月12日　10時～12時 \n会場\nオンライン開催(キー局：いつきリハビリテーションサービス)\n※受付完了者に研修日の３日前（平日のみ）までにメールにてミーティングを配信します \n→3月9日（木）13時35分頃に研修に関するミーティング情報を送信しました（以下参照） \n【事務局より】449　中播磨ブロック研修会「パラスポーツの世界から紐解くADL動作の指導方法」（3/12）受講確定者へメールを送信しました \n講師\n小黒　修　(医療法人　尚生会　アネックス湊川ホスピタル) \n定員\n50名 \n生涯教育ポイント\n２P付与されます \n受講費\n県士会会員　1000円　（銀行振り込みのみ対応） \n【振込みの際のご注意】\n「振込人名」の後に「ナ449　OT協会番号」を追加してください。\n（例：ヒョウゴタロウ　ナ449　12345　）\n※振込人名後の「ナ449」で本研修の受講費として処理します。忘れずにご入力をお願いいたします。振込人名のみ場合は確認連絡が届く可能性があります。\n※振込時にお手元に残る振込明細書（記録）は研修会開始まで保管ください。\n※受講料の入金と下記申込ボタンからの申し込みが揃った時点で受付完了となります。\nーいずれか一方でも確認できない場合、申し込みは自動キャンセルとなります。 \n【振込先口座】→受付終了のため削除しました \n申込み条件\n☒　兵庫県士会員\n☒　兵庫県士会員以外（OT協会に在籍する他府県士会員） \n受講条件\nオンラインでの研修会に参加される方は、参加条件・準備事項・個人情報保護について以下の資料を必ずご確認ください。 \nオンライン研修会に参加される皆さまへ \nオンライン研修における研修情報および個人情報保護について \n締め切り\n2023年3月7日　13時 \n問い合わせ先\n \n中播磨ブロック長　受付担当　野島 \nー \n申し込み受付は終了しました\n 
URL:https://ot-hyogo.or.jp/file/event/449
LOCATION:中播磨ブロック
CATEGORIES:兵庫県作業療法士会主催の研修
END:VEVENT
BEGIN:VEVENT
DTSTART;TZID=Asia/Tokyo:20230316T180000
DTEND;TZID=Asia/Tokyo:20230316T200000
DTSTAMP:20260424T041649
CREATED:20230217T051902Z
LAST-MODIFIED:20230217T051931Z
UID:1161-1678989600-1678996800@ot-hyogo.or.jp
SUMMARY:第1７回兵庫県学術研修フォーラムのご案内
DESCRIPTION:第1７回兵庫県学術研修フォーラムのご案内 \n  \n謹啓 時下、皆様におかれましては益々ご健勝のこととお慶び申し上げます。 \n第17回兵庫県学術研修フォーラムを開催致します。今回の整形外科領域で \n第一部が“手関節”をテーマに加古川中央市民病院の金田和則先生の臨床画像についての \nご講演と明舞中央病院　整形外科　田中日出樹先生に我々が質問を投げかける \nQ＆Aコーナーとしました。業務中に生じた手関節・手領域についてのご質問があれば \n下記のアドレスに送って頂ければと思います。 \n第2部は“腰痛”について田中先生が経験された診断と治療に困難をきたした症例に \nついてご講演して頂きます。 \nご多忙中の折とは存じますが、ご出席賜りますようご案内申し上げます。 \n  \n日時：2023年３月１６日（木）18:30～ \n開催形式：Zoomウェビナーによる配信 \n参加費：無料 \n参加方法：右のQRコードもしくは下記のURLから         \n参加登録をお願い致します。登録後ウェビナー参加に関する \n確認メールが届きます。 \nhttps://us02web.zoom.us/webinar/register/WN_NzL-z1YXSm-roZsuZkxHWQ \n◎プログラム \n【Zoomウェビナー入場開始】　18:15～ \n【開会挨拶】              　18:30～　公益社団法人　兵庫県放射線技師会会長　後藤吉弘 \n【第1部】基調講演・Q＆A　　　18:35～19:20 \n　　　　　　　　　　　　　　　座長　兵庫医科大学病院　放射線技術部　藤川慶太先生 \n「日常診療でよく見る手関節症例」 \n　　　　　　　　　　　　　　　加古川中央市民病院 放射線室 金田 和典先生 \n・整形外科医によるQ＆A（手関節・手領域） \n　　　　　　　　　　　　　　　明舞中央病院　副院長・整形外科部長　田中 日出樹先生 \n  \n【第2部】特別講演　　　　　　19:25～20:10 \n　　　　　　　　　　　　　　　座長　兵庫医科大学病院　放射線技術部　藤川慶太先生 \n「下肢痛を伴う腰痛～診断と治療が困難であった症例について～」 \n　　　　　　　　　　　　　　　明舞中央病院　副院長・整形外科部長　田中 日出樹先生 \n  \n【閉会挨拶】               　20:10～　公益社団法人　兵庫県放射線技師会副会長　中野　大 \n  \n問い合わせ：（公社）兵庫県放射線技師会 学術担当 \n兵庫医科大学病院 放射線技術部 酒井 敏行 \nMAIL：tsakai@hyo-med.ac.jp
URL:https://ot-hyogo.or.jp/file/event/%e7%ac%ac1%ef%bc%97%e5%9b%9e%e5%85%b5%e5%ba%ab%e7%9c%8c%e5%ad%a6%e8%a1%93%e7%a0%94%e4%bf%ae%e3%83%95%e3%82%a9%e3%83%bc%e3%83%a9%e3%83%a0%e3%81%ae%e3%81%94%e6%a1%88%e5%86%85
LOCATION:オンライン(Zoom)
CATEGORIES:その他主催の研修
END:VEVENT
BEGIN:VEVENT
DTSTART;TZID=Asia/Tokyo:20230316T190000
DTEND;TZID=Asia/Tokyo:20230316T210000
DTSTAMP:20260424T041649
CREATED:20230206T032655Z
LAST-MODIFIED:20230208T042902Z
UID:1134-1678993200-1679000400@ot-hyogo.or.jp
SUMMARY:「生活行為工夫情報事業「はじめての自助具」勉強会」締切3.10
DESCRIPTION:テーマ\n生活行為工夫情報事業　「はじめての自助具」勉強会のご案内 \n内容\n各分野における自助具の紹介と作成 \n日時\n2023年3月16日（木）19：00～21：00 \n会場\n複合型交流拠点ウィズあかし\n（明石市東仲ノ町6-1アスピア明石北館学習室803） \n講師\n①小児・発達分野の自助具\n関西総合リハビリテーション専門学校\n開發 基文 先生 \n②脳血管障害の自助具\n神戸リハビリテーション病院\n澤　晃平　　先生 \n③脊髄損傷の自助具\n兵庫県立総合リハビリテーション病院\n福嶋 さゆり先生 \n④100均で買えるもので作る自助具\n甲南加古川病院\n柏木　秀文　先生 \n定員\n３０名 \n受講費\n無料 \n申込み条件\n兵庫県士会員、非会員（OT） \n申し込み方法\nメールにて、以下の内容をお送りください。\n* 氏名\n* 所属\n* 職種\n* 協会番号\n* 経験年数 \n申し込み先\n総務部　福祉用具係　大仲\n \n締め切り\n令和5年３月10日（水）17時まで
URL:https://ot-hyogo.or.jp/file/event/%e3%80%8c%e7%94%9f%e6%b4%bb%e8%a1%8c%e7%82%ba%e5%b7%a5%e5%a4%ab%e6%83%85%e5%a0%b1%e4%ba%8b%e6%a5%ad%e3%80%8c%e3%81%af%e3%81%98%e3%82%81%e3%81%a6%e3%81%ae%e8%87%aa%e5%8a%a9%e5%85%b7%e3%80%8d%e5%8b%89
LOCATION:複合型交流拠点ウィズあかし
CATEGORIES:兵庫県作業療法士会主催の研修
END:VEVENT
BEGIN:VEVENT
DTSTART;VALUE=DATE:20230318
DTEND;VALUE=DATE:20230320
DTSTAMP:20260424T041649
CREATED:20221228T034711Z
LAST-MODIFIED:20221228T034711Z
UID:928-1679097600-1679270399@ot-hyogo.or.jp
SUMMARY:JIMTEF災害医療研修アドバンスコース（関西、関東）開催のお知らせ
DESCRIPTION:①第13回JIMTEF災害医療研修アドバンスコース（関西開催） \n日時：2023年2月4日（土）～2月5日（日） \n場所：独立行政法人国際協力機構　関西センター \n神戸市中央区脇浜海岸通1-5-2 \n対象：ベーシックコース修了者および同等の経験者 \n受講料：20\,000円 \n人数：OT協会より20名以内 \n募集期間：～1月15日（日）　※先着順。定員に達し次第終了となります。 \n応募フォーム：https://forms.gle/8vajN9NBdvJqDh4DA \n  \n②第14回JIMTEF災害医療研修アドバンスコース（関東開催） \n日時：2023年3月18日（土）～3月19日（日） \n場所：一般財団法人日本教育会館8階　第一会議室 \n東京都千代田区一ツ橋2-6-2 \n対象：ベーシックコース修了者および同等の経験者 \n受講料：20\,000円 \n人数：OT協会より20名以内 \n募集期間：～2月26日（日）　※先着順。定員に達し次第終了となります。 \n応募フォーム：https://forms.gle/Ep78yp8hsmbFjZp78 \n  \n【ご確認下さい】 \n・作業療法士の申し込みは、ＯＴ協会が取りまとめて財団へ申請いたします。JIMTEFへ直接お申し込みはできません。 \n・全体の定員100名を超える場合は、職種を考慮して選考になりますので、参加をお約束するものではありません。 \n・関西と関東での開催となりますので、開催地を確認の上応募して下さい。 \n・交通費および研修会参加費はすべて自己負担となります。
URL:https://ot-hyogo.or.jp/file/event/jimtef%e7%81%bd%e5%ae%b3%e5%8c%bb%e7%99%82%e7%a0%94%e4%bf%ae%e3%82%a2%e3%83%89%e3%83%90%e3%83%b3%e3%82%b9%e3%82%b3%e3%83%bc%e3%82%b9%ef%bc%88%e9%96%a2%e8%a5%bf%e3%80%81%e9%96%a2%e6%9d%b1%ef%bc%89-2
LOCATION:一般財団法人日本教育会館8階　第一会議室
CATEGORIES:その他主催の研修
END:VEVENT
BEGIN:VEVENT
DTSTART;TZID=Asia/Tokyo:20230319T090000
DTEND;TZID=Asia/Tokyo:20230319T130000
DTSTAMP:20260424T041649
CREATED:20230124T051143Z
LAST-MODIFIED:20230124T051143Z
UID:1092-1679216400-1679230800@ot-hyogo.or.jp
SUMMARY:主催：OT協会　「第18回OTカンファレンス（就労支援）」
DESCRIPTION:  \n協会ホームページ：https://www.jaot.or.jp/member/from_assoc/detail/667/
URL:https://ot-hyogo.or.jp/file/event/%e4%b8%bb%e5%82%ac%ef%bc%9aot%e5%8d%94%e4%bc%9a%e3%80%80%e3%80%8c%e7%ac%ac18%e5%9b%9eot%e3%82%ab%e3%83%b3%e3%83%95%e3%82%a1%e3%83%ac%e3%83%b3%e3%82%b9%ef%bc%88%e5%b0%b1%e5%8a%b4%e6%94%af%e6%8f%b4
LOCATION:オンライン(Zoom)
CATEGORIES:その他主催の研修
END:VEVENT
END:VCALENDAR