BEGIN:VCALENDAR
VERSION:2.0
PRODID:-//兵庫県作業療法士会　研修案内 - ECPv6.7.0//NONSGML v1.0//EN
CALSCALE:GREGORIAN
METHOD:PUBLISH
X-WR-CALNAME:兵庫県作業療法士会　研修案内
X-ORIGINAL-URL:https://ot-hyogo.or.jp/file
X-WR-CALDESC:兵庫県作業療法士会　研修案内 のイベント
REFRESH-INTERVAL;VALUE=DURATION:PT1H
X-Robots-Tag:noindex
X-PUBLISHED-TTL:PT1H
BEGIN:VTIMEZONE
TZID:Asia/Tokyo
BEGIN:STANDARD
TZOFFSETFROM:+0900
TZOFFSETTO:+0900
TZNAME:JST
DTSTART:20230101T000000
END:STANDARD
END:VTIMEZONE
BEGIN:VEVENT
DTSTART;VALUE=DATE:20230604
DTEND;VALUE=DATE:20230605
DTSTAMP:20260423T235720
CREATED:20221107T052532Z
LAST-MODIFIED:20230327T042241Z
UID:652-1685836800-1685923199@ot-hyogo.or.jp
SUMMARY:第43回近畿作業療法学会
DESCRIPTION:第43回近畿作業療法学会HPはコチラから\n–\n \n–\n第43回近畿作業療法学会HPはコチラから
URL:https://ot-hyogo.or.jp/file/event/652
LOCATION:WEB
CATEGORIES:その他主催の研修
END:VEVENT
BEGIN:VEVENT
DTSTART;TZID=Asia/Tokyo:20230607T190000
DTEND;TZID=Asia/Tokyo:20230607T200000
DTSTAMP:20260423T235720
CREATED:20230512T052718Z
LAST-MODIFIED:20230512T071435Z
UID:1274-1686164400-1686168000@ot-hyogo.or.jp
SUMMARY:「第1回 但馬ブロック勉強会」
DESCRIPTION:案内ポスターのダウンロードはこちら \n日時\n6月7日（水）　19：00～20：00 \n会場\n但馬長寿の郷　研修棟2階　介護実習室 \n内容\n日頃の臨床での悩みを共有。意見交換を実施。\n・関節可動域訓練の手技を確認してみませんか？\n・拘縮予防はどのようにしていますか？\n・実技を通して学んでみませんか？ \n会場整理費\n無料 \n申し込み方法\n申し込み用紙に記入し、FAX：079‐662‐6682\nメール： \n問い合わせ・申し込み先\n医療法人社団　絹和会　但馬病院　小西　TEL　079－662－2631 \n締め切り\n特に設けませんが、当日までに連絡いただけると幸いです。
URL:https://ot-hyogo.or.jp/file/event/%e3%80%8c%e7%ac%ac1%e5%9b%9e-%e4%bd%86%e9%a6%ac%e3%83%96%e3%83%ad%e3%83%83%e3%82%af%e5%8b%89%e5%bc%b7%e4%bc%9a%e3%80%8d
LOCATION:但馬長寿の郷　研修棟2階　介護実習室
CATEGORIES:兵庫県作業療法士会主催の研修
END:VEVENT
BEGIN:VEVENT
DTSTART;TZID=Asia/Tokyo:20230608T190000
DTEND;TZID=Asia/Tokyo:20230608T200000
DTSTAMP:20260423T235720
CREATED:20230515T104422Z
LAST-MODIFIED:20230515T111000Z
UID:1290-1686250800-1686254400@ot-hyogo.or.jp
SUMMARY:「丹波北播磨ブロック意見交換会」締切6.5
DESCRIPTION:テーマ\n丹波北播磨ブロック意見交換会 \n内容\n①丹波北播磨ブロック今年度の活動予定\n→研修会、現職者共通研修事例検討・事例報告　等 \n②意見交換会\n→・現状困っていることの相談や他の職場ではどのようなアプローチをしているかなどの意見交換。\nー・今後ブロックで取り扱って欲しい研修会　等 \n日時\n2023年6月8日（木）　19：00－20：00（18：50受付開始） \n場所\nZOOMを用いてのオンライン \n参加費\n無料 \n申し込み方法\n以下の内容を記載し、メールにてお申込み下さい。\n①氏名\n②所属\n③経験年数\n④意見交換してみたい議題があれば記載して下さい。 \n申し込み先\n \n問い合わせ際\n介護老人保健施設　サンビラ三木　永尾\nTEL：0794-70-8202 \n〆切\n2023年6月5日（金）13:00\n〆切後、申し込みいただいたメールアドレスへzoomの案内を送らせていただきます。 \n備考\n本年度入職された方や他ブロックから新たに当ブロックに入られた方は顔合わせも兼ねてご参加頂けると幸いです。\n又、現職者共通研修事例検討・事例報告にて発表を予定されている方は発表会当日までのスケジュールや発表形式をお知らせしますので是非ご参加下さい。
URL:https://ot-hyogo.or.jp/file/event/%e3%80%8c%e4%b8%b9%e6%b3%a2%e5%8c%97%e6%92%ad%e7%a3%a8%e3%83%96%e3%83%ad%e3%83%83%e3%82%af%e6%84%8f%e8%a6%8b%e4%ba%a4%e6%8f%9b%e4%bc%9a%e3%80%8d%e7%b7%a0%e5%88%876-5
LOCATION:オンライン(Zoom)
CATEGORIES:兵庫県作業療法士会主催の研修
END:VEVENT
BEGIN:VEVENT
DTSTART;TZID=Asia/Tokyo:20230614T183000
DTEND;TZID=Asia/Tokyo:20230614T200000
DTSTAMP:20260423T235720
CREATED:20230515T105900Z
LAST-MODIFIED:20230515T110047Z
UID:1293-1686767400-1686772800@ot-hyogo.or.jp
SUMMARY:「兵庫県リハ3士会（北播磨/丹波）北播磨圏域リハビリテーション支援センター共催研修」締切5.31
DESCRIPTION:タイトル\n兵庫県リハ3士会（北播磨/丹波）北播磨圏域リハビリテーション支援センター共催研修 \n内　容\n地域リハビリテーションの現状とこれから\n～介護予防事業の事例を通して～ \n日　時\n6月14日　18：30 ～ 20：00 \n会　場\nハイブリッド開催\n現地会場：小野市うるおい交流館エクラ・大会議室\nWEB参加：ZOOM \n講　師\n石田　崇継氏（西脇市立西脇病院　理学療法士）\n壷井　忠士氏（多可赤十字病院　理学療法士） \n定　員\n100名 \n生涯教育ポイント\n付与対象外です \n受講費\n無料 \n申込み条件\n☒ 北播磨・丹波地域で勤務されているリハビリ専門職 \n受講条件\nオンラインでの研修会に参加される方は、参加条件・準備事項・個人情報保護について以下の資料を必ずご確認ください。 \nオンライン研修会に参加される皆さまへ \nオンライン研修における研修情報および個人情報保護について \n締め切り\n5月31日（水） \n問い合わせ先\n北播磨圏域リハビリテーションセンター事務局　奥野・藤本\nTEL：070-4220-5114 \n– \n研修案内のダウンロードはこちら \n–
URL:https://ot-hyogo.or.jp/file/event/%e3%80%8c%e5%85%b5%e5%ba%ab%e7%9c%8c%e3%83%aa%e3%83%8f3%e5%a3%ab%e4%bc%9a%ef%bc%88%e5%8c%97%e6%92%ad%e7%a3%a8-%e4%b8%b9%e6%b3%a2%ef%bc%89%e5%8c%97%e6%92%ad%e7%a3%a8%e5%9c%8f%e5%9f%9f%e3%83%aa%e3%83%8f
LOCATION:ハイブリッド開催
CATEGORIES:その他主催の研修
END:VEVENT
BEGIN:VEVENT
DTSTART;TZID=Asia/Tokyo:20230616T153000
DTEND;TZID=Asia/Tokyo:20230616T180000
DTSTAMP:20260423T235720
CREATED:20230515T045552Z
LAST-MODIFIED:20230515T045552Z
UID:1285-1686929400-1686938400@ot-hyogo.or.jp
SUMMARY:若手支援者の実践からキャリアを考える
DESCRIPTION:  \n【研修案内】若手支援者の実践からキャリアを考える
URL:https://ot-hyogo.or.jp/file/event/%e8%8b%a5%e6%89%8b%e6%94%af%e6%8f%b4%e8%80%85%e3%81%ae%e5%ae%9f%e8%b7%b5%e3%81%8b%e3%82%89%e3%82%ad%e3%83%a3%e3%83%aa%e3%82%a2%e3%82%92%e8%80%83%e3%81%88%e3%82%8b
LOCATION:兵庫教育大学神戸キャンパス
CATEGORIES:その他主催の研修
END:VEVENT
BEGIN:VEVENT
DTSTART;TZID=Asia/Tokyo:20230616T200000
DTEND;TZID=Asia/Tokyo:20230616T210000
DTSTAMP:20260423T235720
CREATED:20230522T051511Z
LAST-MODIFIED:20230522T051511Z
UID:1316-1686945600-1686949200@ot-hyogo.or.jp
SUMMARY:「神戸ブロック勉強会（小児分野）」締切6.15
DESCRIPTION:テーマ\n「脳性麻痺の基本的臨床像」 \n内容\n講義 \n日時\n2023年6月16日（金）\n20:00～21:00　 （19:50受付開始） \n場所（ツール）\nオンライン（zoomで開催） \n発表者\n一般社団法人　はなまる学園　福田菜里　氏 \n会場整理費\n無料 \n申し込み方法\nメールにて、以下の内容をお送りください。\n①氏名\n②所属\n③職種\n④経験年数 \n申し込み先\n（代表：井上） \n〆切\n2023年6月15日（木）17:00\n〆切後、申し込みいただいたメールアドレスへzoomの案内を送らせていただきます。
URL:https://ot-hyogo.or.jp/file/event/%e3%80%8c%e7%a5%9e%e6%88%b8%e3%83%96%e3%83%ad%e3%83%83%e3%82%af%e5%8b%89%e5%bc%b7%e4%bc%9a%ef%bc%88%e5%b0%8f%e5%85%90%e5%88%86%e9%87%8e%ef%bc%89%e3%80%8d%e7%b7%a0%e5%88%876-15
LOCATION:オンライン(Zoom)
CATEGORIES:兵庫県作業療法士会主催の研修
END:VEVENT
BEGIN:VEVENT
DTSTART;TZID=Asia/Tokyo:20230617T100000
DTEND;TZID=Asia/Tokyo:20230617T160000
DTSTAMP:20260423T235720
CREATED:20230517T045308Z
LAST-MODIFIED:20230628T044807Z
UID:1307-1686996000-1687017600@ot-hyogo.or.jp
SUMMARY:452「認知症対策委員会　認知症臨床作業療法士育成研修会ステップⅠ」締切6.12
DESCRIPTION:タイトル\n認知症対策委員会　認知症臨床作業療法士育成研修会ステップⅠ　～認知症を理解する～ \n内　容\n\n\n\n9:30~10:00\n受付\n\n\n10:00~10:10\nオリエンテーション\n\n\n10:10~10:40\n世界および日本における作業療法の課題\n\n\n10:40~10:50\n休憩\n\n\n10:50~11:50\n認知症の障害の本質と認知症原因疾患への理解\n\n\n11:50~13:00\n昼休憩\n\n\n13:00~14:00\n行動・心理症状（BPSD）の原因・背景および障害構造の理解\n\n\n14:00~14:10\n休憩\n\n\n14:10~15:10\n認知症作業療法におけるアセスメントとマネジメント\n\n\n15:10~15:20\n休憩\n\n\n15:20~15:50\nＧＰ（事例報告）のオリエンテーション\n\n\n15:50~16:00\nまとめ\n\n\n\n日　時\n6月17日　10：00～16：00（受付9：30～） \n会　場\nオンライン（Zoom）\n※受付完了者に研修日の３日前（平日のみ）までにメールにてミーティングを配信します \n→6月14日（水）12時00分頃に研修に関するミーティング情報を送信しました（以下参照） \n【事務局より】452　認知症臨床作業療法士育成研修会　ステップⅠ（6/17）受講確定者へメールを送信しました \n講　師\n認知症対策委員会 \n定　員\n80名 \n生涯教育ポイント\n☒　２P付与されます \n受講費\n1000円（銀行振り込みのみ対応） \n振込みの際のご注意】\n「振込人名」の後に「ニン452　OT協会番号」を追加してください。\n（例：ヒョウゴタロウ　ニン452　12345）\n※振込人名後の「ニン452」で本研修の受講費として処理します。忘れずにご入力をお願いいたします。振込人名のみ場合は確認連絡が届く可能性があります。\n※振込時にお手元に残る振込明細書（記録）は研修会開始まで保管ください。\n※受講料の入金と下記申込ボタンからの申し込みが揃った時点で受付完了となります。\nーいずれか一方でも確認できない場合、申し込みは自動キャンセルとなります。 \n【振込先口座】→受付終了のため削除しました \n申込み条件\n☒　兵庫県士会員 \n受講条件\nオンラインでの研修会に参加される方は、参加条件・準備事項・個人情報保護について以下の資料を必ずご確認ください。 \nオンライン研修会に参加される皆さまへ \nオンライン研修における研修情報および個人情報保護について \n締め切り\n6月12日（月）13時 \n問い合わせ先\n関西総合リハビリテーション専門学校　前谷一旗\n \n申し込み受付は終了しました\n–
URL:https://ot-hyogo.or.jp/file/event/452%e3%80%8c%e8%aa%8d%e7%9f%a5%e7%97%87%e5%af%be%e7%ad%96%e5%a7%94%e5%93%a1%e4%bc%9a%e3%80%80%e8%aa%8d%e7%9f%a5%e7%97%87%e8%87%a8%e5%ba%8a%e4%bd%9c%e6%a5%ad%e7%99%82%e6%b3%95%e5%a3%ab%e8%82%b2
LOCATION:オンライン(Zoom)
CATEGORIES:兵庫県作業療法士会主催の研修
END:VEVENT
BEGIN:VEVENT
DTSTART;TZID=Asia/Tokyo:20230622T190000
DTEND;TZID=Asia/Tokyo:20230622T210000
DTSTAMP:20260423T235720
CREATED:20230508T054802Z
LAST-MODIFIED:20230628T044721Z
UID:1254-1687460400-1687467600@ot-hyogo.or.jp
SUMMARY:450「東播磨ブロック　第１回研修会」締切6.15
DESCRIPTION:タイトル\n東播磨ブロック　第１回研修会　「MTDLPについて」 \n内　容\n臨床実習指導におけるMTDLP活用５つのポイント \n日　時\n2023年6月22日　19：00 ～ 21：00（受付　18：45～） \n会　場\nオンライン（Zoom）\n※受付完了者に研修日の３日前（平日のみ）までにメールにてミーティングを配信します \n→6月19日（月）13時00分頃に研修に関するミーティング情報を送信しました（以下参照） \n【事務局より】450　東播磨ブロック研修会　「MTDLPについて」（6/22）受講確定者へメールを送信しました \n講　師\n北岡　裕也　氏　（関西総合リハビリテーション） \n定　員\n定員なし \n生涯教育ポイント\n☒　２P付与されます \n受講費\n1000円（銀行振り込みのみ対応） \n【振込みの際のご注意】\n「振込人名」の後に「ヒ450　OT協会番号」を追加してください。\n（例：ヒョウゴタロウ　ヒ450　12345　協会番号のない方は　ヒ450　のみを追加）\n※振込人名後の「ヒ450」で本研修の受講費として処理します。忘れずにご入力をお願いいたします。振込人名のみ場合は確認連絡が届く可能性があります。\n※振込時にお手元に残る振込明細書（記録）は研修会開始まで保管ください。\n※受講料の入金と下記申込ボタンからの申し込みが揃った時点で受付完了となります。\nーいずれか一方でも確認できない場合、申し込みは自動キャンセルとなります。 \n【振込先口座】→受付終了のため削除しました \n申込み条件\n☒　兵庫県士会員\n☒　日本OT協会及び他府県士会の両方に所属するOT\n☒　日本OT協会・他府県士会の一方のみ在籍している、またはいずれにも在籍していないOT\n☒　他職種、一般 \n受講条件\nオンラインでの研修会に参加される方は、参加条件・準備事項・個人情報保護について以下の資料を必ずご確認ください。 \nオンライン研修会に参加される皆さまへ \nオンライン研修における研修情報および個人情報保護について \n締め切り\n6月15日（木）13時 \n問い合わせ先\n松本病院　奥藤佑介\n \n申し込み受付は終了しました
URL:https://ot-hyogo.or.jp/file/event/450%e3%80%8c%e6%9d%b1%e6%92%ad%e7%a3%a8%e3%83%96%e3%83%ad%e3%83%83%e3%82%af%e3%80%80%e7%ac%ac%ef%bc%91%e5%9b%9e%e7%a0%94%e4%bf%ae%e4%bc%9a%e3%80%8d%e7%b7%a0%e5%88%876-15
LOCATION:オンライン(Zoom)
CATEGORIES:兵庫県作業療法士会主催の研修
END:VEVENT
BEGIN:VEVENT
DTSTART;VALUE=DATE:20230623
DTEND;VALUE=DATE:20230624
DTSTAMP:20260423T235720
CREATED:20230623T071020Z
LAST-MODIFIED:20230623T072336Z
UID:1427-1687478400-1687564799@ot-hyogo.or.jp
SUMMARY:2023年心リハWeb勉強会
DESCRIPTION:タイトル\n2023年心リハWeb勉強会 　兵庫県立はりま姫路総合医療センター／中播磨圏域リハビリテーション支援センター \n内容\n全10回　YouTubeによる限定公開(期間限定)　心リハ指導士試験に興味をお持ちの方、受験予定の方ぜひご参加ください。 \n会場\nオンライン(YouTube限定公開) \n定員\nなし \n生涯教育ポイント\n☒　付与対象外です \n受講費\n無料 \n申込み条件\nPT、OT、ST \n締め切り\nなし \n申し込み方法\n下記URL　および別紙参照の上お申し込みください。\nhttps://forms.gle/AYUYgqzpYWueQSEeA \n問い合わせ先\n別紙参照 \nチラシ\nチラシのダウンロードはこちら\n–
URL:https://ot-hyogo.or.jp/file/event/2023%e5%b9%b4%e5%bf%83%e3%83%aa%e3%83%8fweb%e5%8b%89%e5%bc%b7%e4%bc%9a-%e3%80%80%e5%85%b5%e5%ba%ab%e7%9c%8c%e7%ab%8b%e3%81%af%e3%82%8a%e3%81%be%e5%a7%ab%e8%b7%af%e7%b7%8f%e5%90%88%e5%8c%bb%e7%99%82
CATEGORIES:その他主催の研修
END:VEVENT
BEGIN:VEVENT
DTSTART;TZID=Asia/Tokyo:20230624T100000
DTEND;TZID=Asia/Tokyo:20230624T113000
DTSTAMP:20260423T235720
CREATED:20230526T054258Z
LAST-MODIFIED:20230526T054258Z
UID:1358-1687600800-1687606200@ot-hyogo.or.jp
SUMMARY:【行動リハビリテーション研究会主催】  対象者全員を自立へ導くシリーズ
DESCRIPTION:行動リハビリテーション研究会主催 \n対象者全員を自立へ導くシリーズ　①無誤学習に基づく基本動作練習 \n講師：山zｱ裕司先生（高知リハビリテーション専門職大学リハビリテーション学科教授　理学療法士） \n  \n『対象者全員を自立へ導くシリーズの第１回目の研修会です。2回目以降の内容が理解しやすいように動作障害をどのように捉え，なぜそのように練習を実施しなければならないのか、その理由を明らかにします。動作練習の原則は、無誤学習です。その目的と実施原則、神経生理学的背景について解説し，無誤学習を創出するための代表的な技法を紹介します。また，無誤学習による基本動作練習の効果について、それ以外の動作練習と群間比較した研究結果を示します。』 \n  \n日時：2023年6月24日（土）10:00～11:30 \n方法：Zoomによるオンライン開催 \n参加費：行動リハビリテーション研究会会員1\,000円　非会員 2\,000円　学生 1\,000円 \n定員：100名（先着順） \n参加登録締め切り：2023年6月20日（火） \n申込方法：申し込みフォームからお申し込みの上，参加費をお振り込みください． \nhttps://forms.gle/z31j6ZSePmZBNKubA \nご入金確認後メールにてURLをお知らせいたします。（6月22日頃を予定しております） \n詳細は行動リハビリテーション研究会ホームページ http://koudo-reha.kenkyuukai.jp/event/　にてご確認ください．
URL:https://ot-hyogo.or.jp/file/event/%e3%80%90%e8%a1%8c%e5%8b%95%e3%83%aa%e3%83%8f%e3%83%93%e3%83%aa%e3%83%86%e3%83%bc%e3%82%b7%e3%83%a7%e3%83%b3%e7%a0%94%e7%a9%b6%e4%bc%9a%e4%b8%bb%e5%82%ac%e3%80%91-%e5%af%be%e8%b1%a1%e8%80%85%e5%85%a8
LOCATION:オンライン(Zoom)
CATEGORIES:その他主催の研修
END:VEVENT
END:VCALENDAR