BEGIN:VCALENDAR
VERSION:2.0
PRODID:-//兵庫県作業療法士会　研修案内 - ECPv6.7.0//NONSGML v1.0//EN
CALSCALE:GREGORIAN
METHOD:PUBLISH
X-ORIGINAL-URL:https://ot-hyogo.or.jp/file
X-WR-CALDESC:兵庫県作業療法士会　研修案内 のイベント
REFRESH-INTERVAL;VALUE=DURATION:PT1H
X-Robots-Tag:noindex
X-PUBLISHED-TTL:PT1H
BEGIN:VTIMEZONE
TZID:Asia/Tokyo
BEGIN:STANDARD
TZOFFSETFROM:+0900
TZOFFSETTO:+0900
TZNAME:JST
DTSTART:20230101T000000
END:STANDARD
END:VTIMEZONE
BEGIN:VEVENT
DTSTART;TZID=Asia/Tokyo:20230702T092000
DTEND;TZID=Asia/Tokyo:20230702T165000
DTSTAMP:20260423T221446
CREATED:20230522T055955Z
LAST-MODIFIED:20230629T033512Z
UID:1319-1688289600-1688316600@ot-hyogo.or.jp
SUMMARY:453「第１回現職者共通研修会」締切6.27
DESCRIPTION:タイトル\n教育部　第１回現職者共通研修会 \n内　容\n\n\n\n①作業療法生涯教育概論\n9:20〜10:50\n\n\n②作業療法における協業・後輩育成\n11:10〜12:40\n\n\n③職業倫理\n13:30〜15:00\n\n\n④保健・医療・福祉と地域支援\n15:20〜16:50\n\n\n\n  \n①〜④の講義を別々でも申し込み可能。 \n日　時\n令和5年　7月 2日　9：20 ～ 16：50（受付 9：00～） \n会　場\nオンライン（Zoom）\n※申込完了者に研修日の３日前（平日のみ）までにメールにてミーティングを配信します \n→6月29日（木）12時20分頃から順次研修に関するミーティング情報を送信しました（以下参照） \n【事務局より】453　第1回現職者共通研修会（7/2）受講確定者へメールを送信しました \n講　師\n①野田和惠先生（神戸大学大学院保健学研究科） \n②松本宏昭先生（西江井島病院) \n③佐野恭子先生（宝塚リハビリテーション病院) \n④宮崎宏興先生（たつの市地域活動相談支援センター　いねいぶる） \n定　員\n100名 \n生涯教育ポイント\n☒　２P付与されます \n受講費\n1講義1000円　全4講義受講ならば4000円（銀行振り込みのみ対応） \n【振込みの際のご注意】\n「振込人名」の後に「キ453　OT協会番号」を追加してください。\n（例：ヒョウゴタロウ　キ453　12345）\n※振込人名後の「キ453」で本研修の受講費として処理します。忘れずにご入力をお願いいたします。振込人名のみ場合は確認連絡が届く可能性があります。\n※振込時にお手元に残る振込明細書（記録）は研修会開始まで保管ください。\n※受講料の入金と下記申込ボタンからの申し込みが揃った時点で受付完了となります。\nーいずれか一方でも確認できない場合、申し込みは自動キャンセルとなります。 \n【振込先口座】→受付終了のため削除しました。 \n申込み条件\n☒　兵庫県士会員\n☒　日本OT協会及び他府県士会の両方に所属するOT\n※会員として申し込むには申込時点で県士会員である必要があります。 \n受講条件\nオンラインでの研修会に参加される方は、参加条件・準備事項・個人情報保護について以下の資料を必ずご確認ください。 \nオンライン研修会に参加される皆さまへ \nオンライン研修における研修情報および個人情報保護について \n締め切り\n6月27日（火）13時 \n問い合わせ先\n佐東　健　　兵庫医科大学病院（TEL：0798-45-6388　FAX：0798-45-6948）\n－ \nお申込み\n－このこの研修の申し込み受付は終了しました \n\n\n 
URL:https://ot-hyogo.or.jp/file/event/453%e3%80%8c%e7%ac%ac%ef%bc%91%e5%9b%9e%e7%8f%be%e8%81%b7%e8%80%85%e5%85%b1%e9%80%9a%e7%a0%94%e4%bf%ae%e4%bc%9a%e3%80%8d%e7%b7%a0%e5%88%876-27
LOCATION:オンライン(Zoom)
CATEGORIES:兵庫県作業療法士会主催の研修
END:VEVENT
BEGIN:VEVENT
DTSTART;TZID=Asia/Tokyo:20230713T190000
DTEND;TZID=Asia/Tokyo:20230713T210000
DTSTAMP:20260423T221446
CREATED:20230530T112526Z
LAST-MODIFIED:20230530T112526Z
UID:1361-1689274800-1689282000@ot-hyogo.or.jp
SUMMARY:「作業療法士の地域リハを考える会」
DESCRIPTION:– \nチラシのダウンロードはこちら \n– \n【テーマ】\n作業療法士の地域リハを考える会（Web形式） \n【内容】\n地域共生社会の概要や地域支援事業関連の活動の講義を交えたトークセッションを聴講して頂きます。聴講者はチャットなどで気軽にコメントしてください。皆さんで地域リハを考え意見交換していきます。（チラシ参照） \n【日時】\n2023年7月13日（木）　19:00～21:00（受付18:50～） \n【講師及びトーク者】\n地域ケア推進委員より \n【参加費・申し込み】\n不要 \n【参加方法】\n6月定期配送にチラシ同封あり\nチラシのzoomID・PWより参加 \n【参加対象】\n兵庫県内の作業療法士　会員・非会員ともに可能\n※ポイント付与はありません \n【当日のお願い】\n①マイク・ビデオはミュート\n②アカウント名入力\n例）〇〇病院 作業太郎 \n【お問い合わせ】\n一般社団法人 兵庫県作業療法士会 地域ケア推進委員会\n担当：佐野 善章\n連絡先： \n– \nチラシのダウンロードはこちら \n–
URL:https://ot-hyogo.or.jp/file/event/%e3%80%8c%e4%bd%9c%e6%a5%ad%e7%99%82%e6%b3%95%e5%a3%ab%e3%81%ae%e5%9c%b0%e5%9f%9f%e3%83%aa%e3%83%8f%e3%82%92%e8%80%83%e3%81%88%e3%82%8b%e4%bc%9a%e3%80%8d
LOCATION:オンライン(Zoom)
CATEGORIES:兵庫県作業療法士会主催の研修
END:VEVENT
BEGIN:VEVENT
DTSTART;TZID=Asia/Tokyo:20230716T093000
DTEND;TZID=Asia/Tokyo:20230716T170000
DTSTAMP:20260423T221446
CREATED:20230609T070401Z
LAST-MODIFIED:20230713T054253Z
UID:1379-1689499800-1689526800@ot-hyogo.or.jp
SUMMARY:454「現職者選択研修（必修）MTDLP基礎研修（教育部）」締切7.11
DESCRIPTION:タイトル\n現職者選択研修（必修）MTDLP基礎研修　　（教育部） \n内　容\n生活行為向上マネジメント（MTDLP）概論＋演習研修 \n日　時\n2023年　7月16日　9：30～17:00（9時から受付開始） \n会　場\nオンライン（Zoom）\n※受付完了者に研修日の３日前（平日のみ）までにメールにてミーティングを配信します \n→7月13日（木）14時30分頃、研修に関するミーティング情報を送信しました（以下参照） \n【事務局より】454　現職者選択研修（必修）MTDLP基礎研修（7/16）受講確定者へメールを送信しました \n講　師\n①小南　陽平　先生　（宝塚リハビリテーション病院）\n②加茂　永梨佳　先生（こうべ市民福祉振興協会） \n定　員\n80名 \n生涯教育ポイント\n☒　付与対象外です \n受講費\n4000円（銀行振り込みのみ対応）\n【振込みの際のご注意】\n「振込人名」の後に「キ454　OT協会番号」を追加してください。\n（例：ヒョウゴタロウ　キ454　12345）\n※振込人名後の「キ454」で本研修の受講費として処理します。忘れずにご入力をお願いいたします。振込人名のみ場合は確認連絡が届く可能性があります。\n※振込時にお手元に残る振込明細書（記録）は研修会開始まで保管ください。\n※受講料の入金と下記申込ボタンからの申し込みが揃った時点で受付完了となります。\nーいずれか一方でも確認できない場合、申し込みは自動キャンセルとなります。 \n【振込先口座】→受付終了のため削除しました \n申込み条件\n☒　兵庫県士会員\n☒　日本OT協会及び他府県士会の両方に所属するOT \n受講条件\nオンラインでの研修会に参加される方は、参加条件・準備事項・個人情報保護について以下の資料を必ずご確認ください。 \nオンライン研修会に参加される皆さまへ \nオンライン研修における研修情報および個人情報保護について \n締め切り\n7月11日（火）13時 \n問い合わせ先\n浦田　康平　　順心神戸病院（TEL：078-754-8700） \n  \n申込受付は終了しました\n 
URL:https://ot-hyogo.or.jp/file/event/454%e3%80%8c%e7%8f%be%e8%81%b7%e8%80%85%e9%81%b8%e6%8a%9e%e7%a0%94%e4%bf%ae%ef%bc%88%e5%bf%85%e4%bf%ae%ef%bc%89mtdlp%e5%9f%ba%e7%a4%8e%e7%a0%94%e4%bf%ae%ef%bc%88%e6%95%99%e8%82%b2%e9%83%a8%ef%bc%89
LOCATION:オンライン(Zoom)
CATEGORIES:兵庫県作業療法士会主催の研修
END:VEVENT
BEGIN:VEVENT
DTSTART;TZID=Asia/Tokyo:20230718T190000
DTEND;TZID=Asia/Tokyo:20230718T203000
DTSTAMP:20260423T221446
CREATED:20230612T071027Z
LAST-MODIFIED:20230612T071027Z
UID:1393-1689706800-1689712200@ot-hyogo.or.jp
SUMMARY:「ケアマネとリハ職の情報共有の練習会  内容」締切7.11
DESCRIPTION:– \nチラシのダウンロードはこちら \n–\nタイトル\n姫路市在宅医療・介護連携支援センター（中播磨ブロック）\nケアマネとリハ職の情報共有の練習会 \n内容\n今回の事例「社会参加の場に一歩踏み出せない脳梗塞後遺症の事例」\nケアマネジャーとリハ職にてグループワークを行いながら一緒にリハビリテーション計画書の情報を整理し、どのようにケアプラン作成に活用できるかを検討します。 \n日時\n７月１８日　１９：００ ～ ２０：３０（受付 １８：３０～） \n会場\n姫路市総合福祉会館 \n定員\n７５名 \n生涯教育ポイント\n☒　付与対象外です \n受講費\n無料 \n申込み条件\nOT \n締め切り\n７月１１日（火） \n申し込み方法\n下記URL　および別紙参照の上お申し込みください。\nhttps://forms.gle/nmYmEvtYz3TUtLBW9\n定員に達した時点で受付終了しますので、お早めにお申し込みください \n問い合わせ先\n姫路市在宅医療・介護連携支援センター　(受託者：姫路市医師会)\n対応時間；月曜～金曜日(祝日・年末年始を除く)午前８時３５分から午後５時２０分\nTEL　０７９－２９５－３３３０\nFAX　０７９－２９５－３３５１\nE-MAIL： \n※研修会当日は、お問い合わせやメール対応ができないことがあります。 \n– \nチラシのダウンロードはこちら \n–
URL:https://ot-hyogo.or.jp/file/event/%e3%80%8c%e3%82%b1%e3%82%a2%e3%83%9e%e3%83%8d%e3%81%a8%e3%83%aa%e3%83%8f%e8%81%b7%e3%81%ae%e6%83%85%e5%a0%b1%e5%85%b1%e6%9c%89%e3%81%ae%e7%b7%b4%e7%bf%92%e4%bc%9a-%e5%86%85%e5%ae%b9%e3%80%8d%e7%b7%a0
LOCATION:姫路市総合福祉会館
CATEGORIES:その他主催の研修
END:VEVENT
BEGIN:VEVENT
DTSTART;TZID=Asia/Tokyo:20230720T190000
DTEND;TZID=Asia/Tokyo:20230720T210000
DTSTAMP:20260423T221446
CREATED:20230612T072149Z
LAST-MODIFIED:20230714T031907Z
UID:1398-1689879600-1689886800@ot-hyogo.or.jp
SUMMARY:455　第1回但馬ブロック研修会「学生指導について」締切7.11
DESCRIPTION:タイトル\n第1回但馬ブロック研修会「学生指導について」 \n内　容\n臨床実習指導について近年の傾向や新制度についての話。\n①学生指導をする上での困り事\n②どのような指導内容が学生に伝わりやすいのか？\nーディスカッションも交えたいと思います。 \n日　時\n7月20日〈木〉　19:00～21:00（受付 18：45～） \n会　場\nオンライン（Zoom）\n※受付完了者に研修日の３日前（平日のみ）までにメールにてミーティングを配信します \n→7月14日（金）12時10分頃、研修に関するミーティング情報を送信しました（以下参照） \n【事務局より】455　但馬ブロック研修会「学生指導について」（7/20）受講確定者へメールを送信しました \n講　師\n医療法人　伯鳳会　はくほう会医療専門学校赤穂校　赤堀将孝先生 \n定　員\n30名 \n生涯教育ポイント\n☒　２P付与されます \n受講費\n１０００円（銀行振り込みのみ対応）\n【振込みの際のご注意】\n「振込人名」の後に「タジ455　OT協会番号」を追加してください。\n（例：ヒョウゴタロウ　タジ455　12345　協会番号のない方は　タジ455　のみを追加）\n※振込人名後の「タジ455」で本研修の受講費として処理します。忘れずにご入力をお願いいたします。振込人名のみ場合は確認連絡が届く可能性があります。\n※振込時にお手元に残る振込明細書（記録）は研修会開始まで保管ください。\n※受講料の入金と下記申込ボタンからの申し込みが揃った時点で受付完了となります。\nーずれか一方でも確認できない場合、申し込みは自動キャンセルとなります。 \n【振込先口座】→受付終了のため削除しました \n申込み条件\n☒　兵庫県士会員\n☒　日本OT協会及び他府県士会の両方に所属するOT\n☒　日本OT協会・他府県士会の一方のみ在籍している、またはいずれにも在籍していないOT \n受講条件\nオンラインでの研修会に参加される方は、参加条件・準備事項・個人情報保護について以下の資料を必ずご確認ください。 \nオンライン研修会に参加される皆さまへ \nオンライン研修における研修情報および個人情報保護について \n締め切り\n7月11日（金）13時 \nその他\n5年目以下の方でも、今後学生指導に関わりたい先生の参加もお待ちしております。 \n問い合わせ先\n小西浩之(医療法人社団 絹和会 但馬病院)\n代表電話：079‐662‐2631\n但馬ブロックメール： \n申し込み受付は終了しました
URL:https://ot-hyogo.or.jp/file/event/455%e3%80%80%e7%ac%ac1%e5%9b%9e%e4%bd%86%e9%a6%ac%e3%83%96%e3%83%ad%e3%83%83%e3%82%af%e7%a0%94%e4%bf%ae%e4%bc%9a%e3%80%8c%e5%ad%a6%e7%94%9f%e6%8c%87%e5%b0%8e%e3%81%ab%e3%81%a4%e3%81%84%e3%81%a6
LOCATION:オンライン(Zoom)
CATEGORIES:兵庫県作業療法士会主催の研修
END:VEVENT
BEGIN:VEVENT
DTSTART;VALUE=DATE:20230722
DTEND;VALUE=DATE:20230724
DTSTAMP:20260423T221446
CREATED:20230526T053611Z
LAST-MODIFIED:20230526T053611Z
UID:1356-1689984000-1690156799@ot-hyogo.or.jp
SUMMARY:第29回・第30回訪問リハビリテーション管理者養成研修会STEP1開催のお知らせ
DESCRIPTION:【オンライン開催】第29回訪問リハビリテーション管理者養成研修会STEP1 \n第30回訪問リハビリテーション管理者養成研修会STEP1 \n【主催】リハビリテーション専門職団体協議会（日本理学療法士協会、日本作業療法士協会、日本言語聴覚士協会） \n【要旨】訪問リハビリテーションのスペシャリストを育成するための、3協会合同の唯一の人材育成プログラムです。 \n訪問リハビリテーションに従事する者としての \n『質の向上』『地域に望まれる事業所の遂行能力と高いコンプライアンスの実践能力』 \n『不測の事態にも的確に対応できるリスク管理能力』を学べる研修会です。 \nそして今回は『令和6年の同時改定を見据える』機会でもあります。 \n役職を問わず、ご自身のスキルアップ等のためにもぜひご参加ください。 \n———————— \n各協会のポイントについては、各協会に準じて付与します \n———————— \n※今回の研修会はSTEP1に位置づけられ、STEP1～3 で全課程修了となります。 \nSTEP1→STEP2→STEP3　の順でご受講ください \n  \nSTEP2：　2023年11月25日～26日開催 \nSTEP3：　2023年1月20日～21日開催 \nスキルアップ：　2023年2月24日～25日開催 \n  \nZoomを利用したオンラインセミナーとなります。 \n  \n＜第29回＞ \n■開催日：2023年7月22日（土）～23日（日） \n■会場：オンライン開催 \n■ホームページ： http://www.hvrpf.jp/4351 \n■お申込み：https://ws.formzu.net/fgen/S36956735/ \n  \n＜第30回＞ \n■開催日：2023年9月16日（土）～17日（日） \n■会場：オンライン開催 \n■ホームページ： http://www.hvrpf.jp/4354 \n■お申込み：https://ws.formzu.net/fgen/S36956735/
URL:https://ot-hyogo.or.jp/file/event/%e7%ac%ac29%e5%9b%9e%e3%83%bb%e7%ac%ac30%e5%9b%9e%e8%a8%aa%e5%95%8f%e3%83%aa%e3%83%8f%e3%83%93%e3%83%aa%e3%83%86%e3%83%bc%e3%82%b7%e3%83%a7%e3%83%b3%e7%ae%a1%e7%90%86%e8%80%85%e9%a4%8a%e6%88%90
LOCATION:オンライン(Zoom)
CATEGORIES:その他主催の研修
END:VEVENT
BEGIN:VEVENT
DTSTART;TZID=Asia/Tokyo:20230722T143000
DTEND;TZID=Asia/Tokyo:20230722T163000
DTSTAMP:20260423T221446
CREATED:20230614T061028Z
LAST-MODIFIED:20230614T061250Z
UID:1402-1690036200-1690043400@ot-hyogo.or.jp
SUMMARY:「2023年度　兵庫県作業療法士会　会員交流会」締切6.30
DESCRIPTION:タイトル\n総務部　 2023年度　兵庫県作業療法士会　会員交流会 \n内容\n県士会紹介、OT協会生涯教育制度の概要説明、交流会 \n日時\n7月22日（土）　14：30 ～ 16：30（受付 14：00～） \n会場\n神戸学院大学 神戸三宮サテライト（ミント神戸17階）\nオンライン（Zoom） \n定員\n70名 \n生涯教育ポイント\n☒　付与対象外です \n受講費\n無料 \n申込み条件\n☒　兵庫県士会員\n☒　日本OT協会及び他府県士会の両方に所属するOT\n☒　日本OT協会・他府県士会の一方のみ在籍している、またはいずれにも在籍していないOT \n申し込み\nhttps://forms.gle/rLdT8TAKFLC1yybo7 \n締め切り\n6月30日（金）18時 \nその他\n・蓋つきの飲料のみ持込みできます。\n・ゴミ類はすべてお持ち帰りください。 \n問い合わせ先\n総務部　大谷将之　 \nチラシ\nチラシのダウンロードはこちら\n–
URL:https://ot-hyogo.or.jp/file/event/%e3%80%8c2023%e5%b9%b4%e5%ba%a6%e3%80%80%e5%85%b5%e5%ba%ab%e7%9c%8c%e4%bd%9c%e6%a5%ad%e7%99%82%e6%b3%95%e5%a3%ab%e4%bc%9a%e3%80%80%e4%bc%9a%e5%93%a1%e4%ba%a4%e6%b5%81%e4%bc%9a%e3%80%8d%e7%b7%a0
LOCATION:神戸学院大学 神戸三宮サテライト（ミント神戸17階）
CATEGORIES:兵庫県作業療法士会主催の研修
END:VEVENT
BEGIN:VEVENT
DTSTART;TZID=Asia/Tokyo:20230723T093000
DTEND;TZID=Asia/Tokyo:20230723T130000
DTSTAMP:20260423T221446
CREATED:20230519T062433Z
LAST-MODIFIED:20230519T062433Z
UID:1311-1690104600-1690117200@ot-hyogo.or.jp
SUMMARY:基礎ポイント研修（老年期領域）～高齢期・地域におけるリスク管理～
DESCRIPTION:【主催】東京都作業療法士会　教育部 \n【内容】基礎ポイント研修（老年期領域）～高齢期・地域におけるリスク管理～ \n【日時】2023年7月23日（日）9:30〜12:40（若干延長する場合あり）ZOOM接続開始9:15～ \n【会場】ZOOMによる遠隔研修となります。 \n【参加対象】作業療法士 \n【参加費】 (以下、①～③の区分により受講料が異なります) \n①日本作業療法士協会所属かつ東京都作業療法士会所属または東京都作業療法士会のみ所属の会員の方 \n②日本作業療法士協会所属かつ他県士会所属 \n③日本作業療法士協会のみ所属、他県士会のみ所属、または所属無しの会員の方 \n・①、②：2000 円 \n・③：4000 円 \n【申込方法】下記 URL、あるいは PDFチラシ内にあるQR コードより申込みフォームにアクセスし、必要事項のご記⼊、受講料お支払い方法を選択し て下さい。 \n・イベントペイ URL https://eventpay.jp/event_info/?shop_code=5238587945919649&EventCode=P551984351 \n【HPリンク先】https://tokyo-ot.com/lecture/25137.html \n【問い合わせ先】rounenki@gmail.com 老年期研修チーム \n詳細チラシはこちらから \n 
URL:https://ot-hyogo.or.jp/file/event/%e5%9f%ba%e7%a4%8e%e3%83%9d%e3%82%a4%e3%83%b3%e3%83%88%e7%a0%94%e4%bf%ae%ef%bc%88%e8%80%81%e5%b9%b4%e6%9c%9f%e9%a0%98%e5%9f%9f%ef%bc%89%ef%bd%9e%e9%ab%98%e9%bd%a2%e6%9c%9f%e3%83%bb%e5%9c%b0%e5%9f%9f
LOCATION:オンライン(Zoom)
CATEGORIES:その他主催の研修
END:VEVENT
END:VCALENDAR