BEGIN:VCALENDAR
VERSION:2.0
PRODID:-//兵庫県作業療法士会　研修案内 - ECPv6.7.0//NONSGML v1.0//EN
CALSCALE:GREGORIAN
METHOD:PUBLISH
X-WR-CALNAME:兵庫県作業療法士会　研修案内
X-ORIGINAL-URL:https://ot-hyogo.or.jp/file
X-WR-CALDESC:兵庫県作業療法士会　研修案内 のイベント
REFRESH-INTERVAL;VALUE=DURATION:PT1H
X-Robots-Tag:noindex
X-PUBLISHED-TTL:PT1H
BEGIN:VTIMEZONE
TZID:Asia/Tokyo
BEGIN:STANDARD
TZOFFSETFROM:+0900
TZOFFSETTO:+0900
TZNAME:JST
DTSTART:20230101T000000
END:STANDARD
END:VTIMEZONE
BEGIN:VEVENT
DTSTART;VALUE=DATE:20231130
DTEND;VALUE=DATE:20231202
DTSTAMP:20260423T145016
CREATED:20230822T040147Z
LAST-MODIFIED:20230822T040305Z
UID:1604-1701302400-1701475199@ot-hyogo.or.jp
SUMMARY:日本精神科医学会・学術教育研修会 作業療法士部門
DESCRIPTION:開催日時\n令和5年11月30日（木）～12月1日（金）\n\n\n開催案内\n日本精神科医学会・学術教育研修会 作業療法士部門 ご案内PDF\n\n\n開催場所\nオークラホテル丸亀（香川県丸亀市富士見町3-3-50）\n\n\n募集方法\nWEBのみ\nhttps://eventpay.jp/event_info/?shop_code=1769366892419369&EventCode=P550948109\n\n\n宿泊案内\n会場ホテル宿泊予約(オークラホテル丸亀)\n\n\n受講対象\n精神科の臨床に関与している病院・施設の作業療法士、もしくはこれに準ずる者\n\n\n受講費用\n日精協会員・日本精神科医学会準会員 ：15\,000円\n会員外 ：25\,000円\n\n\n取得単位\n日本作業療法士会「生涯教育基礎コースポイント」1日1ポイント\n\n\n懇親会費\n10\,000円
URL:https://ot-hyogo.or.jp/file/event/%e6%97%a5%e6%9c%ac%e7%b2%be%e7%a5%9e%e7%a7%91%e5%8c%bb%e5%ad%a6%e4%bc%9a%e3%83%bb%e5%ad%a6%e8%a1%93%e6%95%99%e8%82%b2%e7%a0%94%e4%bf%ae%e4%bc%9a-%e4%bd%9c%e6%a5%ad%e7%99%82%e6%b3%95%e5%a3%ab%e9%83%a8
LOCATION:オークラホテル丸亀
CATEGORIES:その他主催の研修
END:VEVENT
BEGIN:VEVENT
DTSTART;TZID=Asia/Tokyo:20231201T193000
DTEND;TZID=Asia/Tokyo:20231201T213000
DTSTAMP:20260423T145016
CREATED:20231106T080716Z
LAST-MODIFIED:20231128T033156Z
UID:1992-1701459000-1701466200@ot-hyogo.or.jp
SUMMARY:490「西播磨ブロック研修会」締切11.24
DESCRIPTION:11月28日（火）12時25分頃、受付完了者へ研修に関する案内を送信しました（以下参照） \n490　西播磨ブロック研修会「パーキンソン病疾患に対する作業療法」（12/1）受付完了者へメールを送信しました \nタイトル\n西播磨ブロック研修会　「パーキンソン病患者に対する作業療法」 \n内容\n国内外のパーキンソン病のリハビリテーションに関するガイドラインの内容の紹介と、実際の介入の際のポイントなど、臨床経験を踏まえて講義して頂きます。パーキンソン病患者について困っている方や知識をアップデートしたい方など、多くの参加をお待ちしております。 \n日時\n12月1日　19：30 ～ 21：30（受付 19：15～） \n会場\n兵庫県立リハビリテーション西播磨病院\n（感染者拡大の場合、対面からZoomに変更になることもあります）\n※受講確定者には研修日の３日前（平日のみ）までにメールにて受講に関するお知らせを配信致します。 \n講師\n松ヶ下　壮先生（兵庫県立リハビリテーション西播磨病院） \n定員\n３０名 \n生涯教育ポイント\n☒　２P付与されます \n受講費\n１０００円　銀行振込のみ対応（当日受付での支払い不可） \n【振込みの際のご注意】\n「振込人名」の後に「ニシ490　OT協会番号」を追加してください。\n（例：ヒョウゴタロウ　ニシ490　12345　協会番号のない方は　ニシ490　のみを追加）\n※振込人名後の「ニシ490」で本研修の受講費として処理します。忘れずにご入力をお願いいたします。振込人名のみ場合は確認連絡が届く可能性があります。\n※振込時にお手元に残る振込明細書（記録）は研修会開始まで保管ください。\n※受講料の入金と下記申込ボタンからの申し込みが揃った時点で受付完了となります。\nーいずれか一方でも確認できない場合、申し込みは自動キャンセルとなります。 \n【振込先口座】→受付終了のため削除しました \n申込み条件\n☒　兵庫県士会員\n☒　日本OT協会及び他府県士会の両方に所属するOT\n☒　日本OT協会・他府県士会の一方のみ在籍している、またはいずれにも在籍していないOT \n締め切り\n１１月２４日（金）13時 \n問い合わせ先\n渡部　静　　\n– \n申し込み受付は終了しました
URL:https://ot-hyogo.or.jp/file/event/1992
LOCATION:兵庫県立リハビリテーション西播磨病院
CATEGORIES:兵庫県作業療法士会主催の研修
END:VEVENT
BEGIN:VEVENT
DTSTART;TZID=Asia/Tokyo:20231202T090000
DTEND;TZID=Asia/Tokyo:20231202T144000
DTSTAMP:20260423T145016
CREATED:20231030T072044Z
LAST-MODIFIED:20231030T073617Z
UID:1946-1701507600-1701528000@ot-hyogo.or.jp
SUMMARY:「人材育成研修STEPⅡ・訪問リハ実務者研修会」締切11.25
DESCRIPTION:－\n　チラシのダウンロードはこちら\n－\n\n－\n　チラシのダウンロードはこちら\n－
URL:https://ot-hyogo.or.jp/file/event/1946
LOCATION:オンライン(Zoom)
CATEGORIES:兵庫県作業療法士会主催の研修
END:VEVENT
BEGIN:VEVENT
DTSTART;TZID=Asia/Tokyo:20231202T100000
DTEND;TZID=Asia/Tokyo:20231202T165000
DTSTAMP:20260423T145016
CREATED:20231017T085049Z
LAST-MODIFIED:20231017T085351Z
UID:1849-1701511200-1701535800@ot-hyogo.or.jp
SUMMARY:「脳性まひ等肢体不自由児者に係る療法士等研修事業研修会」 締切10.31
DESCRIPTION:－\n　チラシのダウンロードはこちら\n－\n－ \n日 程\n令和5年12月2日(土)\n10:00〜16:50(受付9:30〜) \n会 場\n神戸臨床研究情報センター(TRI)\n(住所)〒650-0047 神市中央区港島南町1丁目5番地4号 \n参加対象\n理学療法士・作業療法士・言語聴覚士 の有資格者 \n募集定員\n24名\n※定員に達した場合は、選考させていただく場合がございます。 \n参加費\nコース①第1回〜第3回の3回セット　⋯　4\,000円\n※第2回「作業療法」・第3回「言語療法」の詳細は、チラシをご参照ください。 \nコース②第1回「理学療法」のみ　 ⋯　2\,000円 \n申込締切\n令和5年10月31日(火)正午 まで \n申込方法\n下記10項目を明記の上、メールでお申込みください。\nメールアドレス　 \n件名に「脳性まひ等肢体不自由児者に係る療法士等研修事業」研修会申込 \n本文に　①申込コースの種類　②所属施設名　③氏名　④職種　⑤経験年数\nー　　　⑥小児経験年数　⑦性別　⑧電話番号　⑨住所　⑩メールアドレス \n※お申し込み後、1週間以内に「受付完了のお知らせ」が届かない場合は、研修会事務局\n(06-6481-5565)まで平日(10〜17時)にご連絡をお願いいたします。 \n－\n　チラシのダウンロードはこちら\n－
URL:https://ot-hyogo.or.jp/file/event/1849
LOCATION:神戸臨床研究情報センター TRI
CATEGORIES:その他主催の研修
END:VEVENT
BEGIN:VEVENT
DTSTART;TZID=Asia/Tokyo:20231203T093000
DTEND;TZID=Asia/Tokyo:20231203T163000
DTSTAMP:20260423T145016
CREATED:20231030T093805Z
LAST-MODIFIED:20231124T040515Z
UID:1955-1701595800-1701621000@ot-hyogo.or.jp
SUMMARY:488「第29回兵庫県作業療法学会」締切11.24
DESCRIPTION:タイトル\n第29回兵庫県作業療法学会 \n内容\n※ 公開講座\nテーマ：「当事者と地域社会をつなぐ」\n講　師：丹野　智文　氏　（一般社団法人　認知症当事者ネットワークみやぎ代表） \nー　　　 \n※ 教育セミナー\nセミナー①\nテーマ：シンポジウム　「臨床の現場と教育の現場をつなぐ」\n講　師：鍛冶　実　　氏　（赤穂市立介護老人保健施設　老健あこう）\nー　　　井上　舞　　氏　（公益財団法人ひょうご子どもと家庭福祉財団）\nー　　　大山　明美　氏　（神戸滋慶学園　姫路医療専門学校、等）\nー　　　長尾　徹　　氏　（神戸大学大学院保健学研究科） \n  \nセミナー②\nテーマ：「新たな知見と当事者をつなぐ　〜認知症作業療法の評価の視点から〜」\n講　師：田中　寛之　氏　（大阪公立大学　医学部　リハビリテーション学科　作業療法専攻） \n  \nセミナー③\nテーマ：「病院と地域社会をつなぐ　一歩ずつつながりをひろげる　〜つながりは退院への近道〜」\n講　師：西崎　美和　氏　（医療法人社団　東峰会　関西青少年サナトリューム） \nー　　　 \n※ 特別企画\nテーマ：新時代　〜OTSお役立ち道具アイデア発表〜\nー　　　学生による自助具・訓練用具の展示および発表 \nー　　　 \n※ 兵庫県作業療法士会　特設委員会　活動報告\n※ 一般演題39題 \n日時\n2023年12月3日（日）　9：30 ～ 16：30（受付 9：10～） \n会場\nアクリエひめじ（姫路市文化コンベンションセンター）\n兵庫県姫路市神屋町143-2　079-263-8082\n詳細はホームページをご確認下さい。（HP：アクリエひめじ） \n生涯教育ポイント\n☒　２P付与されます \n受講費\n\n\n\n兵庫県士会員\n3\,000円\n\n\n日本作業療法士協会に在籍する都道府県士会員\n3\,000円\n\n\n上記以外の作業療法士\n10\,000円\n\n\n一般\n1\,000円\n\n\n兵庫県外の養成校の学生\n1\,000円\n\n\n兵庫県内の養成校の学生\n500円※学校単位で申し込み\n\n\n市民公開講座のみの参加\n0円\n\n\n\n（いずれも銀行振り込みのみ対応、当日受付での支払い不可） \n– \n【振込みの際のご注意】\n「振込人名」の後に「ガ29　OT協会番号」を追加してください。\n（例：ヒョウゴタロウ　ガ29　12345　協会番号のない方は氏名+ガ29）\n※振込人名後の「ガ29」で本学会の受講費として処理します。忘れずにご入力をお願いいたします。振込人名のみ場合は確認連絡が届く可能性があります。\n※振込時にお手元に残る振込明細書（記録）は学会開始まで保管ください。\n※毎週月曜に前週（月～日）の入金完了者へ受講費確認完了メールを送信いたします。\n※受講料の入金と下記申込ボタンからの申し込みが揃った時点で受付完了となります。\nーいずれか一方でも確認できない場合、申し込みは自動キャンセルとなります。 \n【振込先口座】\n金融機関：三井住友銀行　普通口座　北須磨支店　5206374\n名義人 ：一般社団法人兵庫県作業療法士会 \n申込み条件\n☒　兵庫県士会員\n☒　兵庫県士会員以外（OT協会に在籍する他府県士会員）\n☒　その他（他職種、一般、日本OT協会・他府県士会に在籍していないOT） \n締め切り\n2023年11月24日（金）13時　締切 \nその他\n※ 兵庫県以外の都道府県士会に所属されている方は、協会番号の入力を忘れないようにお願いします。 \n※ 学生の申し込みは養成校単位でメールにてお願いします。詳細は学会HPをご確認ください。 \n問い合わせ先\n実行委員長　谷垣　弘行（公立八鹿病院）\nメール： \nー \n申し込み受付は終了しました \nー
URL:https://ot-hyogo.or.jp/file/event/1955
LOCATION:クリエひめじ
CATEGORIES:兵庫県作業療法士会主催の研修
END:VEVENT
BEGIN:VEVENT
DTSTART;TZID=Asia/Tokyo:20231207T190000
DTEND;TZID=Asia/Tokyo:20231207T210000
DTSTAMP:20260423T145016
CREATED:20231128T023227Z
LAST-MODIFIED:20231128T023437Z
UID:2089-1701975600-1701982800@ot-hyogo.or.jp
SUMMARY:神 戸市認知症地域支えあい推進事業伝達講習会 ＆ 地域支援事業に関する情報交換会
DESCRIPTION:タイトル：（認知症対策委員会主催）神戸市認知症地域支えあい事業伝達講習会＆情報交換会 \n内容 \n１，最近の認知症に関する情報提供 \n２．神戸市認知症地域支えあい事業伝達講習会に関する説明 \n３．県内の地域で認知症支援にかかわる人たちの情報交換会 \n  \n神戸市認知症地域支えあい事業の対象は神戸市に勤務先がある、または神戸市在住の作業療法士となります。 \nこの講習会を受講した人は、神戸市リハ職種地域支援協議会に登録することにより、この事業に参画することができます。 \n  \nまた、県士会全体で地域住民への支援にかかわっている人、関わりたい人との情報交換会も行いたいと思います。 \n神戸ブロック以外の方も是非ご参加下さい。地域の事業に参画できるようになった方もいます。 \nチラシの詳細はこちらから \n申込はこちらから
URL:https://ot-hyogo.or.jp/file/event/%e7%a5%9e-%e6%88%b8%e5%b8%82%e8%aa%8d%e7%9f%a5%e7%97%87%e5%9c%b0%e5%9f%9f%e6%94%af%e3%81%88%e3%81%82%e3%81%84%e6%8e%a8%e9%80%b2%e4%ba%8b%e6%a5%ad%e4%bc%9d%e9%81%94%e8%ac%9b%e7%bf%92%e4%bc%9a-%ef%bc%86
LOCATION:オンライン(Zoom)
CATEGORIES:兵庫県作業療法士会主催の研修
END:VEVENT
BEGIN:VEVENT
DTSTART;VALUE=DATE:20231209
DTEND;VALUE=DATE:20231211
DTSTAMP:20260423T145016
CREATED:20231107T015332Z
LAST-MODIFIED:20231107T015332Z
UID:2004-1702080000-1702252799@ot-hyogo.or.jp
SUMMARY:令和５年度在宅リハビリテーション従事者研修会《通所リハ編》
DESCRIPTION:【オンライン開催】令和５年度在宅リハビリテーション従事者研修会《通所リハ編》 \n【主催】リハビリテーション専門職団体協議会（日本理学療法士協会、日本作業療法士協会、日本言語聴覚士協会） \n【要旨】少子高齢社会対策として、地域包括ケアシステムの構築と持続可能な社会の実現に向けて、矢継ぎ早に社会保障制度が見直されています。 \n在宅リハビリテーションにおいては、高齢であっても、認知機能の低下があっても、障害があっても、病気療養をしていても、心身機能の回復だけでなく、 \nその人の持っている強みを活かして役割や社会参加活動につなげる暮らし作りが求められています。 \n一方、これまで通所介護に従事する療法士のための系統的な人材育成プログラムがなく、各事業所において手探りでの運営がなされてきた経緯があります。 \nそこで、本研修会において、通所リハにおける運営の基礎から、実務の具体的な進め方、これからの療法士の役割に関してトータルに学びたいと思います。 \n■日　　時 　2023年12月9日（土）～12月10日(日） \n■対象者　理学療法士・作業療法士・言語聴覚士、その他 \n■参加費　日本理学療法士協会・日本作業療法士協会・日本言語聴覚士協会 \n会員　…13\,000円（税込） \n非会員…18\,500円（税込） \n■チラシ　　　　在宅リハビリテーション従事者研修会（通所リハ編） \n■ホームページ　http://www.hvrpf.jp/4440 \n■詳　細　　https://www.gene-llc.jp/secretariat/46/ \n■お申込みURL　　https://ws.formzu.net/fgen/S80186303/ \n■申込期限　11月23日（木）まで
URL:https://ot-hyogo.or.jp/file/event/%e4%bb%a4%e5%92%8c%ef%bc%95%e5%b9%b4%e5%ba%a6%e5%9c%a8%e5%ae%85%e3%83%aa%e3%83%8f%e3%83%93%e3%83%aa%e3%83%86%e3%83%bc%e3%82%b7%e3%83%a7%e3%83%b3%e5%be%93%e4%ba%8b%e8%80%85%e7%a0%94%e4%bf%ae%e4%bc%9a
LOCATION:WEB
CATEGORIES:その他主催の研修
END:VEVENT
BEGIN:VEVENT
DTSTART;TZID=Asia/Tokyo:20231210T130000
DTEND;TZID=Asia/Tokyo:20231210T170000
DTSTAMP:20260423T145016
CREATED:20231031T024404Z
LAST-MODIFIED:20231031T024404Z
UID:1967-1702213200-1702227600@ot-hyogo.or.jp
SUMMARY:兵庫県プライマリ・ケア協議会令和5年度研究集会
DESCRIPTION:
URL:https://ot-hyogo.or.jp/file/event/%e5%85%b5%e5%ba%ab%e7%9c%8c%e3%83%97%e3%83%a9%e3%82%a4%e3%83%9e%e3%83%aa%e3%83%bb%e3%82%b1%e3%82%a2%e5%8d%94%e8%ad%b0%e4%bc%9a%e4%bb%a4%e5%92%8c5%e5%b9%b4%e5%ba%a6%e7%a0%94%e7%a9%b6%e9%9b%86%e4%bc%9a
LOCATION:兵庫県医師会館
CATEGORIES:その他主催の研修
END:VEVENT
BEGIN:VEVENT
DTSTART;TZID=Asia/Tokyo:20231215T183000
DTEND;TZID=Asia/Tokyo:20231215T203000
DTSTAMP:20260423T145016
CREATED:20231107T044521Z
LAST-MODIFIED:20231212T033855Z
UID:2009-1702665000-1702672200@ot-hyogo.or.jp
SUMMARY:491「神戸東・阪神地区精神科　現職者共通研修 事例検討・事例報告」締切(発表/検討)11.30 (聴講)12.8
DESCRIPTION:1２月１２日（火）12時25分頃に研修に関するミーティング情報をPeatixから送信しました（以下参照） \n491　神戸東・阪神（精神分野）現職者共通研修事例検討・事例報告（12/15）受付完了者へメールを送信しました \nタイトル\n神戸東・阪神地区精神科　現職者共通研修 事例検討・事例報告 \n内　容\n神戸東・阪神地区圏域での現職者共通研修　事例検討・事例報告会を開催いたします。 \n日　時\n12月15日　18：30 ～ 20：30（受付 18：00～） \n会　場\nオンライン（Zoom）\n※受付完了者に研修日の３日前（平日のみ）までにメールにてミーティングを配信します \n定　員\n発表者3名　（生涯教育ポイント２P）\n検討者3名　（生涯教育ポイント２P）\n聴講者10名　（生涯教育ポイント非該当） \n受講費\n発表者及び検討者　1\,000円（＋Peatixの利用料150円） \n※聴講者は受講費不要です。 \n※発表・検討の両方を同時に行う場合は、受講費は2000円＋Peatixの利用料150円が必要となります。 \n※ この度の研修はPeatixから申し込みをお願いいたします。\nPeatix の申し込み及び入金により、受付完了となります。申し込みのみでは受付完了とはなりませんのでご注意ください。\n入金完了後、自動返信にてメールが届けば受付完了となります。\nメールが届かない場合は登録アドレスの迷惑フォルダをご確認ください。\nそれでも届いていない場合は県士会HPより県士会事務局にお問い合わせください。 \n申込条件\n申込の時点で兵庫県作業療法士会会員である必要があります \n締め切り\n発表者　11月30日（木）13時\n検討者　11月30日（木）13時\n聴講者　12月8日（金）13時 \nその他\n発表者には受付時に「事例報告指導者の情報」を入力いただきますので氏名、OT協会会員番号、所属先を確認の上、申し込みをお願い致します。 \n現職者共通研修「事例検討・事例報告」発表者・事例報告指導者確認について（PDF） \n問い合わせ先\n山西慧治　 \n申し込み受付\n発表者・発表と検討同時履修者はコチラ→受付は終了しました–\n検討のみ→受付は終了しました\n聴講者・事例報告指導者はコチラ→受付は終了しました \n 
URL:https://ot-hyogo.or.jp/file/event/2009
LOCATION:オンライン(Zoom)
CATEGORIES:兵庫県作業療法士会主催の研修
END:VEVENT
BEGIN:VEVENT
DTSTART;TZID=Asia/Tokyo:20231215T190000
DTEND;TZID=Asia/Tokyo:20231215T210000
DTSTAMP:20260423T145016
CREATED:20231106T072732Z
LAST-MODIFIED:20231212T031808Z
UID:1982-1702666800-1702674000@ot-hyogo.or.jp
SUMMARY:489「神戸ブロックＭＴＤＬＰ事例発表会」締切(発表/聴講)12.1
DESCRIPTION:12月12日（火）12時10分頃、受付完了者へ研修に関する案内を送信しました（以下参照） \n489　神戸ブロックMTDLP事例発表会（12/15）受付完了者へメールを送信しました \nタイトル\n神戸ブロックＭＴＤＬＰ事例発表会 \n内容\nMTDLP基礎研修修了した皆様には、次のステップである実践者研修修了を目指し、自施設で実践を行い、事例発表会にて発表頂きたいと思います。多数の発表よろしくお願いします。また以後発表を予定されている方は聴講者として参加することをおすすめします。 \n2018年度より、発表者は事例発表後に協会の事例報告を行いＭＴＤＬＰ指導者を目指す方（Aコース）と事例発表を行いＭＴＤＬＰ研修修了を目指す方（Bコース）で発表シートを選択できるようになっております。 \n発表者は、「MTDLP事例発表会発表資料変更のおしらせ」「MTDLP事例発表における発表者の皆様へ」をよく読み、資料の作成および事前準備をお願いします。発表に関しては「MTDLP事例発表会に向けたチェックリスト」を必ず参考にして準備をお願いします。 \nMTDLP事例発表会発表資料変更のおしらせ \nMTDLP事例発表における発表者の皆様へ \nMTDLP事例発表会に向けたチェックリスト \n日時\n12月15日　19：00 ～ 21：00（受付 18：30～） \n会　場\nオンライン（Zoom）\n※受付完了者に研修日の３日前（平日のみ）までにメールにてミーティングを配信します \n講　師\n柴田　八衣子先生（兵庫県立リハビリテーション中央病院）\n勝原　勇希先生（神戸医療福祉センターにこにこハウス） \n定　員\n発表者　2名（生涯ポイント非該当）\n聴講者　20名（生涯ポイント２ポイント） \n受講費\n1\,000円（銀行振り込みのみ対応）\n【振込みの際のご注意】\n「振込人名」の後に「コ489　OT協会番号」を追加してください。\n（例：ヒョウゴタロウ　コ489　12345）\n※振込人名後の「コ489」で本研修の受講費として処理します。忘れずにご入力をお願いいたします。振込人名のみ場合は確認連絡が届く可能性があります。\n※振込時にお手元に残る振込明細書（記録）は研修会開始まで保管ください。\n※受講料の入金と下記申込ボタンからの申し込みが揃った時点で受付完了となります。\nーいずれか一方でも確認できない場合、申し込みは自動キャンセルとなります。 \n【振込先口座】→受付終了のため削除しました \n申込条件\nMTDLP基礎研修（平成28年度～現職者選択研修MTDLP）修了者 \n受講条件\nオンラインでの研修会に参加される方は、参加条件・準備事項・個人情報保護について以下の資料を必ずご確認ください。 \nオンライン研修会に参加される皆さまへ \nオンライン研修における研修情報および個人情報保護について \n締め切り\n発表申し込み：12月1日（金）　13時\n聴講申し込み：12月1日（金）　13時\n事例発表資料締切：12月8日（金） \nその他\n・聴講者は、MTDLP研修の要件を満たしません。\n・オンラインでの開催となりますので、発表者の方は当日の資料印刷は必要ありません。 \n問い合わせ先\n担当：大賀　taka10masa@gmail.com \n申し込み受付は終了しました
URL:https://ot-hyogo.or.jp/file/event/1982
LOCATION:オンライン(Zoom)
CATEGORIES:兵庫県作業療法士会主催の研修
END:VEVENT
BEGIN:VEVENT
DTSTART;TZID=Asia/Tokyo:20231217T100000
DTEND;TZID=Asia/Tokyo:20231217T133000
DTSTAMP:20260423T145016
CREATED:20231110T041233Z
LAST-MODIFIED:20231110T041233Z
UID:2021-1702807200-1702819800@ot-hyogo.or.jp
SUMMARY:奈良県作業療法士会事業部主催　第2回事業部研修会
DESCRIPTION:奈良県作業療法士会事業部主催　第2回事業部研修会 \n〇日時：令和5年12月17日　日曜日　10時～13時10分 \n〇講師：地方独立行政法人 大阪府立病院機構 大阪精神医療センター \n認定作業療法士 南 庄一郎 先生 \n〇講座名：「臨床実践に必要な事例報告のまとめ方ー臨床家が実践を報告する意義とはー」 \n〇形式：オンライン講座(ズーム使用) \n〇受講費：都道府県士会員　無料　　非会員　受講不可　　他職種　無料 \n詳細チラシはこちらから↓ \n一社)奈良県作業療法会主催　令和5年度 第2回事業部研修会 臨床実践に必要な事例報告のまとめ方
URL:https://ot-hyogo.or.jp/file/event/%e5%a5%88%e8%89%af%e7%9c%8c%e4%bd%9c%e6%a5%ad%e7%99%82%e6%b3%95%e5%a3%ab%e4%bc%9a%e4%ba%8b%e6%a5%ad%e9%83%a8%e4%b8%bb%e5%82%ac%e3%80%80%e7%ac%ac2%e5%9b%9e%e4%ba%8b%e6%a5%ad%e9%83%a8%e7%a0%94%e4%bf%ae
LOCATION:WEB
CATEGORIES:その他主催の研修
END:VEVENT
END:VCALENDAR