BEGIN:VCALENDAR
VERSION:2.0
PRODID:-//兵庫県作業療法士会　研修案内 - ECPv6.7.0//NONSGML v1.0//EN
CALSCALE:GREGORIAN
METHOD:PUBLISH
X-ORIGINAL-URL:https://ot-hyogo.or.jp/file
X-WR-CALDESC:兵庫県作業療法士会　研修案内 のイベント
REFRESH-INTERVAL;VALUE=DURATION:PT1H
X-Robots-Tag:noindex
X-PUBLISHED-TTL:PT1H
BEGIN:VTIMEZONE
TZID:Asia/Tokyo
BEGIN:STANDARD
TZOFFSETFROM:+0900
TZOFFSETTO:+0900
TZNAME:JST
DTSTART:20220101T000000
END:STANDARD
END:VTIMEZONE
BEGIN:VEVENT
DTSTART;TZID=Asia/Tokyo:20221013T183000
DTEND;TZID=Asia/Tokyo:20221013T200000
DTSTAMP:20260424T122445
CREATED:20220911T001915Z
LAST-MODIFIED:20220914T094307Z
UID:343-1665685800-1665691200@ot-hyogo.or.jp
SUMMARY:「地域リハビリテーションの現状とこれから～介護予防事業の事例を通して～」締切9.30
DESCRIPTION:テーマ\n兵庫県リハ3士会（丹波・北播磨）北播磨圏域リハビリテーションセンター共催研修会 \n内容\n第2回地域リハビリテーションの現状とこれから～介護予防事業の事例を通して～ \n日時\n2022年10月13日（木）18：30-20：00 \n会場\nハイブリッド開催（小野市うるおい交流館エクラ大会議室・ZOOM） \n講師\n田中知子氏（介護老人保健施設　オパール・作業療法士）\n長谷川憲一氏（みきやまリハビリテーション病院・言語聴覚士）\n坂本利恵氏（兵庫医科大学ささやま医療センター・作業療法士） \n定員\nなし \n受講費\n無料 \n申込み条件\n☒　兵庫県士会員\n☒　兵庫県士会員以外（OT協会に在籍する他府県士会員）\n☒　その他（他職種、一般、日本OT協会・他府県士会に在籍していないOT） \n受講条件\nオンラインでの研修会に参加される方は、参加条件・準備事項・個人情報保護について以下の資料を必ずご確認ください。 \nオンライン研修会に参加される皆さまへ \nオンライン研修における研修情報および個人情報保護について \n締め切り\n2022年9月30日（金） \nその他\n丹波北播磨エリアで勤務されているリハビリ専門職が対象となります。 \n問い合わせ先\n北播磨圏域リハビリテーションセンター事務局（土井病院内）\nTEL:0794-66-2119\n担当：奥野・藤本 \n– \n研修案内のダウンロードはこちら \n–
URL:https://ot-hyogo.or.jp/file/event/%e3%80%8c%e7%ac%ac2%e5%9b%9e%e5%9c%b0%e5%9f%9f%e3%83%aa%e3%83%8f%e3%83%93%e3%83%aa%e3%83%86%e3%83%bc%e3%82%b7%e3%83%a7%e3%83%b3%e7%a0%94%e4%bf%ae%e4%bc%9a%e3%80%8d%e7%b7%a0%e5%88%879-30
LOCATION:ハイブリッド開催
CATEGORIES:その他主催の研修
END:VEVENT
BEGIN:VEVENT
DTSTART;TZID=Asia/Tokyo:20221013T190000
DTEND;TZID=Asia/Tokyo:20221013T210000
DTSTAMP:20260424T122445
CREATED:20220914T054855Z
LAST-MODIFIED:20221023T070859Z
UID:381-1665687600-1665694800@ot-hyogo.or.jp
SUMMARY:407「認知症について～認知症のある方の生きる世界に触れる～」締切10.5
DESCRIPTION:テーマ\n東播磨ブロック主催 第2回ブロック研修会\n「認知症について～認知症のある方の生きる世界に触れる～」 \n内容\n「認知症のある方の生きる世界に触れる」と題して、認知症のBPSDの捉え方やその支援方法についてご講義いただくとともに、一緒に考えていく内容となっております。 \n日時\n2022年10月13日（木）19：00～21：00（受付：18：30～） \n会場\nオンライン（Zoom） \n※受付完了者に研修日の３日前（平日のみ）までにメールにてミーティングを配信します \n→10月7日（金）11時00分頃にミーティング情報配信完了しました。（↓以下参照） \n【事務局より】407　東播磨ブロック研修会（10/13）受講確定者へメールを送信しました \n講師\n鍛冶　実　先生（赤穂市立介護老人保健施設　老健あこう） \n定員\n30名 \n生涯教育ポイント\n２P付与されます \n受講費\n１０００円　（銀行振込のみ対応） \n【振込みの際のご注意】\n「振込人名」の後に「ヒ407　OT協会番号」を追加してください。\n（例：ヒョウゴタロウ　ヒ407　12345）\n※振込人名後の「ヒ407」で本研修の受講費として処理します。忘れずにご入力をお願いいたします。振込人名のみ場合は確認連絡が届く可能性があります。\n※振込時にお手元に残る振込明細書（記録）は研修会開始まで保管ください。\n※受講料の入金と下記申込ボタンからの申し込みが揃った時点で受付完了となります。\nいずれか一方でも確認できない場合、申し込みは自動キャンセルとなります。 \n【振込先口座】\n金融機関：三井住友銀行　普通口座　北須磨支店　5206374\n名義人 ：一般社団法人兵庫県作業療法士会 \n申込み条件\n☒　兵庫県士会員 \n受講条件\nオンラインでの研修会に参加される方は、参加条件・準備事項・個人情報保護について以下の資料を必ずご確認ください。 \nオンライン研修会に参加される皆さまへ \nオンライン研修における研修情報および個人情報保護について \n締め切り\n2022年10月5日（水）13：00 \n問い合わせ先\nhigashiharimanoot@yahoo.co.jp \n申し込み受付は終了しました。
URL:https://ot-hyogo.or.jp/file/event/407%e3%80%8c%e8%aa%8d%e7%9f%a5%e7%97%87%e3%81%ab%e3%81%a4%e3%81%84%e3%81%a6%ef%bd%9e%e8%aa%8d%e7%9f%a5%e7%97%87%e3%81%ae%e3%81%82%e3%82%8b%e6%96%b9%e3%81%ae%e7%94%9f%e3%81%8d%e3%82%8b%e4%b8%96
LOCATION:オンライン(Zoom)
CATEGORIES:兵庫県作業療法士会主催の研修
END:VEVENT
END:VCALENDAR