BEGIN:VCALENDAR
VERSION:2.0
PRODID:-//兵庫県作業療法士会　研修案内 - ECPv6.7.0//NONSGML v1.0//EN
CALSCALE:GREGORIAN
METHOD:PUBLISH
X-WR-CALNAME:兵庫県作業療法士会　研修案内
X-ORIGINAL-URL:https://ot-hyogo.or.jp/file
X-WR-CALDESC:兵庫県作業療法士会　研修案内 のイベント
REFRESH-INTERVAL;VALUE=DURATION:PT1H
X-Robots-Tag:noindex
X-PUBLISHED-TTL:PT1H
BEGIN:VTIMEZONE
TZID:Asia/Tokyo
BEGIN:STANDARD
TZOFFSETFROM:+0900
TZOFFSETTO:+0900
TZNAME:JST
DTSTART:20220101T000000
END:STANDARD
END:VTIMEZONE
BEGIN:VEVENT
DTSTART;VALUE=DATE:20221022
DTEND;VALUE=DATE:20221024
DTSTAMP:20260424T122318
CREATED:20220623T052019Z
LAST-MODIFIED:20220623T053818Z
UID:132-1666396800-1666569599@ot-hyogo.or.jp
SUMMARY:「第25回日本作業科学研究会学術集会（㏌長野）」開催案内
DESCRIPTION:日時\n2022年10月22日(土)、23日(日) \nテーマ\n『What is Well-Being？ ～作業の視点で幸福を考える～』 \n開催方式\nオンデマンド配信（予定）：2022年10月1日(土)～10月21日(金) \n（特別講演１と口述発表のみ） \nLIVE配信：10月22日(土)、23日(日)　ZOOMによる開催 \n（上記以外のすべての企画） \n参加登録\n期間：2021年6月10日(金)　～　10月20日(木)15時まで \n（ただし、以下の参加費での登録は、事前登録期間の9月21日までとなります） \n参加費（事前登録期間）\n会員：4\,000円　非会員：6\,000円　学部学生：無料 \n（事前登録終了後の9月22日以降は、会員：6000円　非会員：8000円となります） \n参加申し込みフォーム\nhttps://passmarket.yahoo.co.jp/event/show/detail/02bzpf6rbcb21.html#detail \n学術大会HP\n日本作業科学研究会　第25回学術大会 \n問合わせ先\n学術大会HP内の「お問い合わせ」から、お願いいたします
URL:https://ot-hyogo.or.jp/file/event/%e3%80%8c%e7%ac%ac25%e5%9b%9e%e6%97%a5%e6%9c%ac%e4%bd%9c%e6%a5%ad%e7%a7%91%e5%ad%a6%e7%a0%94%e7%a9%b6%e4%bc%9a%e5%ad%a6%e8%a1%93%e9%9b%86%e4%bc%9a%ef%bc%88%e3%8f%8c%e9%95%b7%e9%87%8e%ef%bc%89%e3%80%8d
LOCATION:オンライン(Zoom)
CATEGORIES:その他主催の研修
END:VEVENT
BEGIN:VEVENT
DTSTART;VALUE=DATE:20221022
DTEND;VALUE=DATE:20221024
DTSTAMP:20260424T122318
CREATED:20220726T051935Z
LAST-MODIFIED:20220726T052214Z
UID:217-1666396800-1666569599@ot-hyogo.or.jp
SUMMARY:在宅リハビリテーション従事者研修会[通所介護編]締切9.30
DESCRIPTION:オンライン開催\n令和4年度 在宅リハビリテーション従事者研修会[通所介護編] \n主催\nリハビリテーション専門職団体協議会（日本理学療法士協会・日本作業療法士協会・日本言語聴覚士協会） \n※Zoomを利用したオンラインセミナーとなります。 \n日時\n2022年10月22日（土）～23日（日） \n対象者\n理学療法士・作業療法士・言語聴覚士 \nホームページ\nhttp://www.hvrpf.jp/4146 \nお申込みURL\nhttps://fs219.xbit.jp/n954/form13/ \n締切\n2022/9/30(金)
URL:https://ot-hyogo.or.jp/file/event/%e5%9c%a8%e5%ae%85%e3%83%aa%e3%83%8f%e3%83%93%e3%83%aa%e3%83%86%e3%83%bc%e3%82%b7%e3%83%a7%e3%83%b3%e5%be%93%e4%ba%8b%e8%80%85%e7%a0%94%e4%bf%ae%e4%bc%9a%e9%80%9a%e6%89%80%e4%bb%8b%e8%ad%b7%e7%b7%a8
LOCATION:オンライン(Zoom)
CATEGORIES:その他主催の研修
END:VEVENT
BEGIN:VEVENT
DTSTART;TZID=Asia/Tokyo:20221022T193000
DTEND;TZID=Asia/Tokyo:20221022T213000
DTSTAMP:20260424T122318
CREATED:20220817T061955Z
LAST-MODIFIED:20221023T072620Z
UID:297-1666467000-1666474200@ot-hyogo.or.jp
SUMMARY:405「兵庫県における自動車運転再開支援　〜実践編〜」締切10.17
DESCRIPTION:テーマ\n自動車運転支援委員会\n「兵庫県における自動車運転再開支援　〜実践編〜」 \n内容\n兵庫県内で自動車運転再開支援を行っている施設から、医療・介護保険領域での事例を含めた支援方法の紹介 \n日時\n令和4年10月22日(土) 19:30〜21:30 \n会場\nWEB（Zoom）開催 \n※受付完了者に研修日の３日前（平日のみ）までにメールにてミーティングを配信します \n→10月19日（水）12時30分頃にミーティング情報配信完了しました。（↓以下参照） \n【事務局より】405　自動車運転支援委員会研修会（10/22）受講確定者へメールを送信しました \n講師\n兵庫医科大学ささやま医療センター	竹原 崇登　先生 \n洲本伊月病院	神木 由佳理　先生 \n伊丹恒生脳神経外科病院	笹沼 里味　先生 \n総合リハ訪問看護ステーション	大賀 隆正　先生 \n定員\n50名 \n受講費\n1000円　（銀行振込のみ対応） \n「振込人名」の後に「ジ405　OT協会番号」を追加してください。\n（例：ヒョウゴタロウ　ジ405　12345　協会番号のない方は　ジ405　のみを追加）\n※振込人名後の「ジ405」で本研修の受講費として処理します。忘れずにご入力をお願いいたします。振込人名のみ場合は確認連絡が届く可能性があります。\n※振込時にお手元に残る振込明細書（記録）は研修会開始まで保管ください。\n※受講料の入金と下記申込ボタンからの申し込みが揃った時点で受付完了となります。\nいずれか一方でも確認できない場合、申し込みは自動キャンセルとなります。 \n【振込先口座】\n金融機関：三井住友銀行　普通口座　北須磨支店　5206374\n名義人 ：一般社団法人兵庫県作業療法士会 \n申込み条件\n☒　兵庫県士会員\n☒　兵庫県士会員以外（OT協会に在籍する他府県士会員）\n☒　その他（他職種、一般、日本OT協会・他府県士会に在籍していないOT） \n受講条件\nオンラインでの研修会に参加される方は、参加条件・準備事項・個人情報保護について以下の資料を必ずご確認ください。 \nオンライン研修会に参加される皆さまへ \nオンライン研修における研修情報および個人情報保護について \n締め切り\n2022年10月17日（月） 13時 \n問い合わせ先\n自動車運転支援委員会　\nhot-jidousyaunnten2021@ot-hyogo.or.jp \n申し込み受付は終了しました
URL:https://ot-hyogo.or.jp/file/event/%e3%80%8c%e5%85%b5%e5%ba%ab%e7%9c%8c%e3%81%ab%e3%81%8a%e3%81%91%e3%82%8b%e8%87%aa%e5%8b%95%e8%bb%8a%e9%81%8b%e8%bb%a2%e5%86%8d%e9%96%8b%e6%94%af%e6%8f%b4%e3%80%80%e3%80%9c%e5%ae%9f%e8%b7%b5%e7%b7%a8
LOCATION:オンライン(Zoom)
CATEGORIES:兵庫県作業療法士会主催の研修
END:VEVENT
END:VCALENDAR