BEGIN:VCALENDAR
VERSION:2.0
PRODID:-//兵庫県作業療法士会　研修案内 - ECPv6.7.0//NONSGML v1.0//EN
CALSCALE:GREGORIAN
METHOD:PUBLISH
X-WR-CALNAME:兵庫県作業療法士会　研修案内
X-ORIGINAL-URL:https://ot-hyogo.or.jp/file
X-WR-CALDESC:兵庫県作業療法士会　研修案内 のイベント
REFRESH-INTERVAL;VALUE=DURATION:PT1H
X-Robots-Tag:noindex
X-PUBLISHED-TTL:PT1H
BEGIN:VTIMEZONE
TZID:Asia/Tokyo
BEGIN:STANDARD
TZOFFSETFROM:+0900
TZOFFSETTO:+0900
TZNAME:JST
DTSTART:20220101T000000
END:STANDARD
END:VTIMEZONE
BEGIN:VEVENT
DTSTART;TZID=Asia/Tokyo:20221026T190000
DTEND;TZID=Asia/Tokyo:20221026T203000
DTSTAMP:20260424T122343
CREATED:20220727T043845Z
LAST-MODIFIED:20220727T043845Z
UID:237-1666810800-1666816200@ot-hyogo.or.jp
SUMMARY:認知症の人の転倒と介護予防
DESCRIPTION:
URL:https://ot-hyogo.or.jp/file/event/%e8%aa%8d%e7%9f%a5%e7%97%87%e3%81%ae%e4%ba%ba%e3%81%ae%e8%bb%a2%e5%80%92%e3%81%a8%e4%bb%8b%e8%ad%b7%e4%ba%88%e9%98%b2
LOCATION:オンライン(Zoom)
CATEGORIES:その他主催の研修
END:VEVENT
END:VCALENDAR