BEGIN:VCALENDAR
VERSION:2.0
PRODID:-//兵庫県作業療法士会　研修案内 - ECPv6.7.0//NONSGML v1.0//EN
CALSCALE:GREGORIAN
METHOD:PUBLISH
X-WR-CALNAME:兵庫県作業療法士会　研修案内
X-ORIGINAL-URL:https://ot-hyogo.or.jp/file
X-WR-CALDESC:兵庫県作業療法士会　研修案内 のイベント
REFRESH-INTERVAL;VALUE=DURATION:PT1H
X-Robots-Tag:noindex
X-PUBLISHED-TTL:PT1H
BEGIN:VTIMEZONE
TZID:Asia/Tokyo
BEGIN:STANDARD
TZOFFSETFROM:+0900
TZOFFSETTO:+0900
TZNAME:JST
DTSTART:20220101T000000
END:STANDARD
END:VTIMEZONE
BEGIN:VEVENT
DTSTART;TZID=Asia/Tokyo:20221125T190000
DTEND;TZID=Asia/Tokyo:20221125T201500
DTSTAMP:20260424T111224
CREATED:20221021T064101Z
LAST-MODIFIED:20221021T064101Z
UID:520-1669402800-1669407300@ot-hyogo.or.jp
SUMMARY:食とコミュニケーション研究所オンラインセミナーシリーズ4「はじめての症例報告/研究/学会発表/論文発表大切なポイントと実際」
DESCRIPTION:主催\n一般社団法人　食とコミュニケーション研究所「2022年度オンラインセミナー　シリーズ4」開催案内 \n「はじめての症例報告/研究/学会発表/論文発表大切なポイントと実際」\n講師\n柴本　勇先生（聖隷クリストファー大学大学院　リハビリテーション科学研究科長） \n開催日・各講座テーマ\n・11/4（金） 第１回「はじめての症例報告」\n・11/18（金） 第２回「はじめての研究①　プランニング」\n・11/25（金）  第３回「はじめての研究②　実行とまとめ」\n・12/2（金）  第4回「はじめての学会発表」\n・12/9（金） 第5回「はじめての論文執筆」 \n開催時間\n全講座19：00～20：15（質疑応答含む） \n開催方法 \n\nZOOMによるオンライン配信 \n参加費\n1講座につき、\n・一般社団法人　食とコミュニケーション研究所会員：1\,000円\n・一般社団法人　食とコミュニケーション研究所会員外：3\,000円\n※お申し込み時に、貴会会員で会員と選択される方がおられます。一般社団法人食とコミュニケーション研究所会員か否かで参加費が異なりますのでご注意ください。 \nお申し込み\n下記のURLまたは当法人ホームページからお申し込みください。 \n申込みフォームURL　\nhttps://onl.bz/ifynGwB \n当法人ホームページ\nhttps://fc-science.or.jp
URL:https://ot-hyogo.or.jp/file/event/%e9%a3%9f%e3%81%a8%e3%82%b3%e3%83%9f%e3%83%a5%e3%83%8b%e3%82%b1%e3%83%bc%e3%82%b7%e3%83%a7%e3%83%b3%e7%a0%94%e7%a9%b6%e6%89%80%e3%82%aa%e3%83%b3%e3%83%a9%e3%82%a4%e3%83%b3%e3%82%bb%e3%83%9f%e3%83%8a-3
LOCATION:オンライン(Zoom)
CATEGORIES:その他主催の研修
END:VEVENT
BEGIN:VEVENT
DTSTART;TZID=Asia/Tokyo:20221125T190000
DTEND;TZID=Asia/Tokyo:20221125T203000
DTSTAMP:20260424T111224
CREATED:20221114T045513Z
LAST-MODIFIED:20221114T045513Z
UID:718-1669402800-1669408200@ot-hyogo.or.jp
SUMMARY:第６回「高齢者の楽しいアクティビティ・ケア入門」
DESCRIPTION:オンラインおもちゃゼミナールのご案内 \n第６回「高齢者の楽しいアクティビティ・ケア入門」 \n季節を彩る！手工芸アクティビティ \n～利用者さんと楽しい時間を過ごす作品づくり～ \n  \n【日　時】2022年11月25日（金）19：00～20：30　 zoomにて \n【参加費】一般　550円 \n【座　長】磯 忍（芸術と遊び創造協会 高齢者アクティビティ開発センター 主任研究員） \n【講　師】宮地和広先生（NPO法人泰寿 理事長） \n【定　員】30名 \n【詳細・申し込み】https://passmarket.yahoo.co.jp/event/show/detail/02ns244u9fp21.html \n※日本作業療法士協会 生涯教育制度 基礎ポイント　１ポイント
URL:https://ot-hyogo.or.jp/file/event/%e7%ac%ac%ef%bc%96%e5%9b%9e%e3%80%8c%e9%ab%98%e9%bd%a2%e8%80%85%e3%81%ae%e6%a5%bd%e3%81%97%e3%81%84%e3%82%a2%e3%82%af%e3%83%86%e3%82%a3%e3%83%93%e3%83%86%e3%82%a3%e3%83%bb%e3%82%b1%e3%82%a2%e5%85%a5
LOCATION:オンライン(Zoom)
CATEGORIES:その他主催の研修
END:VEVENT
END:VCALENDAR