BEGIN:VCALENDAR
VERSION:2.0
PRODID:-//兵庫県作業療法士会　研修案内 - ECPv6.7.0//NONSGML v1.0//EN
CALSCALE:GREGORIAN
METHOD:PUBLISH
X-WR-CALNAME:兵庫県作業療法士会　研修案内
X-ORIGINAL-URL:https://ot-hyogo.or.jp/file
X-WR-CALDESC:兵庫県作業療法士会　研修案内 のイベント
REFRESH-INTERVAL;VALUE=DURATION:PT1H
X-Robots-Tag:noindex
X-PUBLISHED-TTL:PT1H
BEGIN:VTIMEZONE
TZID:Asia/Tokyo
BEGIN:STANDARD
TZOFFSETFROM:+0900
TZOFFSETTO:+0900
TZNAME:JST
DTSTART:20220101T000000
END:STANDARD
END:VTIMEZONE
BEGIN:VEVENT
DTSTART;VALUE=DATE:20221202
DTEND;VALUE=DATE:20221204
DTSTAMP:20260424T094906
CREATED:20221129T024310Z
LAST-MODIFIED:20221129T024310Z
UID:785-1669939200-1670111999@ot-hyogo.or.jp
SUMMARY:第46回日本高次脳機能障害学会学術総会のご案内
DESCRIPTION:下記の会期、会場にて「感じる高次脳機能」をテーマに \n第46回日本高次脳機能障害学会学術総会を開催いたします。 \n  \n◇第46回日本高次脳機能障害学会学術総会 \n———————————————————– \n現地開催：2022年12月2日（金）～12月3日（土） \nオンデマンド配信：2022年12月15日（木）～ 2023年1月13日（金） \n———————————————————– \n会場：やまぎん県民ホール、山形テルサ \n会長：平山　和美（山形県立保健医療大学　特任教授） \nホームページ：http://www.congre.co.jp/jshbd2022/ \n  \n本学術総会はハイブリッド開催（現地開催＋オンデマンド配信）です。（ライブ配信は行いません） \nオンデマンド視聴を希望される方は必ず本学術総会ホームページからオンライン受付をしてください。 \n（現地開催後も、オンライン参加登録は2023年1月13日（金）正午まで行えます。御登録いただけば、オンデマンド視聴は可能となります） \n  \nご不明な点がございましたら下記運営事務局までお問い合わせください。 \n多数のご参加をお待ちしております。 \n――――――――――――――――――――――――――――――――――― \n[お問い合わせ先] \n第46回日本高次脳機能障害学会学術総会 運営事務局 \n株式会社コングレ 東北支社 \n〒980-0811 \n仙台市青葉区一番町4-6-1 仙台第一生命タワービルディング \nTEL 022-723-3211 FAX 022-723-3210 \nE-mail: jshbd2022@congre.co.jp \n―――――――――――――――――――――――――――――――――――
URL:https://ot-hyogo.or.jp/file/event/%e7%ac%ac46%e5%9b%9e%e6%97%a5%e6%9c%ac%e9%ab%98%e6%ac%a1%e8%84%b3%e6%a9%9f%e8%83%bd%e9%9a%9c%e5%ae%b3%e5%ad%a6%e4%bc%9a%e5%ad%a6%e8%a1%93%e7%b7%8f%e4%bc%9a%e3%81%ae%e3%81%94%e6%a1%88%e5%86%85
LOCATION:ハイブリッド開催
CATEGORIES:その他主催の研修
END:VEVENT
BEGIN:VEVENT
DTSTART;TZID=Asia/Tokyo:20221202T183000
DTEND;TZID=Asia/Tokyo:20221202T203000
DTSTAMP:20260424T094906
CREATED:20221021T072115Z
LAST-MODIFIED:20221021T072115Z
UID:529-1670005800-1670013000@ot-hyogo.or.jp
SUMMARY:滋賀災害対策研修会のご案内
DESCRIPTION:
URL:https://ot-hyogo.or.jp/file/event/%e6%bb%8b%e8%b3%80%e7%81%bd%e5%ae%b3%e5%af%be%e7%ad%96%e7%a0%94%e4%bf%ae%e4%bc%9a%e3%81%ae%e3%81%94%e6%a1%88%e5%86%85
LOCATION:WEB
CATEGORIES:その他主催の研修
END:VEVENT
BEGIN:VEVENT
DTSTART;TZID=Asia/Tokyo:20221202T190000
DTEND;TZID=Asia/Tokyo:20221202T201500
DTSTAMP:20260424T094906
CREATED:20221021T064328Z
LAST-MODIFIED:20221021T064328Z
UID:522-1670007600-1670012100@ot-hyogo.or.jp
SUMMARY:食とコミュニケーション研究所オンラインセミナーシリーズ4「はじめての症例報告/研究/学会発表/論文発表大切なポイントと実際」
DESCRIPTION:主催\n一般社団法人　食とコミュニケーション研究所「2022年度オンラインセミナー　シリーズ4」開催案内 \n「はじめての症例報告/研究/学会発表/論文発表大切なポイントと実際」\n講師\n柴本　勇先生（聖隷クリストファー大学大学院　リハビリテーション科学研究科長） \n開催日・各講座テーマ\n・11/4（金） 第１回「はじめての症例報告」\n・11/18（金） 第２回「はじめての研究①　プランニング」\n・11/25（金）  第３回「はじめての研究②　実行とまとめ」\n・12/2（金）  第4回「はじめての学会発表」\n・12/9（金） 第5回「はじめての論文執筆」 \n開催時間\n全講座19：00～20：15（質疑応答含む） \n開催方法 \n\nZOOMによるオンライン配信 \n参加費\n1講座につき、\n・一般社団法人　食とコミュニケーション研究所会員：1\,000円\n・一般社団法人　食とコミュニケーション研究所会員外：3\,000円\n※お申し込み時に、貴会会員で会員と選択される方がおられます。一般社団法人食とコミュニケーション研究所会員か否かで参加費が異なりますのでご注意ください。 \nお申し込み\n下記のURLまたは当法人ホームページからお申し込みください。 \n申込みフォームURL　\nhttps://onl.bz/ifynGwB \n当法人ホームページ\nhttps://fc-science.or.jp
URL:https://ot-hyogo.or.jp/file/event/%e9%a3%9f%e3%81%a8%e3%82%b3%e3%83%9f%e3%83%a5%e3%83%8b%e3%82%b1%e3%83%bc%e3%82%b7%e3%83%a7%e3%83%b3%e7%a0%94%e7%a9%b6%e6%89%80%e3%82%aa%e3%83%b3%e3%83%a9%e3%82%a4%e3%83%b3%e3%82%bb%e3%83%9f%e3%83%8a-4
LOCATION:オンライン(Zoom)
CATEGORIES:その他主催の研修
END:VEVENT
BEGIN:VEVENT
DTSTART;TZID=Asia/Tokyo:20221202T190000
DTEND;TZID=Asia/Tokyo:20221202T210000
DTSTAMP:20260424T094907
CREATED:20221116T103721Z
LAST-MODIFIED:20221129T040211Z
UID:733-1670007600-1670014800@ot-hyogo.or.jp
SUMMARY:432「電気刺激療法とロボット療法（Cocoroe AR2）の臨床応用について」締切11.29
DESCRIPTION:テーマ\n淡路ブロック　「電気刺激療法とロボット療法（Cocoroe AR2）の臨床応用について」 \n内容\n電気刺激療法やロボット療法は脳卒中ガイドラインにおいてエビデンスレベルが高く示されている治療法になります。今回、IVESやエスパージ、Cocoroe AR42を実際に体験し、事例報告を交えながら皆さんと知識を深めていきたいと思います。 \n日時\n2022年12月2日（金）　19:00～21:00（受付18:30～） \n会場\n対面開催　関西総合リハビリテーション専門学校　3階　治療室　 \n講師\n山内　匡也　　先生　（東浦平成病院） \n定員\n20名 \n生涯教育ポイント\n☒　２P付与されます \n受講費\n（銀行振り込みのみ対応）\n・兵庫県士会員：1\,000 円\n・OT協会員かつ他府県士会員（どちらにも在籍するOT）：1\,000円\n・OT協会員で県士会未入会のOT：2\,000円\n・OT以外の医療職（PTST、看護師等）：500円 \n【振込みの際のご注意】\n「振込人名」の後に「ア432　OT協会番号」を追加してください。\n（例：ヒョウゴタロウ　ア432　12345　協会番号のない方は　ア432　のみを追加）\n※振込人名後の「ア432」で本研修の受講費として処理します。忘れずにご入力をお願いいたします。振込人名のみ場合は確認連絡が届く可能性があります。\n※振込時にお手元に残る振込明細書（記録）は研修会開始まで保管ください。\n※受講料の入金と下記申込ボタンからの申し込みが揃った時点で受付完了となります。\nーいずれか一方でも確認できない場合、申し込みは自動キャンセルとなります。 \n【振込先口座】\n受付終了のため削除しました \n申込み条件\n☒　兵庫県士会員\n☒　兵庫県士会員以外（OT協会に在籍する他府県士会員）\n☒　その他（他職種） \n締め切り\n2022年　11月　29日　（火）（13時） \n問い合わせ先\nジャック訪問看護リハステーション　安部太郎\n \n兵庫県士会員の方\n申込受付は終了しました \nOT協会員かつ他府県士会員（どちらにも在籍するOT）の方\n申込受付は終了しました \nOT協会員で県士会未入会のOTの方\n申込受付は終了しました \nOT以外の医療職（PTST、看護師等）の方\n申込受付は終了しました
URL:https://ot-hyogo.or.jp/file/event/432%e3%80%8c%e9%9b%bb%e6%b0%97%e5%88%ba%e6%bf%80%e7%99%82%e6%b3%95%e3%81%a8%e3%83%ad%e3%83%9c%e3%83%83%e3%83%88%e7%99%82%e6%b3%95%ef%bc%88cocoroe-ar2%ef%bc%89%e3%81%ae%e8%87%a8%e5%ba%8a%e5%bf%9c
LOCATION:関西総合リハビリテーション専門学校　3階　治療室
CATEGORIES:兵庫県作業療法士会主催の研修
END:VEVENT
END:VCALENDAR