BEGIN:VCALENDAR
VERSION:2.0
PRODID:-//兵庫県作業療法士会　研修案内 - ECPv6.7.0//NONSGML v1.0//EN
CALSCALE:GREGORIAN
METHOD:PUBLISH
X-ORIGINAL-URL:https://ot-hyogo.or.jp/file
X-WR-CALDESC:兵庫県作業療法士会　研修案内 のイベント
REFRESH-INTERVAL;VALUE=DURATION:PT1H
X-Robots-Tag:noindex
X-PUBLISHED-TTL:PT1H
BEGIN:VTIMEZONE
TZID:Asia/Tokyo
BEGIN:STANDARD
TZOFFSETFROM:+0900
TZOFFSETTO:+0900
TZNAME:JST
DTSTART:20220101T000000
END:STANDARD
END:VTIMEZONE
BEGIN:VEVENT
DTSTART;VALUE=DATE:20221202
DTEND;VALUE=DATE:20221204
DTSTAMP:20260424T094936
CREATED:20221129T024310Z
LAST-MODIFIED:20221129T024310Z
UID:785-1669939200-1670111999@ot-hyogo.or.jp
SUMMARY:第46回日本高次脳機能障害学会学術総会のご案内
DESCRIPTION:下記の会期、会場にて「感じる高次脳機能」をテーマに \n第46回日本高次脳機能障害学会学術総会を開催いたします。 \n  \n◇第46回日本高次脳機能障害学会学術総会 \n———————————————————– \n現地開催：2022年12月2日（金）～12月3日（土） \nオンデマンド配信：2022年12月15日（木）～ 2023年1月13日（金） \n———————————————————– \n会場：やまぎん県民ホール、山形テルサ \n会長：平山　和美（山形県立保健医療大学　特任教授） \nホームページ：http://www.congre.co.jp/jshbd2022/ \n  \n本学術総会はハイブリッド開催（現地開催＋オンデマンド配信）です。（ライブ配信は行いません） \nオンデマンド視聴を希望される方は必ず本学術総会ホームページからオンライン受付をしてください。 \n（現地開催後も、オンライン参加登録は2023年1月13日（金）正午まで行えます。御登録いただけば、オンデマンド視聴は可能となります） \n  \nご不明な点がございましたら下記運営事務局までお問い合わせください。 \n多数のご参加をお待ちしております。 \n――――――――――――――――――――――――――――――――――― \n[お問い合わせ先] \n第46回日本高次脳機能障害学会学術総会 運営事務局 \n株式会社コングレ 東北支社 \n〒980-0811 \n仙台市青葉区一番町4-6-1 仙台第一生命タワービルディング \nTEL 022-723-3211 FAX 022-723-3210 \nE-mail: jshbd2022@congre.co.jp \n―――――――――――――――――――――――――――――――――――
URL:https://ot-hyogo.or.jp/file/event/%e7%ac%ac46%e5%9b%9e%e6%97%a5%e6%9c%ac%e9%ab%98%e6%ac%a1%e8%84%b3%e6%a9%9f%e8%83%bd%e9%9a%9c%e5%ae%b3%e5%ad%a6%e4%bc%9a%e5%ad%a6%e8%a1%93%e7%b7%8f%e4%bc%9a%e3%81%ae%e3%81%94%e6%a1%88%e5%86%85
LOCATION:ハイブリッド開催
CATEGORIES:その他主催の研修
END:VEVENT
BEGIN:VEVENT
DTSTART;VALUE=DATE:20221203
DTEND;VALUE=DATE:20221205
DTSTAMP:20260424T094936
CREATED:20221003T070140Z
LAST-MODIFIED:20221003T070140Z
UID:480-1670025600-1670198399@ot-hyogo.or.jp
SUMMARY:令和4年度　第2回　臨床実習指導者講習会
DESCRIPTION:令和4年度　第2回　臨床実習指導者講習会（12月3-4日）の申し込みを開始しました． \n申し込み期間は9月16日（金）から9月27日（火）までとなっています。 \n皆様のご参加をお待ちしております。 \n詳細は県士会ホームページ \nhttps://ot-hyogo.or.jp/臨床実習指導者講習会/\nをご確認ください． \n教育部 \n臨床実習指導者講習班
URL:https://ot-hyogo.or.jp/file/event/%e4%bb%a4%e5%92%8c4%e5%b9%b4%e5%ba%a6%e3%80%80%e7%ac%ac2%e5%9b%9e%e3%80%80%e8%87%a8%e5%ba%8a%e5%ae%9f%e7%bf%92%e6%8c%87%e5%b0%8e%e8%80%85%e8%ac%9b%e7%bf%92%e4%bc%9a
CATEGORIES:兵庫県作業療法士会主催の研修
END:VEVENT
BEGIN:VEVENT
DTSTART;TZID=Asia/Tokyo:20221203T090000
DTEND;TZID=Asia/Tokyo:20221203T170000
DTSTAMP:20260424T094936
CREATED:20221021T074447Z
LAST-MODIFIED:20221021T074447Z
UID:545-1670058000-1670086800@ot-hyogo.or.jp
SUMMARY:【OT協会より】令和4年度診療報酬改定対応研修会　開催案内
DESCRIPTION:●令和4年度診療報酬改定対応研修　運動器リハ料への糖尿病性足病変の追記 ～下肢慢性創傷への作業療法～\n高齢化社会においては、内部障害を有する対象者は増加傾向にあり、特に糖尿病においては、合併症として下肢病変が高頻度で発生することが知られていますが、その作業療法について学ぶ場は少なく、試行錯誤している方も多いと思われます。本研修は、下肢慢性創傷患者の活動と参加の拡大を支援する質の高い作業療法の普及を図る目的で開催します。 \n日時：2022年12月03日(土)\n開催方法：web開催\n参加費：￥4\,000\n申込締切：2022年11月2日（水） \n詳細は下記の協会ホームページをご覧ください。＊お申込みは会員ポータルサイトから。\nhttps://www.jaot.or.jp/kenshuukai/kensyuukaiitiran/detail/20220022000500001/ \n●令和4年度診療報酬改定対応研修会 ～透析時運動指導等加算～\n腎臓機能障害の診断、症状、治療について、および透析患者におけるリハビリテーション、作業療法の専門性を理解し、事例を通じて透析患者への作業療法の実際を学びます。\n注意）この研修は、透析時運動指導等加算の算定要件に示されている研修会ではありません。 \n日時：2022年12月18日(日) 9:00~16:10\n開催方法：web開催\n参加費：￥4\,000\n申込締切：2022年11月16日（水） \n詳細は下記の協会ホームページをご覧ください。＊お申込みは会員ポータルサイトから。\nhttps://www.jaot.or.jp/kenshuukai/kensyuukaiitiran/detail/20220022000300023/
URL:https://ot-hyogo.or.jp/file/event/%e3%80%90ot%e5%8d%94%e4%bc%9a%e3%82%88%e3%82%8a%e3%80%91%e4%bb%a4%e5%92%8c4%e5%b9%b4%e5%ba%a6%e8%a8%ba%e7%99%82%e5%a0%b1%e9%85%ac%e6%94%b9%e5%ae%9a%e5%af%be%e5%bf%9c%e7%a0%94%e4%bf%ae%e4%bc%9a
LOCATION:WEB
CATEGORIES:その他主催の研修
END:VEVENT
END:VCALENDAR